BEGIN:VCALENDAR
PRODID:-//nuDatenautomaten//framework iCal4j //DE
VERSION:2.0
CALSCALE:GREGORIAN
BEGIN:VTIMEZONE
TZID:Europe/Berlin
LAST-MODIFIED:20260306T231828Z
TZURL:https://www.tzurl.org/zoneinfo/Europe/Berlin
X-LIC-LOCATION:Europe/Berlin
X-PROLEPTIC-TZNAME:LMT
BEGIN:STANDARD
TZNAME:CET
TZOFFSETFROM:+005328
TZOFFSETTO:+0100
DTSTART:18930401T000000
END:STANDARD
BEGIN:DAYLIGHT
TZNAME:CEST
TZOFFSETFROM:+0100
TZOFFSETTO:+0200
DTSTART:19160430T230000
RDATE:19400401T020000
RDATE:19430329T020000
RDATE:19460414T020000
RDATE:19470406T030000
RDATE:19480418T020000
RDATE:19490410T020000
RDATE:19800406T020000
END:DAYLIGHT
BEGIN:STANDARD
TZNAME:CET
TZOFFSETFROM:+0200
TZOFFSETTO:+0100
DTSTART:19161001T010000
RDATE:19421102T030000
RDATE:19431004T030000
RDATE:19441002T030000
RDATE:19451118T030000
RDATE:19461007T030000
END:STANDARD
BEGIN:DAYLIGHT
TZNAME:CEST
TZOFFSETFROM:+0100
TZOFFSETTO:+0200
DTSTART:19170416T020000
RRULE:FREQ=YEARLY;UNTIL=19180415T010000Z;BYMONTH=4;BYDAY=3MO
END:DAYLIGHT
BEGIN:STANDARD
TZNAME:CET
TZOFFSETFROM:+0200
TZOFFSETTO:+0100
DTSTART:19170917T030000
RRULE:FREQ=YEARLY;UNTIL=19180916T010000Z;BYMONTH=9;BYDAY=3MO
END:STANDARD
BEGIN:DAYLIGHT
TZNAME:CEST
TZOFFSETFROM:+0100
TZOFFSETTO:+0200
DTSTART:19440403T020000
RRULE:FREQ=YEARLY;UNTIL=19450402T010000Z;BYMONTH=4;BYDAY=1MO
END:DAYLIGHT
BEGIN:DAYLIGHT
TZNAME:CEMT
TZOFFSETFROM:+0200
TZOFFSETTO:+0300
DTSTART:19450524T020000
RDATE:19470511T030000
END:DAYLIGHT
BEGIN:DAYLIGHT
TZNAME:CEST
TZOFFSETFROM:+0300
TZOFFSETTO:+0200
DTSTART:19450924T030000
RDATE:19470629T030000
END:DAYLIGHT
BEGIN:STANDARD
TZNAME:CET
TZOFFSETFROM:+0100
TZOFFSETTO:+0100
DTSTART:19460101T000000
RDATE:19800101T000000
END:STANDARD
BEGIN:STANDARD
TZNAME:CET
TZOFFSETFROM:+0200
TZOFFSETTO:+0100
DTSTART:19471005T030000
RRULE:FREQ=YEARLY;UNTIL=19491002T010000Z;BYMONTH=10;BYDAY=1SU
END:STANDARD
BEGIN:STANDARD
TZNAME:CET
TZOFFSETFROM:+0200
TZOFFSETTO:+0100
DTSTART:19800928T030000
RRULE:FREQ=YEARLY;UNTIL=19950924T010000Z;BYMONTH=9;BYDAY=-1SU
END:STANDARD
BEGIN:DAYLIGHT
TZNAME:CEST
TZOFFSETFROM:+0100
TZOFFSETTO:+0200
DTSTART:19810329T020000
RRULE:FREQ=YEARLY;BYMONTH=3;BYDAY=-1SU
END:DAYLIGHT
BEGIN:STANDARD
TZNAME:CET
TZOFFSETFROM:+0200
TZOFFSETTO:+0100
DTSTART:19961027T030000
RRULE:FREQ=YEARLY;BYMONTH=10;BYDAY=-1SU
END:STANDARD
END:VTIMEZONE
BEGIN:VEVENT
DTSTAMP:20260424T063722Z
DTSTART;TZID=Europe/Berlin:20250917T193000
DTEND;TZID=Europe/Berlin:20250917T223000
SUMMARY:HE 2. Liga Gr. 1 Belp vs Worb (7)
UID:0b0138b0-5184-4a34-a72a-dd31175f7e2f
STATUS:CONFIRMED
LAST-MODIFIED:20250918T141405Z
DESCRIPTION:2. Liga Herren Gruppe 1\nBegegnungs-Nr: 7\nHeim: Belp\nGast: Worb\n\nAdresse: Neumattstrasse 39\, 3123 Belp\n
LOCATION:Neumattstrasse 39\, 3123 Belp
CATEGORIES:Saison 2025/26
END:VEVENT
BEGIN:VEVENT
DTSTAMP:20260424T063722Z
DTSTART;TZID=Europe/Berlin:20251210T193000
DTEND;TZID=Europe/Berlin:20251210T223000
SUMMARY:HE 2. Liga Gr. 1 Belp vs Bern III (40)
UID:a5ea9b33-f316-415b-b12d-af174ec11e95
STATUS:CONFIRMED
LAST-MODIFIED:20251216T120207Z
DESCRIPTION:2. Liga Herren Gruppe 1\nBegegnungs-Nr: 40\nHeim: Belp\nGast: Bern III\n\nAdresse: Neumattstrasse 39\, 3123 Belp\n
LOCATION:Neumattstrasse 39\, 3123 Belp
CATEGORIES:Saison 2025/26
END:VEVENT
BEGIN:VEVENT
DTSTAMP:20260424T063722Z
DTSTART;TZID=Europe/Berlin:20251112T193000
DTEND;TZID=Europe/Berlin:20251112T223000
SUMMARY:HE 2. Liga Gr. 1 Belp vs Solothurn II (29)
UID:4228cbdb-2194-4f2f-b716-05e191247666
STATUS:CONFIRMED
LAST-MODIFIED:20251122T091706Z
DESCRIPTION:2. Liga Herren Gruppe 1\nBegegnungs-Nr: 29\nHeim: Belp\nGast: Solothurn II\n\nAdresse: Neumattstrasse 39\, 3123 Belp\n
LOCATION:Neumattstrasse 39\, 3123 Belp
CATEGORIES:Saison 2025/26
END:VEVENT
BEGIN:VEVENT
DTSTAMP:20260424T063722Z
DTSTART;TZID=Europe/Berlin:20251029T193000
DTEND;TZID=Europe/Berlin:20251029T223000
SUMMARY:HE 2. Liga Gr. 1 Belp vs Grauholz (19)
UID:122d241f-7a0d-44a6-b57d-5251e49375c2
STATUS:CONFIRMED
LAST-MODIFIED:20251111T072208Z
DESCRIPTION:2. Liga Herren Gruppe 1\nBegegnungs-Nr: 19\nHeim: Belp\nGast: Grauholz\n\nAdresse: Neumattstrasse 39\, 3123 Belp\n
LOCATION:Neumattstrasse 39\, 3123 Belp
CATEGORIES:Saison 2025/26
END:VEVENT
BEGIN:VEVENT
DTSTAMP:20260424T063722Z
DTSTART;TZID=Europe/Berlin:20260311T193000
DTEND;TZID=Europe/Berlin:20260311T223000
SUMMARY:HE 2. Liga Gr. 1 Belp vs Ostermundigen III (35)
UID:03ecaf6b-fa9a-474f-a671-c1a366f1b809
STATUS:CONFIRMED
LAST-MODIFIED:20260315T225649Z
DESCRIPTION:2. Liga Herren Gruppe 1\nBegegnungs-Nr: 35\nHeim: Belp\nGast: Ostermundigen III\n\nAdresse: Neumattstrasse 39\, 3123 Belp\n
LOCATION:Neumattstrasse 39\, 3123 Belp
CATEGORIES:Saison 2025/26
END:VEVENT
BEGIN:VEVENT
DTSTAMP:20260424T063722Z
DTSTART;TZID=Europe/Berlin:20260218T193000
DTEND;TZID=Europe/Berlin:20260218T223000
SUMMARY:HE 2. Liga Gr. 1 Belp vs Heimberg III (25)
UID:f34f863d-b4a1-4a70-a144-7dbfe2cac32e
STATUS:CONFIRMED
LAST-MODIFIED:20260220T123159Z
DESCRIPTION:2. Liga Herren Gruppe 1\nBegegnungs-Nr: 25\nHeim: Belp\nGast: Heimberg III\n\nAdresse: Neumattstrasse 39\, 3123 Belp\n
LOCATION:Neumattstrasse 39\, 3123 Belp
CATEGORIES:Saison 2025/26
END:VEVENT
BEGIN:VEVENT
DTSTAMP:20260424T063722Z
DTSTART;TZID=Europe/Berlin:20260401T193000
DTEND;TZID=Europe/Berlin:20260401T223000
SUMMARY:HE 2. Liga Gr. 1 Belp vs Thun II (45)
UID:9a377ebc-c759-4a96-9674-eb9b1f67c4ad
STATUS:CONFIRMED
LAST-MODIFIED:20260409T123835Z
DESCRIPTION:2. Liga Herren Gruppe 1\nBegegnungs-Nr: 45\nHeim: Belp\nGast: Thun II\n\nAdresse: Neumattstrasse 39\, 3123 Belp\n
LOCATION:Neumattstrasse 39\, 3123 Belp
CATEGORIES:Saison 2025/26
END:VEVENT
BEGIN:VEVENT
DTSTAMP:20260424T063722Z
DTSTART;TZID=Europe/Berlin:20260107T193000
DTEND;TZID=Europe/Berlin:20260107T223000
SUMMARY:HE 2. Liga Gr. 1 Belp vs Langnau (1)
UID:7229d631-bf5c-4f68-82a3-0b16462475a7
STATUS:CONFIRMED
LAST-MODIFIED:20260124T235936Z
DESCRIPTION:2. Liga Herren Gruppe 1\nBegegnungs-Nr: 1\nHeim: Belp\nGast: Langnau\n\nAdresse: Neumattstrasse 39\, 3123 Belp\n
LOCATION:Neumattstrasse 39\, 3123 Belp
CATEGORIES:Saison 2025/26
END:VEVENT
BEGIN:VEVENT
DTSTAMP:20260424T063722Z
DTSTART;TZID=Europe/Berlin:20260128T193000
DTEND;TZID=Europe/Berlin:20260128T223000
SUMMARY:HE 2. Liga Gr. 1 Belp vs Burgdorf V (13)
UID:82772b30-1f75-4137-a848-eac3a1888369
STATUS:CONFIRMED
LAST-MODIFIED:20260217T212029Z
DESCRIPTION:2. Liga Herren Gruppe 1\nBegegnungs-Nr: 13\nHeim: Belp\nGast: Burgdorf V\n\nAdresse: Neumattstrasse 39\, 3123 Belp\n
LOCATION:Neumattstrasse 39\, 3123 Belp
CATEGORIES:Saison 2025/26
END:VEVENT
BEGIN:VEVENT
DTSTAMP:20260424T063722Z
DTSTART;TZID=Europe/Berlin:20251217T194500
DTEND;TZID=Europe/Berlin:20251217T224500
SUMMARY:HE 2. Liga Gr. 1 Thun II vs Belp (45)
UID:5dadef5a-e1ca-4b90-b97e-0ed0ca5cf87c
STATUS:CONFIRMED
LAST-MODIFIED:20251218T122014Z
DESCRIPTION:2. Liga Herren Gruppe 1\nBegegnungs-Nr: 45\nHeim: Thun II\nGast: Belp\n\nAdresse: Hallerstrasse 28\, 3604 Thun\n
LOCATION:Hallerstrasse 28\, 3604 Thun
CATEGORIES:Saison 2025/26
END:VEVENT
BEGIN:VEVENT
DTSTAMP:20260424T063722Z
DTSTART;TZID=Europe/Berlin:20251126T194500
DTEND;TZID=Europe/Berlin:20251126T224500
SUMMARY:HE 2. Liga Gr. 1 Ostermundigen III vs Belp (35)
UID:78871a25-15d1-437d-925d-3f9bfd66c002
STATUS:CONFIRMED
LAST-MODIFIED:20251206T232346Z
DESCRIPTION:2. Liga Herren Gruppe 1\nBegegnungs-Nr: 35\nHeim: Ostermundigen III\nGast: Belp\n\nAdresse: Dennigkofenweg 169\, 3072 Ostermundigen\n
LOCATION:Dennigkofenweg 169\, 3072 Ostermundigen
CATEGORIES:Saison 2025/26
END:VEVENT
BEGIN:VEVENT
DTSTAMP:20260424T063722Z
DTSTART;TZID=Europe/Berlin:20250915T200000
DTEND;TZID=Europe/Berlin:20250915T230000
SUMMARY:HE 2. Liga Gr. 1 Langnau vs Belp (1)
UID:3c1ddf88-431c-45e7-8303-4ff784099ed8
STATUS:CONFIRMED
LAST-MODIFIED:20250918T141414Z
DESCRIPTION:2. Liga Herren Gruppe 1\nBegegnungs-Nr: 1\nHeim: Langnau\nGast: Belp\n\nAdresse: Bleicheweg 11\, 3550 Langnau\n
LOCATION:Bleicheweg 11\, 3550 Langnau
CATEGORIES:Saison 2025/26
END:VEVENT
BEGIN:VEVENT
DTSTAMP:20260424T063722Z
DTSTART;TZID=Europe/Berlin:20251106T194500
DTEND;TZID=Europe/Berlin:20251106T224500
SUMMARY:HE 2. Liga Gr. 1 Heimberg III vs Belp (25)
UID:d66ea407-3201-4dd1-bf9e-4fde1d6fba10
STATUS:CONFIRMED
LAST-MODIFIED:20251115T171144Z
DESCRIPTION:2. Liga Herren Gruppe 1\nBegegnungs-Nr: 25\nHeim: Heimberg III\nGast: Belp\n\nAdresse: Niesenstrasse 38\, 3627 Heimberg\n
LOCATION:Niesenstrasse 38\, 3627 Heimberg
CATEGORIES:Saison 2025/26
END:VEVENT
BEGIN:VEVENT
DTSTAMP:20260424T063722Z
DTSTART;TZID=Europe/Berlin:20251017T193000
DTEND;TZID=Europe/Berlin:20251017T223000
SUMMARY:HE 2. Liga Gr. 1 Burgdorf V vs Belp (13)
UID:76157930-d2bd-44a1-ae01-ca04fd289fe8
STATUS:CONFIRMED
LAST-MODIFIED:20251020T114217Z
DESCRIPTION:2. Liga Herren Gruppe 1\nBegegnungs-Nr: 13\nHeim: Burgdorf V\nGast: Belp\n\nAdresse: Pestalozzistrasse 69\, 3400 Burgdorf\n
LOCATION:Pestalozzistrasse 69\, 3400 Burgdorf
CATEGORIES:Saison 2025/26
END:VEVENT
BEGIN:VEVENT
DTSTAMP:20260424T063722Z
DTSTART;TZID=Europe/Berlin:20260320T193000
DTEND;TZID=Europe/Berlin:20260320T223000
SUMMARY:HE 2. Liga Gr. 1 Bern III vs Belp (40)
UID:9d872fbd-074a-413d-a321-3781d3631ccf
STATUS:CONFIRMED
LAST-MODIFIED:20260327T143213Z
DESCRIPTION:2. Liga Herren Gruppe 1\nBegegnungs-Nr: 40\nHeim: Bern III\nGast: Belp\n\nAdresse: Papiermühlestrasse 81\, 3014 Bern\n
LOCATION:Papiermühlestrasse 81\, 3014 Bern
CATEGORIES:Saison 2025/26
END:VEVENT
BEGIN:VEVENT
DTSTAMP:20260424T063722Z
DTSTART;TZID=Europe/Berlin:20260304T194500
DTEND;TZID=Europe/Berlin:20260304T224500
SUMMARY:HE 2. Liga Gr. 1 Solothurn II vs Belp (29)
UID:2e2a2cd1-fb0d-4c9e-a230-46458b987897
STATUS:CONFIRMED
LAST-MODIFIED:20260308T173319Z
DESCRIPTION:2. Liga Herren Gruppe 1\nBegegnungs-Nr: 29\nHeim: Solothurn II\nGast: Belp\n\nAdresse: Untere Sternengasse 24\, 4500 Solothurn\n
LOCATION:Untere Sternengasse 24\, 4500 Solothurn
CATEGORIES:Saison 2025/26
END:VEVENT
BEGIN:VEVENT
DTSTAMP:20260424T063722Z
DTSTART;TZID=Europe/Berlin:20260213T194500
DTEND;TZID=Europe/Berlin:20260213T224500
SUMMARY:HE 2. Liga Gr. 1 Grauholz vs Belp (19)
UID:75b908b6-2ea9-4390-ba8c-203b4b3d41ca
STATUS:CONFIRMED
LAST-MODIFIED:20260217T212223Z
DESCRIPTION:2. Liga Herren Gruppe 1\nBegegnungs-Nr: 19\nHeim: Grauholz\nGast: Belp\n\nAdresse: Schulhausweg 8\, 3324 Hindelbank\n
LOCATION:Schulhausweg 8\, 3324 Hindelbank
CATEGORIES:Saison 2025/26
END:VEVENT
BEGIN:VEVENT
DTSTAMP:20260424T063722Z
DTSTART;TZID=Europe/Berlin:20260123T194500
DTEND;TZID=Europe/Berlin:20260123T224500
SUMMARY:HE 2. Liga Gr. 1 Worb vs Belp (7)
UID:479b4a7b-fa63-4601-80b6-ff255752ed38
STATUS:CONFIRMED
LAST-MODIFIED:20260125T000124Z
DESCRIPTION:2. Liga Herren Gruppe 1\nBegegnungs-Nr: 7\nHeim: Worb\nGast: Belp\n\nAdresse: Rosenweg 9\, 3075 Rüfenacht BE\n
LOCATION:Rosenweg 9\, 3075 Rüfenacht BE
CATEGORIES:Saison 2025/26
END:VEVENT
END:VCALENDAR
