BEGIN:VCALENDAR
PRODID:-//nuDatenautomaten//framework iCal4j //DE
VERSION:2.0
CALSCALE:GREGORIAN
BEGIN:VTIMEZONE
TZID:Europe/Berlin
LAST-MODIFIED:20260306T231828Z
TZURL:https://www.tzurl.org/zoneinfo/Europe/Berlin
X-LIC-LOCATION:Europe/Berlin
X-PROLEPTIC-TZNAME:LMT
BEGIN:STANDARD
TZNAME:CET
TZOFFSETFROM:+005328
TZOFFSETTO:+0100
DTSTART:18930401T000000
END:STANDARD
BEGIN:DAYLIGHT
TZNAME:CEST
TZOFFSETFROM:+0100
TZOFFSETTO:+0200
DTSTART:19160430T230000
RDATE:19400401T020000
RDATE:19430329T020000
RDATE:19460414T020000
RDATE:19470406T030000
RDATE:19480418T020000
RDATE:19490410T020000
RDATE:19800406T020000
END:DAYLIGHT
BEGIN:STANDARD
TZNAME:CET
TZOFFSETFROM:+0200
TZOFFSETTO:+0100
DTSTART:19161001T010000
RDATE:19421102T030000
RDATE:19431004T030000
RDATE:19441002T030000
RDATE:19451118T030000
RDATE:19461007T030000
END:STANDARD
BEGIN:DAYLIGHT
TZNAME:CEST
TZOFFSETFROM:+0100
TZOFFSETTO:+0200
DTSTART:19170416T020000
RRULE:FREQ=YEARLY;UNTIL=19180415T010000Z;BYMONTH=4;BYDAY=3MO
END:DAYLIGHT
BEGIN:STANDARD
TZNAME:CET
TZOFFSETFROM:+0200
TZOFFSETTO:+0100
DTSTART:19170917T030000
RRULE:FREQ=YEARLY;UNTIL=19180916T010000Z;BYMONTH=9;BYDAY=3MO
END:STANDARD
BEGIN:DAYLIGHT
TZNAME:CEST
TZOFFSETFROM:+0100
TZOFFSETTO:+0200
DTSTART:19440403T020000
RRULE:FREQ=YEARLY;UNTIL=19450402T010000Z;BYMONTH=4;BYDAY=1MO
END:DAYLIGHT
BEGIN:DAYLIGHT
TZNAME:CEMT
TZOFFSETFROM:+0200
TZOFFSETTO:+0300
DTSTART:19450524T020000
RDATE:19470511T030000
END:DAYLIGHT
BEGIN:DAYLIGHT
TZNAME:CEST
TZOFFSETFROM:+0300
TZOFFSETTO:+0200
DTSTART:19450924T030000
RDATE:19470629T030000
END:DAYLIGHT
BEGIN:STANDARD
TZNAME:CET
TZOFFSETFROM:+0100
TZOFFSETTO:+0100
DTSTART:19460101T000000
RDATE:19800101T000000
END:STANDARD
BEGIN:STANDARD
TZNAME:CET
TZOFFSETFROM:+0200
TZOFFSETTO:+0100
DTSTART:19471005T030000
RRULE:FREQ=YEARLY;UNTIL=19491002T010000Z;BYMONTH=10;BYDAY=1SU
END:STANDARD
BEGIN:STANDARD
TZNAME:CET
TZOFFSETFROM:+0200
TZOFFSETTO:+0100
DTSTART:19800928T030000
RRULE:FREQ=YEARLY;UNTIL=19950924T010000Z;BYMONTH=9;BYDAY=-1SU
END:STANDARD
BEGIN:DAYLIGHT
TZNAME:CEST
TZOFFSETFROM:+0100
TZOFFSETTO:+0200
DTSTART:19810329T020000
RRULE:FREQ=YEARLY;BYMONTH=3;BYDAY=-1SU
END:DAYLIGHT
BEGIN:STANDARD
TZNAME:CET
TZOFFSETFROM:+0200
TZOFFSETTO:+0100
DTSTART:19961027T030000
RRULE:FREQ=YEARLY;BYMONTH=10;BYDAY=-1SU
END:STANDARD
END:VTIMEZONE
BEGIN:VEVENT
DTSTAMP:20260424T165459Z
DTSTART;TZID=Europe/Berlin:20260212T200000
DTEND;TZID=Europe/Berlin:20260212T230000
SUMMARY:HE 6. Liga Gr. 9 Chur VII vs Buchs St.Gallen (0)
UID:3d5a3c3c-f630-4b5c-a39c-ec5f4733af47
STATUS:CONFIRMED
LAST-MODIFIED:20260216T103453Z
DESCRIPTION:6. Liga Herren Gruppe 9\nBegegnungs-Nr: 0\nHeim: Chur VII\nGast: Buchs St.Gallen\n\nAdresse: Sandstr. 35\, 7000 Chur\n
LOCATION:Sandstr. 35\, 7000 Chur
CATEGORIES:Saison 2025/26
END:VEVENT
BEGIN:VEVENT
DTSTAMP:20260424T165459Z
DTSTART;TZID=Europe/Berlin:20260108T200000
DTEND;TZID=Europe/Berlin:20260108T230000
SUMMARY:HE 6. Liga Gr. 9 Chur VII vs Chur VIII (0)
UID:a76b7013-1209-4d72-93a1-cc1447cd9a64
STATUS:CONFIRMED
LAST-MODIFIED:20260112T100709Z
DESCRIPTION:6. Liga Herren Gruppe 9\nBegegnungs-Nr: 0\nHeim: Chur VII\nGast: Chur VIII\n\nAdresse: Sandstr. 35\, 7000 Chur\n
LOCATION:Sandstr. 35\, 7000 Chur
CATEGORIES:Saison 2025/26
END:VEVENT
BEGIN:VEVENT
DTSTAMP:20260424T165459Z
DTSTART;TZID=Europe/Berlin:20260129T200000
DTEND;TZID=Europe/Berlin:20260129T230000
SUMMARY:HE 6. Liga Gr. 9 Chur VII vs Ruggell II (0)
UID:fbfd0e13-d1ca-43d4-8413-bff9ae55b6b8
STATUS:CONFIRMED
LAST-MODIFIED:20260203T142925Z
DESCRIPTION:6. Liga Herren Gruppe 9\nBegegnungs-Nr: 0\nHeim: Chur VII\nGast: Ruggell II\n\nAdresse: Sandstr. 35\, 7000 Chur\n
LOCATION:Sandstr. 35\, 7000 Chur
CATEGORIES:Saison 2025/26
END:VEVENT
BEGIN:VEVENT
DTSTAMP:20260424T165459Z
DTSTART;TZID=Europe/Berlin:20260312T200000
DTEND;TZID=Europe/Berlin:20260312T230000
SUMMARY:HE 6. Liga Gr. 9 Chur VII vs Glarus V (0)
UID:5dd8c23d-b1f3-461d-9adb-ff01c3261654
STATUS:CONFIRMED
LAST-MODIFIED:20260313T132934Z
DESCRIPTION:6. Liga Herren Gruppe 9\nBegegnungs-Nr: 0\nHeim: Chur VII\nGast: Glarus V\n\nAdresse: Sandstr. 35\, 7000 Chur\n
LOCATION:Sandstr. 35\, 7000 Chur
CATEGORIES:Saison 2025/26
END:VEVENT
BEGIN:VEVENT
DTSTAMP:20260424T165459Z
DTSTART;TZID=Europe/Berlin:20250904T200000
DTEND;TZID=Europe/Berlin:20250904T230000
SUMMARY:HE 6. Liga Gr. 9 Chur VII vs Schaan-Eschen/Mauren III (0)
UID:7e2d90f6-9f67-409b-abdb-ee29eebc922e
STATUS:CONFIRMED
LAST-MODIFIED:20250905T124730Z
DESCRIPTION:6. Liga Herren Gruppe 9\nBegegnungs-Nr: 0\nHeim: Chur VII\nGast: Schaan-Eschen/Mauren III\n\nAdresse: Sandstr. 35\, 7000 Chur\n
LOCATION:Sandstr. 35\, 7000 Chur
CATEGORIES:Saison 2025/26
END:VEVENT
BEGIN:VEVENT
DTSTAMP:20260424T165459Z
DTSTART;TZID=Europe/Berlin:20250925T200000
DTEND;TZID=Europe/Berlin:20250925T230000
SUMMARY:HE 6. Liga Gr. 9 Chur VII vs Triesen IV (0)
UID:a8b87588-6ea1-4c1a-a4aa-69c943f71d6c
STATUS:CONFIRMED
LAST-MODIFIED:20250926T135540Z
DESCRIPTION:6. Liga Herren Gruppe 9\nBegegnungs-Nr: 0\nHeim: Chur VII\nGast: Triesen IV\n\nAdresse: Sandstr. 35\, 7000 Chur\n
LOCATION:Sandstr. 35\, 7000 Chur
CATEGORIES:Saison 2025/26
END:VEVENT
BEGIN:VEVENT
DTSTAMP:20260424T165459Z
DTSTART;TZID=Europe/Berlin:20251106T200000
DTEND;TZID=Europe/Berlin:20251106T230000
SUMMARY:HE 6. Liga Gr. 9 Chur VII vs Balzers III (0)
UID:9a765d3e-e769-4157-82a0-ae480cedfa05
STATUS:CONFIRMED
LAST-MODIFIED:20251114T142812Z
DESCRIPTION:6. Liga Herren Gruppe 9\nBegegnungs-Nr: 0\nHeim: Chur VII\nGast: Balzers III\n\nAdresse: Sandstr. 35\, 7000 Chur\n
LOCATION:Sandstr. 35\, 7000 Chur
CATEGORIES:Saison 2025/26
END:VEVENT
BEGIN:VEVENT
DTSTAMP:20260424T165459Z
DTSTART;TZID=Europe/Berlin:20260122T194500
DTEND;TZID=Europe/Berlin:20260122T224500
SUMMARY:HE 6. Liga Gr. 9 Schaan-Eschen/Mauren III vs Chur VII (0)
UID:ee488e63-c930-4bdf-a06c-6c7b668c8b77
STATUS:CONFIRMED
LAST-MODIFIED:20260130T131528Z
DESCRIPTION:6. Liga Herren Gruppe 9\nBegegnungs-Nr: 0\nHeim: Schaan-Eschen/Mauren III\nGast: Chur VII\n\nAdresse: Zur Schule\, 9494 Schaan\n
LOCATION:Zur Schule\, 9494 Schaan
CATEGORIES:Saison 2025/26
END:VEVENT
BEGIN:VEVENT
DTSTAMP:20260424T165459Z
DTSTART;TZID=Europe/Berlin:20260303T194500
DTEND;TZID=Europe/Berlin:20260303T224500
SUMMARY:HE 6. Liga Gr. 9 Triesen IV vs Chur VII (0)
UID:e9d9a48d-f3f7-4d27-9fbd-5a24d70e1336
STATUS:CONFIRMED
LAST-MODIFIED:20260304T104151Z
DESCRIPTION:6. Liga Herren Gruppe 9\nBegegnungs-Nr: 0\nHeim: Triesen IV\nGast: Chur VII\n\nAdresse: Gässle 12\, 9495 Triesen\n
LOCATION:Gässle 12\, 9495 Triesen
CATEGORIES:Saison 2025/26
END:VEVENT
BEGIN:VEVENT
DTSTAMP:20260424T165459Z
DTSTART;TZID=Europe/Berlin:20260326T200000
DTEND;TZID=Europe/Berlin:20260326T230000
SUMMARY:HE 6. Liga Gr. 9 Balzers III vs Chur VII (0)
UID:37676734-2f0f-47f4-aad5-5249b02d42fb
STATUS:CONFIRMED
LAST-MODIFIED:20260401T132802Z
DESCRIPTION:6. Liga Herren Gruppe 9\nBegegnungs-Nr: 0\nHeim: Balzers III\nGast: Chur VII\n\nAdresse: Gnetsch 41\, 9496 Balzers\n
LOCATION:Gnetsch 41\, 9496 Balzers
CATEGORIES:Saison 2025/26
END:VEVENT
BEGIN:VEVENT
DTSTAMP:20260424T165459Z
DTSTART;TZID=Europe/Berlin:20250828T200000
DTEND;TZID=Europe/Berlin:20250828T230000
SUMMARY:HE 6. Liga Gr. 9 Chur VIII vs Chur VII (0)
UID:89ae8e3b-16e5-46da-b7e9-6c6f295455a8
STATUS:CONFIRMED
LAST-MODIFIED:20250829T144706Z
DESCRIPTION:6. Liga Herren Gruppe 9\nBegegnungs-Nr: 0\nHeim: Chur VIII\nGast: Chur VII\n\nAdresse: Sandstr. 35\, 7000 Chur\n
LOCATION:Sandstr. 35\, 7000 Chur
CATEGORIES:Saison 2025/26
END:VEVENT
BEGIN:VEVENT
DTSTAMP:20260424T165459Z
DTSTART;TZID=Europe/Berlin:20250918T200000
DTEND;TZID=Europe/Berlin:20250918T230000
SUMMARY:HE 6. Liga Gr. 9 Ruggell II vs Chur VII (0)
UID:cc9a59fa-4104-4354-804b-01dacd855f6d
STATUS:CONFIRMED
LAST-MODIFIED:20250926T135514Z
DESCRIPTION:6. Liga Herren Gruppe 9\nBegegnungs-Nr: 0\nHeim: Ruggell II\nGast: Chur VII\n\nAdresse: Nellengasse 40\, 9491 Ruggell\n
LOCATION:Nellengasse 40\, 9491 Ruggell
CATEGORIES:Saison 2025/26
END:VEVENT
BEGIN:VEVENT
DTSTAMP:20260424T165459Z
DTSTART;TZID=Europe/Berlin:20251028T200000
DTEND;TZID=Europe/Berlin:20251028T230000
SUMMARY:HE 6. Liga Gr. 9 Glarus V vs Chur VII (0)
UID:49971db0-ed8a-4677-8a47-c3201fb6b862
STATUS:CONFIRMED
LAST-MODIFIED:20251031T144640Z
DESCRIPTION:6. Liga Herren Gruppe 9\nBegegnungs-Nr: 0\nHeim: Glarus V\nGast: Chur VII\n\nAdresse: Schwertgasse 23\, 8750 Glarus\n
LOCATION:Schwertgasse 23\, 8750 Glarus
CATEGORIES:Saison 2025/26
END:VEVENT
BEGIN:VEVENT
DTSTAMP:20260424T165459Z
DTSTART;TZID=Europe/Berlin:20251208T200000
DTEND;TZID=Europe/Berlin:20251208T230000
SUMMARY:HE 6. Liga Gr. 9 Buchs St.Gallen vs Chur VII (0)
UID:97c1dba9-2af7-4635-8010-8bb75aa6aa3b
STATUS:CONFIRMED
LAST-MODIFIED:20251210T093820Z
DESCRIPTION:6. Liga Herren Gruppe 9\nBegegnungs-Nr: 0\nHeim: Buchs St.Gallen\nGast: Chur VII\n\nAdresse: Hanflandstrasse 17\, 9470 Buchs SG\n
LOCATION:Hanflandstrasse 17\, 9470 Buchs SG
CATEGORIES:Saison 2025/26
END:VEVENT
END:VCALENDAR
