BEGIN:VCALENDAR
PRODID:-//nuDatenautomaten//framework iCal4j //DE
VERSION:2.0
CALSCALE:GREGORIAN
BEGIN:VTIMEZONE
TZID:Europe/Berlin
LAST-MODIFIED:20260306T231828Z
TZURL:https://www.tzurl.org/zoneinfo/Europe/Berlin
X-LIC-LOCATION:Europe/Berlin
X-PROLEPTIC-TZNAME:LMT
BEGIN:STANDARD
TZNAME:CET
TZOFFSETFROM:+005328
TZOFFSETTO:+0100
DTSTART:18930401T000000
END:STANDARD
BEGIN:DAYLIGHT
TZNAME:CEST
TZOFFSETFROM:+0100
TZOFFSETTO:+0200
DTSTART:19160430T230000
RDATE:19400401T020000
RDATE:19430329T020000
RDATE:19460414T020000
RDATE:19470406T030000
RDATE:19480418T020000
RDATE:19490410T020000
RDATE:19800406T020000
END:DAYLIGHT
BEGIN:STANDARD
TZNAME:CET
TZOFFSETFROM:+0200
TZOFFSETTO:+0100
DTSTART:19161001T010000
RDATE:19421102T030000
RDATE:19431004T030000
RDATE:19441002T030000
RDATE:19451118T030000
RDATE:19461007T030000
END:STANDARD
BEGIN:DAYLIGHT
TZNAME:CEST
TZOFFSETFROM:+0100
TZOFFSETTO:+0200
DTSTART:19170416T020000
RRULE:FREQ=YEARLY;UNTIL=19180415T010000Z;BYMONTH=4;BYDAY=3MO
END:DAYLIGHT
BEGIN:STANDARD
TZNAME:CET
TZOFFSETFROM:+0200
TZOFFSETTO:+0100
DTSTART:19170917T030000
RRULE:FREQ=YEARLY;UNTIL=19180916T010000Z;BYMONTH=9;BYDAY=3MO
END:STANDARD
BEGIN:DAYLIGHT
TZNAME:CEST
TZOFFSETFROM:+0100
TZOFFSETTO:+0200
DTSTART:19440403T020000
RRULE:FREQ=YEARLY;UNTIL=19450402T010000Z;BYMONTH=4;BYDAY=1MO
END:DAYLIGHT
BEGIN:DAYLIGHT
TZNAME:CEMT
TZOFFSETFROM:+0200
TZOFFSETTO:+0300
DTSTART:19450524T020000
RDATE:19470511T030000
END:DAYLIGHT
BEGIN:DAYLIGHT
TZNAME:CEST
TZOFFSETFROM:+0300
TZOFFSETTO:+0200
DTSTART:19450924T030000
RDATE:19470629T030000
END:DAYLIGHT
BEGIN:STANDARD
TZNAME:CET
TZOFFSETFROM:+0100
TZOFFSETTO:+0100
DTSTART:19460101T000000
RDATE:19800101T000000
END:STANDARD
BEGIN:STANDARD
TZNAME:CET
TZOFFSETFROM:+0200
TZOFFSETTO:+0100
DTSTART:19471005T030000
RRULE:FREQ=YEARLY;UNTIL=19491002T010000Z;BYMONTH=10;BYDAY=1SU
END:STANDARD
BEGIN:STANDARD
TZNAME:CET
TZOFFSETFROM:+0200
TZOFFSETTO:+0100
DTSTART:19800928T030000
RRULE:FREQ=YEARLY;UNTIL=19950924T010000Z;BYMONTH=9;BYDAY=-1SU
END:STANDARD
BEGIN:DAYLIGHT
TZNAME:CEST
TZOFFSETFROM:+0100
TZOFFSETTO:+0200
DTSTART:19810329T020000
RRULE:FREQ=YEARLY;BYMONTH=3;BYDAY=-1SU
END:DAYLIGHT
BEGIN:STANDARD
TZNAME:CET
TZOFFSETFROM:+0200
TZOFFSETTO:+0100
DTSTART:19961027T030000
RRULE:FREQ=YEARLY;BYMONTH=10;BYDAY=-1SU
END:STANDARD
END:VTIMEZONE
BEGIN:VEVENT
DTSTAMP:20260424T165358Z
DTSTART;TZID=Europe/Berlin:20260204T193000
DTEND;TZID=Europe/Berlin:20260204T223000
SUMMARY:HE 3. Liga Gr. 2 Pratteln vs Gelterkinden (0)
UID:7ab03885-0e75-4406-8c9e-e089c538a14e
STATUS:CONFIRMED
LAST-MODIFIED:20260211T093626Z
DESCRIPTION:3. Liga Herren Gruppe 2\nBegegnungs-Nr: 0\nHeim: Pratteln\nGast: Gelterkinden\n\nAdresse: Erliweg 16\, 4133 Pratteln\n
LOCATION:Erliweg 16\, 4133 Pratteln
CATEGORIES:Saison 2025/26
END:VEVENT
BEGIN:VEVENT
DTSTAMP:20260424T165358Z
DTSTART;TZID=Europe/Berlin:20260304T193000
DTEND;TZID=Europe/Berlin:20260304T223000
SUMMARY:HE 3. Liga Gr. 2 Pratteln vs Basel VII (0)
UID:65100cbf-a233-4662-aa91-82f04700cb31
STATUS:CONFIRMED
LAST-MODIFIED:20260313T125030Z
DESCRIPTION:3. Liga Herren Gruppe 2\nBegegnungs-Nr: 0\nHeim: Pratteln\nGast: Basel VII\n\nAdresse: Erliweg 16\, 4133 Pratteln\n
LOCATION:Erliweg 16\, 4133 Pratteln
CATEGORIES:Saison 2025/26
END:VEVENT
BEGIN:VEVENT
DTSTAMP:20260424T165358Z
DTSTART;TZID=Europe/Berlin:20260318T193000
DTEND;TZID=Europe/Berlin:20260318T223000
SUMMARY:HE 3. Liga Gr. 2 Pratteln vs Sisseln (0)
UID:d12c2b5f-c0a4-4bb8-b577-4a29d03ea098
STATUS:CONFIRMED
LAST-MODIFIED:20260320T140427Z
DESCRIPTION:3. Liga Herren Gruppe 2\nBegegnungs-Nr: 0\nHeim: Pratteln\nGast: Sisseln\n\nAdresse: Erliweg 16\, 4133 Pratteln\n
LOCATION:Erliweg 16\, 4133 Pratteln
CATEGORIES:Saison 2025/26
END:VEVENT
BEGIN:VEVENT
DTSTAMP:20260424T165358Z
DTSTART;TZID=Europe/Berlin:20250903T193000
DTEND;TZID=Europe/Berlin:20250903T223000
SUMMARY:HE 3. Liga Gr. 2 Pratteln vs Rio-Star Muttenz V (0)
UID:5be0b707-fe8a-4b2e-afea-19e1371c9354
STATUS:CONFIRMED
LAST-MODIFIED:20250905T121026Z
DESCRIPTION:3. Liga Herren Gruppe 2\nBegegnungs-Nr: 0\nHeim: Pratteln\nGast: Rio-Star Muttenz V\n\nAdresse: Erliweg 16\, 4133 Pratteln\n
LOCATION:Erliweg 16\, 4133 Pratteln
CATEGORIES:Saison 2025/26
END:VEVENT
BEGIN:VEVENT
DTSTAMP:20260424T165358Z
DTSTART;TZID=Europe/Berlin:20260121T193000
DTEND;TZID=Europe/Berlin:20260121T223000
SUMMARY:HE 3. Liga Gr. 2 Pratteln vs Möhlin (0)
UID:a55da6e9-6fcb-4d1e-9e83-b14cfd28d0c9
STATUS:CONFIRMED
LAST-MODIFIED:20260123T081239Z
DESCRIPTION:3. Liga Herren Gruppe 2\nBegegnungs-Nr: 0\nHeim: Pratteln\nGast: Möhlin\n\nAdresse: Erliweg 16\, 4133 Pratteln\n
LOCATION:Erliweg 16\, 4133 Pratteln
CATEGORIES:Saison 2025/26
END:VEVENT
BEGIN:VEVENT
DTSTAMP:20260424T165358Z
DTSTART;TZID=Europe/Berlin:20250924T193000
DTEND;TZID=Europe/Berlin:20250924T223000
SUMMARY:HE 3. Liga Gr. 2 Pratteln vs Liebrüti (0)
UID:a730100d-3325-4b47-b336-3b0108e7e3d2
STATUS:CONFIRMED
LAST-MODIFIED:20250926T123429Z
DESCRIPTION:3. Liga Herren Gruppe 2\nBegegnungs-Nr: 0\nHeim: Pratteln\nGast: Liebrüti\n\nAdresse: Erliweg 16\, 4133 Pratteln\n
LOCATION:Erliweg 16\, 4133 Pratteln
CATEGORIES:Saison 2025/26
END:VEVENT
BEGIN:VEVENT
DTSTAMP:20260424T165358Z
DTSTART;TZID=Europe/Berlin:20251119T193000
DTEND;TZID=Europe/Berlin:20251119T223000
SUMMARY:HE 3. Liga Gr. 2 Pratteln vs Waldenburg (0)
UID:f32628f3-f367-4ea9-8364-194e07b85275
STATUS:CONFIRMED
LAST-MODIFIED:20251121T093421Z
DESCRIPTION:3. Liga Herren Gruppe 2\nBegegnungs-Nr: 0\nHeim: Pratteln\nGast: Waldenburg\n\nAdresse: Erliweg 16\, 4133 Pratteln\n
LOCATION:Erliweg 16\, 4133 Pratteln
CATEGORIES:Saison 2025/26
END:VEVENT
BEGIN:VEVENT
DTSTAMP:20260424T165358Z
DTSTART;TZID=Europe/Berlin:20251218T193000
DTEND;TZID=Europe/Berlin:20251218T223000
SUMMARY:HE 3. Liga Gr. 2 Rio-Star Muttenz V vs Pratteln (0)
UID:27fec2c1-f9da-411a-9aea-baa98272c53f
STATUS:CONFIRMED
LAST-MODIFIED:20260109T074000Z
DESCRIPTION:3. Liga Herren Gruppe 2\nBegegnungs-Nr: 0\nHeim: Rio-Star Muttenz V\nGast: Pratteln\n\nAdresse: Gründenstrasse 32\, 4132 Muttenz\n
LOCATION:Gründenstrasse 32\, 4132 Muttenz
CATEGORIES:Saison 2025/26
END:VEVENT
BEGIN:VEVENT
DTSTAMP:20260424T165358Z
DTSTART;TZID=Europe/Berlin:20260128T193000
DTEND;TZID=Europe/Berlin:20260128T223000
SUMMARY:HE 3. Liga Gr. 2 Liebrüti vs Pratteln (0)
UID:da2c091c-0698-4ddd-8276-81f289b41e3d
STATUS:CONFIRMED
LAST-MODIFIED:20260129T075017Z
DESCRIPTION:3. Liga Herren Gruppe 2\nBegegnungs-Nr: 0\nHeim: Liebrüti\nGast: Pratteln\n\nAdresse: Schwarzackerstr. 59\, 4303 Kaiseraugst\n
LOCATION:Schwarzackerstr. 59\, 4303 Kaiseraugst
CATEGORIES:Saison 2025/26
END:VEVENT
BEGIN:VEVENT
DTSTAMP:20260424T165358Z
DTSTART;TZID=Europe/Berlin:20260316T200000
DTEND;TZID=Europe/Berlin:20260316T230000
SUMMARY:HE 3. Liga Gr. 2 Waldenburg vs Pratteln (0)
UID:4d26e99e-3117-4b8c-9bcf-f5480134442b
STATUS:CONFIRMED
LAST-MODIFIED:20260318T105948Z
DESCRIPTION:3. Liga Herren Gruppe 2\nBegegnungs-Nr: 0\nHeim: Waldenburg\nGast: Pratteln\n\nAdresse: Hauptstrasse 30\, 4437 Waldenburg\n
LOCATION:Hauptstrasse 30\, 4437 Waldenburg
CATEGORIES:Saison 2025/26
END:VEVENT
BEGIN:VEVENT
DTSTAMP:20260424T165358Z
DTSTART;TZID=Europe/Berlin:20250912T200000
DTEND;TZID=Europe/Berlin:20250912T230000
SUMMARY:HE 3. Liga Gr. 2 Möhlin vs Pratteln (0)
UID:71bd123a-e80f-467c-b251-7994ca7a1b30
STATUS:CONFIRMED
LAST-MODIFIED:20250918T094836Z
DESCRIPTION:3. Liga Herren Gruppe 2\nBegegnungs-Nr: 0\nHeim: Möhlin\nGast: Pratteln\n\nAdresse: Schulhausweg\, 4313 Möhlin\n
LOCATION:Schulhausweg\, 4313 Möhlin
CATEGORIES:Saison 2025/26
END:VEVENT
BEGIN:VEVENT
DTSTAMP:20260424T165358Z
DTSTART;TZID=Europe/Berlin:20251013T201500
DTEND;TZID=Europe/Berlin:20251013T231500
SUMMARY:HE 3. Liga Gr. 2 Gelterkinden vs Pratteln (0)
UID:675678d2-51b0-4619-bc4a-bff70fbe89b4
STATUS:CONFIRMED
LAST-MODIFIED:20251016T145618Z
DESCRIPTION:3. Liga Herren Gruppe 2\nBegegnungs-Nr: 0\nHeim: Gelterkinden\nGast: Pratteln\n\nAdresse: Turnhallenstrasse 18\, 4460 Gelterkinden\n
LOCATION:Turnhallenstrasse 18\, 4460 Gelterkinden
CATEGORIES:Saison 2025/26
END:VEVENT
BEGIN:VEVENT
DTSTAMP:20260424T165358Z
DTSTART;TZID=Europe/Berlin:20251023T200000
DTEND;TZID=Europe/Berlin:20251023T230000
SUMMARY:HE 3. Liga Gr. 2 Basel VII vs Pratteln (0)
UID:d2a3af97-d9b6-44d0-931b-7b8d09048ee2
STATUS:CONFIRMED
LAST-MODIFIED:20251029T100233Z
DESCRIPTION:3. Liga Herren Gruppe 2\nBegegnungs-Nr: 0\nHeim: Basel VII\nGast: Pratteln\n\nAdresse: Schwarzwaldallee 107\, 4058 Basel\n
LOCATION:Schwarzwaldallee 107\, 4058 Basel
CATEGORIES:Saison 2025/26
END:VEVENT
BEGIN:VEVENT
DTSTAMP:20260424T165358Z
DTSTART;TZID=Europe/Berlin:20251128T200000
DTEND;TZID=Europe/Berlin:20251128T230000
SUMMARY:HE 3. Liga Gr. 2 Sisseln vs Pratteln (0)
UID:8504cc4c-873d-4af2-bc7d-142597e02f50
STATUS:CONFIRMED
LAST-MODIFIED:20251201T142150Z
DESCRIPTION:3. Liga Herren Gruppe 2\nBegegnungs-Nr: 0\nHeim: Sisseln\nGast: Pratteln\n\nAdresse: Schulstrasse\, 4334 Sisseln\n
LOCATION:Schulstrasse\, 4334 Sisseln
CATEGORIES:Saison 2025/26
END:VEVENT
END:VCALENDAR
