BEGIN:VCALENDAR
PRODID:-//nuDatenautomaten//framework iCal4j //DE
VERSION:2.0
CALSCALE:GREGORIAN
BEGIN:VTIMEZONE
TZID:Europe/Berlin
LAST-MODIFIED:20260306T231828Z
TZURL:https://www.tzurl.org/zoneinfo/Europe/Berlin
X-LIC-LOCATION:Europe/Berlin
X-PROLEPTIC-TZNAME:LMT
BEGIN:STANDARD
TZNAME:CET
TZOFFSETFROM:+005328
TZOFFSETTO:+0100
DTSTART:18930401T000000
END:STANDARD
BEGIN:DAYLIGHT
TZNAME:CEST
TZOFFSETFROM:+0100
TZOFFSETTO:+0200
DTSTART:19160430T230000
RDATE:19400401T020000
RDATE:19430329T020000
RDATE:19460414T020000
RDATE:19470406T030000
RDATE:19480418T020000
RDATE:19490410T020000
RDATE:19800406T020000
END:DAYLIGHT
BEGIN:STANDARD
TZNAME:CET
TZOFFSETFROM:+0200
TZOFFSETTO:+0100
DTSTART:19161001T010000
RDATE:19421102T030000
RDATE:19431004T030000
RDATE:19441002T030000
RDATE:19451118T030000
RDATE:19461007T030000
END:STANDARD
BEGIN:DAYLIGHT
TZNAME:CEST
TZOFFSETFROM:+0100
TZOFFSETTO:+0200
DTSTART:19170416T020000
RRULE:FREQ=YEARLY;UNTIL=19180415T010000Z;BYMONTH=4;BYDAY=3MO
END:DAYLIGHT
BEGIN:STANDARD
TZNAME:CET
TZOFFSETFROM:+0200
TZOFFSETTO:+0100
DTSTART:19170917T030000
RRULE:FREQ=YEARLY;UNTIL=19180916T010000Z;BYMONTH=9;BYDAY=3MO
END:STANDARD
BEGIN:DAYLIGHT
TZNAME:CEST
TZOFFSETFROM:+0100
TZOFFSETTO:+0200
DTSTART:19440403T020000
RRULE:FREQ=YEARLY;UNTIL=19450402T010000Z;BYMONTH=4;BYDAY=1MO
END:DAYLIGHT
BEGIN:DAYLIGHT
TZNAME:CEMT
TZOFFSETFROM:+0200
TZOFFSETTO:+0300
DTSTART:19450524T020000
RDATE:19470511T030000
END:DAYLIGHT
BEGIN:DAYLIGHT
TZNAME:CEST
TZOFFSETFROM:+0300
TZOFFSETTO:+0200
DTSTART:19450924T030000
RDATE:19470629T030000
END:DAYLIGHT
BEGIN:STANDARD
TZNAME:CET
TZOFFSETFROM:+0100
TZOFFSETTO:+0100
DTSTART:19460101T000000
RDATE:19800101T000000
END:STANDARD
BEGIN:STANDARD
TZNAME:CET
TZOFFSETFROM:+0200
TZOFFSETTO:+0100
DTSTART:19471005T030000
RRULE:FREQ=YEARLY;UNTIL=19491002T010000Z;BYMONTH=10;BYDAY=1SU
END:STANDARD
BEGIN:STANDARD
TZNAME:CET
TZOFFSETFROM:+0200
TZOFFSETTO:+0100
DTSTART:19800928T030000
RRULE:FREQ=YEARLY;UNTIL=19950924T010000Z;BYMONTH=9;BYDAY=-1SU
END:STANDARD
BEGIN:DAYLIGHT
TZNAME:CEST
TZOFFSETFROM:+0100
TZOFFSETTO:+0200
DTSTART:19810329T020000
RRULE:FREQ=YEARLY;BYMONTH=3;BYDAY=-1SU
END:DAYLIGHT
BEGIN:STANDARD
TZNAME:CET
TZOFFSETFROM:+0200
TZOFFSETTO:+0100
DTSTART:19961027T030000
RRULE:FREQ=YEARLY;BYMONTH=10;BYDAY=-1SU
END:STANDARD
END:VTIMEZONE
BEGIN:VEVENT
DTSTAMP:20260424T134228Z
DTSTART;TZID=Europe/Berlin:20250901T200000
DTEND;TZID=Europe/Berlin:20250901T230000
SUMMARY:ME L6 Gr 3\, Tours 1&2 Vevey III vs Bulle VII (0)
UID:8328c829-76f4-4f25-ac57-1437ef2e0d36
STATUS:CONFIRMED
LAST-MODIFIED:20250902T115020Z
DESCRIPTION:6ème ligue Hommes Groupe 3\, Tours 1&2\nBegegnungs-Nr: 0\nHeim: Vevey III\nGast: Bulle VII\n\nAdresse: Rue Louis-Meyer\, 1800 Vevey\n
LOCATION:Rue Louis-Meyer\, 1800 Vevey
CATEGORIES:Saison 2025/26
END:VEVENT
BEGIN:VEVENT
DTSTAMP:20260424T134228Z
DTSTART;TZID=Europe/Berlin:20250929T200000
DTEND;TZID=Europe/Berlin:20250929T230000
SUMMARY:ME L6 Gr 3\, Tours 1&2 Vevey III vs Blonay IV (0)
UID:0a289994-1e9e-408b-89f3-195d72e1b49f
STATUS:CONFIRMED
LAST-MODIFIED:20251001T172657Z
DESCRIPTION:6ème ligue Hommes Groupe 3\, Tours 1&2\nBegegnungs-Nr: 0\nHeim: Vevey III\nGast: Blonay IV\n\nAdresse: Rue Louis-Meyer\, 1800 Vevey\n
LOCATION:Rue Louis-Meyer\, 1800 Vevey
CATEGORIES:Saison 2025/26
END:VEVENT
BEGIN:VEVENT
DTSTAMP:20260424T134228Z
DTSTART;TZID=Europe/Berlin:20251006T200000
DTEND;TZID=Europe/Berlin:20251006T230000
SUMMARY:ME L6 Gr 3\, Tours 1&2 Vevey III vs Romont-Villaz IV (0)
UID:ca68d0b5-ec91-4b6a-aa3f-da9f6424206a
STATUS:CONFIRMED
LAST-MODIFIED:20251008T155437Z
DESCRIPTION:6ème ligue Hommes Groupe 3\, Tours 1&2\nBegegnungs-Nr: 0\nHeim: Vevey III\nGast: Romont-Villaz IV\n\nAdresse: Rue Louis-Meyer\, 1800 Vevey\n
LOCATION:Rue Louis-Meyer\, 1800 Vevey
CATEGORIES:Saison 2025/26
END:VEVENT
BEGIN:VEVENT
DTSTAMP:20260424T134228Z
DTSTART;TZID=Europe/Berlin:20251103T200000
DTEND;TZID=Europe/Berlin:20251103T230000
SUMMARY:ME L6 Gr 3\, Tours 1&2 Vevey III vs Chexbres IV (0)
UID:3c414873-00a9-47bc-9a7d-9c893d67990b
STATUS:CONFIRMED
LAST-MODIFIED:20251104T233624Z
DESCRIPTION:6ème ligue Hommes Groupe 3\, Tours 1&2\nBegegnungs-Nr: 0\nHeim: Vevey III\nGast: Chexbres IV\n\nAdresse: Rue Louis-Meyer\, 1800 Vevey\n
LOCATION:Rue Louis-Meyer\, 1800 Vevey
CATEGORIES:Saison 2025/26
END:VEVENT
BEGIN:VEVENT
DTSTAMP:20260424T134228Z
DTSTART;TZID=Europe/Berlin:20251117T200000
DTEND;TZID=Europe/Berlin:20251117T230000
SUMMARY:ME L6 Gr 3\, Tours 1&2 Vevey III vs Château d'Oex (0)
UID:f9e6ee29-0ba3-4f36-9345-421f07fb82b5
STATUS:CONFIRMED
LAST-MODIFIED:20251119T171556Z
DESCRIPTION:6ème ligue Hommes Groupe 3\, Tours 1&2\nBegegnungs-Nr: 0\nHeim: Vevey III\nGast: Château d'Oex\n\nAdresse: Rue Louis-Meyer\, 1800 Vevey\n
LOCATION:Rue Louis-Meyer\, 1800 Vevey
CATEGORIES:Saison 2025/26
END:VEVENT
BEGIN:VEVENT
DTSTAMP:20260424T134228Z
DTSTART;TZID=Europe/Berlin:20260119T200000
DTEND;TZID=Europe/Berlin:20260119T230000
SUMMARY:ME L5 Gr 2\, Tours 3&4 Vevey III vs Collombey/Muraz IV (0)
UID:3c77b559-a8e7-42e6-a031-e03f591071e0
STATUS:CONFIRMED
LAST-MODIFIED:20260121T201909Z
DESCRIPTION:5ème ligue Hommes Groupe 2\, Tours 3&4\nBegegnungs-Nr: 0\nHeim: Vevey III\nGast: Collombey/Muraz IV\n\nAdresse: Rue Louis-Meyer\, 1800 Vevey\n
LOCATION:Rue Louis-Meyer\, 1800 Vevey
CATEGORIES:Saison 2025/26
END:VEVENT
BEGIN:VEVENT
DTSTAMP:20260424T134228Z
DTSTART;TZID=Europe/Berlin:20260209T200000
DTEND;TZID=Europe/Berlin:20260209T230000
SUMMARY:ME L5 Gr 2\, Tours 3&4 Vevey III vs Bulle IV (0)
UID:07404c47-b55b-4019-825d-18890795a590
STATUS:CONFIRMED
LAST-MODIFIED:20260214T174641Z
DESCRIPTION:5ème ligue Hommes Groupe 2\, Tours 3&4\nBegegnungs-Nr: 0\nHeim: Vevey III\nGast: Bulle IV\n\nAdresse: Rue Louis-Meyer\, 1800 Vevey\n
LOCATION:Rue Louis-Meyer\, 1800 Vevey
CATEGORIES:Saison 2025/26
END:VEVENT
BEGIN:VEVENT
DTSTAMP:20260424T134228Z
DTSTART;TZID=Europe/Berlin:20260305T200000
DTEND;TZID=Europe/Berlin:20260305T230000
SUMMARY:ME L5 Gr 2\, Tours 3&4 Vevey III vs Montreux-Riviera (0)
UID:f3672173-78a3-4722-81d2-d070fe3cf4c1
STATUS:CONFIRMED
LAST-MODIFIED:20260306T212013Z
DESCRIPTION:5ème ligue Hommes Groupe 2\, Tours 3&4\nBegegnungs-Nr: 0\nHeim: Vevey III\nGast: Montreux-Riviera\n\nAdresse: Rue Louis-Meyer\, 1800 Vevey\n
LOCATION:Rue Louis-Meyer\, 1800 Vevey
CATEGORIES:Saison 2025/26
END:VEVENT
BEGIN:VEVENT
DTSTAMP:20260424T134228Z
DTSTART;TZID=Europe/Berlin:20260330T200000
DTEND;TZID=Europe/Berlin:20260330T230000
SUMMARY:ME L5 Gr 2\, Tours 3&4 Vevey III vs Blonay III (0)
UID:83deb4dc-a495-4541-9d2b-ab56feb25f21
STATUS:CONFIRMED
LAST-MODIFIED:20260407T130229Z
DESCRIPTION:5ème ligue Hommes Groupe 2\, Tours 3&4\nBegegnungs-Nr: 0\nHeim: Vevey III\nGast: Blonay III\n\nAdresse: Rue Louis-Meyer\, 1800 Vevey\n
LOCATION:Rue Louis-Meyer\, 1800 Vevey
CATEGORIES:Saison 2025/26
END:VEVENT
BEGIN:VEVENT
DTSTAMP:20260424T134228Z
DTSTART;TZID=Europe/Berlin:20260427T200000
DTEND;TZID=Europe/Berlin:20260427T230000
SUMMARY:ME L5 Gr 2\, Tours 3&4 Vevey III vs Collombey/Muraz V (0)
UID:1e87bc59-51a6-4185-8d9d-8ce1d9c642dc
STATUS:CONFIRMED
DESCRIPTION:5ème ligue Hommes Groupe 2\, Tours 3&4\nBegegnungs-Nr: 0\nHeim: Vevey III\nGast: Collombey/Muraz V\n\nAdresse: Rue Louis-Meyer\, 1800 Vevey\n
LOCATION:Rue Louis-Meyer\, 1800 Vevey
CATEGORIES:Saison 2025/26
END:VEVENT
BEGIN:VEVENT
DTSTAMP:20260424T134228Z
DTSTART;TZID=Europe/Berlin:20250908T193000
DTEND;TZID=Europe/Berlin:20250908T223000
SUMMARY:ME L6 Gr 3\, Tours 1&2 Chexbres IV vs Vevey III (0)
UID:17d857c2-640e-4492-b76c-172dc659c820
STATUS:CONFIRMED
LAST-MODIFIED:20250910T231041Z
DESCRIPTION:6ème ligue Hommes Groupe 3\, Tours 1&2\nBegegnungs-Nr: 0\nHeim: Chexbres IV\nGast: Vevey III\n\nAdresse: Entre Deux Villes\, 1814 La Tour-de-Peilz\n
LOCATION:Entre Deux Villes\, 1814 La Tour-de-Peilz
CATEGORIES:Saison 2025/26
END:VEVENT
BEGIN:VEVENT
DTSTAMP:20260424T134228Z
DTSTART;TZID=Europe/Berlin:20250918T194500
DTEND;TZID=Europe/Berlin:20250918T224500
SUMMARY:ME L6 Gr 3\, Tours 1&2 Château d'Oex vs Vevey III (0)
UID:cf1d7af2-48d6-4142-af37-0486548b38f6
STATUS:CONFIRMED
LAST-MODIFIED:20250920T115723Z
DESCRIPTION:6ème ligue Hommes Groupe 3\, Tours 1&2\nBegegnungs-Nr: 0\nHeim: Château d'Oex\nGast: Vevey III\n\nAdresse: rte du Périsset 7\, 1660 Château d'Oex\n
LOCATION:rte du Périsset 7\, 1660 Château d'Oex
CATEGORIES:Saison 2025/26
END:VEVENT
BEGIN:VEVENT
DTSTAMP:20260424T134228Z
DTSTART;TZID=Europe/Berlin:20251031T200000
DTEND;TZID=Europe/Berlin:20251031T230000
SUMMARY:ME L6 Gr 3\, Tours 1&2 Bulle VII vs Vevey III (0)
UID:a5b4e8b4-9c82-4c1a-80f9-653bac61fadf
STATUS:CONFIRMED
LAST-MODIFIED:20251101T154235Z
DESCRIPTION:6ème ligue Hommes Groupe 3\, Tours 1&2\nBegegnungs-Nr: 0\nHeim: Bulle VII\nGast: Vevey III\n\nAdresse: Rue du Stade 50\, 1630 Bulle\n
LOCATION:Rue du Stade 50\, 1630 Bulle
CATEGORIES:Saison 2025/26
END:VEVENT
BEGIN:VEVENT
DTSTAMP:20260424T134228Z
DTSTART;TZID=Europe/Berlin:20250827T200000
DTEND;TZID=Europe/Berlin:20250827T230000
SUMMARY:ME L6 Gr 3\, Tours 1&2 Blonay IV vs Vevey III (0)
UID:417a3f40-b7b7-4142-a5e5-f35f0929ac84
STATUS:CONFIRMED
LAST-MODIFIED:20250828T195846Z
DESCRIPTION:6ème ligue Hommes Groupe 3\, Tours 1&2\nBegegnungs-Nr: 0\nHeim: Blonay IV\nGast: Vevey III\n\nAdresse: Route de Prélaz 2\, 1807 Blonay\n
LOCATION:Route de Prélaz 2\, 1807 Blonay
CATEGORIES:Saison 2025/26
END:VEVENT
BEGIN:VEVENT
DTSTAMP:20260424T134228Z
DTSTART;TZID=Europe/Berlin:20251209T193000
DTEND;TZID=Europe/Berlin:20251209T223000
SUMMARY:ME L6 Gr 3\, Tours 1&2 Romont-Villaz IV vs Vevey III (0)
UID:cd6f9f6e-440a-4bb4-8dd8-8d95467b22a7
STATUS:CONFIRMED
LAST-MODIFIED:20251211T055837Z
DESCRIPTION:6ème ligue Hommes Groupe 3\, Tours 1&2\nBegegnungs-Nr: 0\nHeim: Romont-Villaz IV\nGast: Vevey III\n\nAdresse: Route de la Gare 5\, 1690 Villaz-St-Pierre\n
LOCATION:Route de la Gare 5\, 1690 Villaz-St-Pierre
CATEGORIES:Saison 2025/26
END:VEVENT
BEGIN:VEVENT
DTSTAMP:20260424T134228Z
DTSTART;TZID=Europe/Berlin:20260122T200000
DTEND;TZID=Europe/Berlin:20260122T230000
SUMMARY:ME L5 Gr 2\, Tours 3&4 Montreux-Riviera vs Vevey III (0)
UID:15eae6b3-b709-495f-a79b-705eecf4c654
STATUS:CONFIRMED
LAST-MODIFIED:20260125T124049Z
DESCRIPTION:5ème ligue Hommes Groupe 2\, Tours 3&4\nBegegnungs-Nr: 0\nHeim: Montreux-Riviera\nGast: Vevey III\n\nAdresse: Rue de la Gare 33\, 1820 Montreux\n
LOCATION:Rue de la Gare 33\, 1820 Montreux
CATEGORIES:Saison 2025/26
END:VEVENT
BEGIN:VEVENT
DTSTAMP:20260424T134228Z
DTSTART;TZID=Europe/Berlin:20260120T200000
DTEND;TZID=Europe/Berlin:20260120T230000
SUMMARY:ME L5 Gr 2\, Tours 3&4 Blonay III vs Vevey III (0)
UID:b680bd2a-b52b-4a5d-8a90-056d45a5c459
STATUS:CONFIRMED
LAST-MODIFIED:20260121T122501Z
DESCRIPTION:5ème ligue Hommes Groupe 2\, Tours 3&4\nBegegnungs-Nr: 0\nHeim: Blonay III\nGast: Vevey III\n\nAdresse: Route de Prélaz 2\, 1807 Blonay\n
LOCATION:Route de Prélaz 2\, 1807 Blonay
CATEGORIES:Saison 2025/26
END:VEVENT
BEGIN:VEVENT
DTSTAMP:20260424T134228Z
DTSTART;TZID=Europe/Berlin:20260223T193000
DTEND;TZID=Europe/Berlin:20260223T223000
SUMMARY:ME L5 Gr 2\, Tours 3&4 Collombey/Muraz V vs Vevey III (0)
UID:fd066406-218b-4666-884f-fcbb56ec1ecd
STATUS:CONFIRMED
LAST-MODIFIED:20260225T225214Z
DESCRIPTION:5ème ligue Hommes Groupe 2\, Tours 3&4\nBegegnungs-Nr: 0\nHeim: Collombey/Muraz V\nGast: Vevey III\n\nAdresse: Route du Montagnier 81\, 1868 Collombey\n
LOCATION:Route du Montagnier 81\, 1868 Collombey
CATEGORIES:Saison 2025/26
END:VEVENT
BEGIN:VEVENT
DTSTAMP:20260424T134228Z
DTSTART;TZID=Europe/Berlin:20260318T193000
DTEND;TZID=Europe/Berlin:20260318T223000
SUMMARY:ME L5 Gr 2\, Tours 3&4 Collombey/Muraz IV vs Vevey III (0)
UID:3d677632-4817-49df-b4dc-9cecfd74ae12
STATUS:CONFIRMED
LAST-MODIFIED:20260321T102703Z
DESCRIPTION:5ème ligue Hommes Groupe 2\, Tours 3&4\nBegegnungs-Nr: 0\nHeim: Collombey/Muraz IV\nGast: Vevey III\n\nAdresse: Route du Montagnier 81\, 1868 Collombey\n
LOCATION:Route du Montagnier 81\, 1868 Collombey
CATEGORIES:Saison 2025/26
END:VEVENT
BEGIN:VEVENT
DTSTAMP:20260424T134228Z
DTSTART;TZID=Europe/Berlin:20260422T200000
DTEND;TZID=Europe/Berlin:20260422T230000
SUMMARY:ME L5 Gr 2\, Tours 3&4 Bulle IV vs Vevey III (0)
UID:1301fd5a-c2c3-4b6b-87d4-126091aa1c2b
STATUS:CONFIRMED
LAST-MODIFIED:20260423T075722Z
DESCRIPTION:5ème ligue Hommes Groupe 2\, Tours 3&4\nBegegnungs-Nr: 0\nHeim: Bulle IV\nGast: Vevey III\n\nAdresse: Rue du Stade 50\, 1630 Bulle\n
LOCATION:Rue du Stade 50\, 1630 Bulle
CATEGORIES:Saison 2025/26
END:VEVENT
END:VCALENDAR
