BEGIN:VCALENDAR
PRODID:-//nuDatenautomaten//framework iCal4j //DE
VERSION:2.0
CALSCALE:GREGORIAN
BEGIN:VTIMEZONE
TZID:Europe/Berlin
LAST-MODIFIED:20260306T231828Z
TZURL:https://www.tzurl.org/zoneinfo/Europe/Berlin
X-LIC-LOCATION:Europe/Berlin
X-PROLEPTIC-TZNAME:LMT
BEGIN:STANDARD
TZNAME:CET
TZOFFSETFROM:+005328
TZOFFSETTO:+0100
DTSTART:18930401T000000
END:STANDARD
BEGIN:DAYLIGHT
TZNAME:CEST
TZOFFSETFROM:+0100
TZOFFSETTO:+0200
DTSTART:19160430T230000
RDATE:19400401T020000
RDATE:19430329T020000
RDATE:19460414T020000
RDATE:19470406T030000
RDATE:19480418T020000
RDATE:19490410T020000
RDATE:19800406T020000
END:DAYLIGHT
BEGIN:STANDARD
TZNAME:CET
TZOFFSETFROM:+0200
TZOFFSETTO:+0100
DTSTART:19161001T010000
RDATE:19421102T030000
RDATE:19431004T030000
RDATE:19441002T030000
RDATE:19451118T030000
RDATE:19461007T030000
END:STANDARD
BEGIN:DAYLIGHT
TZNAME:CEST
TZOFFSETFROM:+0100
TZOFFSETTO:+0200
DTSTART:19170416T020000
RRULE:FREQ=YEARLY;UNTIL=19180415T010000Z;BYMONTH=4;BYDAY=3MO
END:DAYLIGHT
BEGIN:STANDARD
TZNAME:CET
TZOFFSETFROM:+0200
TZOFFSETTO:+0100
DTSTART:19170917T030000
RRULE:FREQ=YEARLY;UNTIL=19180916T010000Z;BYMONTH=9;BYDAY=3MO
END:STANDARD
BEGIN:DAYLIGHT
TZNAME:CEST
TZOFFSETFROM:+0100
TZOFFSETTO:+0200
DTSTART:19440403T020000
RRULE:FREQ=YEARLY;UNTIL=19450402T010000Z;BYMONTH=4;BYDAY=1MO
END:DAYLIGHT
BEGIN:DAYLIGHT
TZNAME:CEMT
TZOFFSETFROM:+0200
TZOFFSETTO:+0300
DTSTART:19450524T020000
RDATE:19470511T030000
END:DAYLIGHT
BEGIN:DAYLIGHT
TZNAME:CEST
TZOFFSETFROM:+0300
TZOFFSETTO:+0200
DTSTART:19450924T030000
RDATE:19470629T030000
END:DAYLIGHT
BEGIN:STANDARD
TZNAME:CET
TZOFFSETFROM:+0100
TZOFFSETTO:+0100
DTSTART:19460101T000000
RDATE:19800101T000000
END:STANDARD
BEGIN:STANDARD
TZNAME:CET
TZOFFSETFROM:+0200
TZOFFSETTO:+0100
DTSTART:19471005T030000
RRULE:FREQ=YEARLY;UNTIL=19491002T010000Z;BYMONTH=10;BYDAY=1SU
END:STANDARD
BEGIN:STANDARD
TZNAME:CET
TZOFFSETFROM:+0200
TZOFFSETTO:+0100
DTSTART:19800928T030000
RRULE:FREQ=YEARLY;UNTIL=19950924T010000Z;BYMONTH=9;BYDAY=-1SU
END:STANDARD
BEGIN:DAYLIGHT
TZNAME:CEST
TZOFFSETFROM:+0100
TZOFFSETTO:+0200
DTSTART:19810329T020000
RRULE:FREQ=YEARLY;BYMONTH=3;BYDAY=-1SU
END:DAYLIGHT
BEGIN:STANDARD
TZNAME:CET
TZOFFSETFROM:+0200
TZOFFSETTO:+0100
DTSTART:19961027T030000
RRULE:FREQ=YEARLY;BYMONTH=10;BYDAY=-1SU
END:STANDARD
END:VTIMEZONE
BEGIN:VEVENT
DTSTAMP:20260424T135213Z
DTSTART;TZID=Europe/Berlin:20260206T200000
DTEND;TZID=Europe/Berlin:20260206T230000
SUMMARY:O40 4. Liga Gr. 4 Chur III vs Rapperswil-Jona II (0)
UID:d34b81e4-5253-45cc-a6be-9f1e0b7b5c9e
STATUS:CONFIRMED
LAST-MODIFIED:20260209T135511Z
DESCRIPTION:4. Liga O40 Gruppe 4\nBegegnungs-Nr: 0\nHeim: Chur III\nGast: Rapperswil-Jona II\n\nAdresse: Bodmerstrasse 10\, 7000 Chur\n
LOCATION:Bodmerstrasse 10\, 7000 Chur
CATEGORIES:Saison 2025/26
END:VEVENT
BEGIN:VEVENT
DTSTAMP:20260424T135213Z
DTSTART;TZID=Europe/Berlin:20260320T200000
DTEND;TZID=Europe/Berlin:20260320T230000
SUMMARY:O40 4. Liga Gr. 4 Chur III vs Wollerau (0)
UID:529e330a-0be8-405d-a97b-a2c3c1723a99
STATUS:CONFIRMED
LAST-MODIFIED:20260326T155540Z
DESCRIPTION:4. Liga O40 Gruppe 4\nBegegnungs-Nr: 0\nHeim: Chur III\nGast: Wollerau\n\nAdresse: Bodmerstrasse 10\, 7000 Chur\n
LOCATION:Bodmerstrasse 10\, 7000 Chur
CATEGORIES:Saison 2025/26
END:VEVENT
BEGIN:VEVENT
DTSTAMP:20260424T135213Z
DTSTART;TZID=Europe/Berlin:20260220T200000
DTEND;TZID=Europe/Berlin:20260220T230000
SUMMARY:O40 4. Liga Gr. 4 Chur III vs Affoltern A/A III (0)
UID:58ed5f09-ffc1-4538-8513-853207811b56
STATUS:CONFIRMED
LAST-MODIFIED:20260225T112608Z
DESCRIPTION:4. Liga O40 Gruppe 4\nBegegnungs-Nr: 0\nHeim: Chur III\nGast: Affoltern A/A III\n\nAdresse: Bodmerstrasse 10\, 7000 Chur\n
LOCATION:Bodmerstrasse 10\, 7000 Chur
CATEGORIES:Saison 2025/26
END:VEVENT
BEGIN:VEVENT
DTSTAMP:20260424T135213Z
DTSTART;TZID=Europe/Berlin:20251003T200000
DTEND;TZID=Europe/Berlin:20251003T230000
SUMMARY:O40 4. Liga Gr. 4 Chur III vs Thalwil II (0)
UID:0296bc77-f8b2-4ed8-b52b-1723a66625ec
STATUS:CONFIRMED
LAST-MODIFIED:20251007T062348Z
DESCRIPTION:4. Liga O40 Gruppe 4\nBegegnungs-Nr: 0\nHeim: Chur III\nGast: Thalwil II\n\nAdresse: Bodmerstrasse 10\, 7000 Chur\n
LOCATION:Bodmerstrasse 10\, 7000 Chur
CATEGORIES:Saison 2025/26
END:VEVENT
BEGIN:VEVENT
DTSTAMP:20260424T135213Z
DTSTART;TZID=Europe/Berlin:20250822T200000
DTEND;TZID=Europe/Berlin:20250822T230000
SUMMARY:O40 4. Liga Gr. 4 Chur III vs Wädenswil II (0)
UID:b71f393c-6b1f-4ceb-9c58-04cb4b8914f8
STATUS:CONFIRMED
LAST-MODIFIED:20250826T115244Z
DESCRIPTION:4. Liga O40 Gruppe 4\nBegegnungs-Nr: 0\nHeim: Chur III\nGast: Wädenswil II\n\nAdresse: Bodmerstrasse 10\, 7000 Chur\n
LOCATION:Bodmerstrasse 10\, 7000 Chur
CATEGORIES:Saison 2025/26
END:VEVENT
BEGIN:VEVENT
DTSTAMP:20260424T135213Z
DTSTART;TZID=Europe/Berlin:20260115T201500
DTEND;TZID=Europe/Berlin:20260115T231500
SUMMARY:O40 4. Liga Gr. 4 Wädenswil II vs Chur III (0)
UID:98399e55-4d0d-42b4-be9b-28c887df472a
STATUS:CONFIRMED
LAST-MODIFIED:20260116T065202Z
DESCRIPTION:4. Liga O40 Gruppe 4\nBegegnungs-Nr: 0\nHeim: Wädenswil II\nGast: Chur III\n\nAdresse: Speerstrasse 95\, 8820 Wädenswil\n
LOCATION:Speerstrasse 95\, 8820 Wädenswil
CATEGORIES:Saison 2025/26
END:VEVENT
BEGIN:VEVENT
DTSTAMP:20260424T135213Z
DTSTART;TZID=Europe/Berlin:20260226T194500
DTEND;TZID=Europe/Berlin:20260226T224500
SUMMARY:O40 4. Liga Gr. 4 Thalwil II vs Chur III (0)
UID:bb42222e-dd97-48dc-84cc-d6f2e8478067
STATUS:CONFIRMED
LAST-MODIFIED:20260227T155656Z
DESCRIPTION:4. Liga O40 Gruppe 4\nBegegnungs-Nr: 0\nHeim: Thalwil II\nGast: Chur III\n\nAdresse: Langweg 2\, 8942 Oberrieden\n
LOCATION:Langweg 2\, 8942 Oberrieden
CATEGORIES:Saison 2025/26
END:VEVENT
BEGIN:VEVENT
DTSTAMP:20260424T135213Z
DTSTART;TZID=Europe/Berlin:20251117T200000
DTEND;TZID=Europe/Berlin:20251117T230000
SUMMARY:O40 4. Liga Gr. 4 Wollerau vs Chur III (0)
UID:47f0d65d-03af-4d97-97ce-a06b57033de6
STATUS:CONFIRMED
LAST-MODIFIED:20251121T095248Z
DESCRIPTION:4. Liga O40 Gruppe 4\nBegegnungs-Nr: 0\nHeim: Wollerau\nGast: Chur III\n\nAdresse: Erlenstrasse 18\, 8832 Wollerau\n
LOCATION:Erlenstrasse 18\, 8832 Wollerau
CATEGORIES:Saison 2025/26
END:VEVENT
BEGIN:VEVENT
DTSTAMP:20260424T135213Z
DTSTART;TZID=Europe/Berlin:20251128T200000
DTEND;TZID=Europe/Berlin:20251128T230000
SUMMARY:O40 4. Liga Gr. 4 Affoltern A/A III vs Chur III (0)
UID:fabe0892-d647-4c5e-89e5-aab37db79a67
STATUS:CONFIRMED
LAST-MODIFIED:20251205T132112Z
DESCRIPTION:4. Liga O40 Gruppe 4\nBegegnungs-Nr: 0\nHeim: Affoltern A/A III\nGast: Chur III\n\nAdresse: Butzenstr. 2\, 8910 Affoltern am Albis\n
LOCATION:Butzenstr. 2\, 8910 Affoltern am Albis
CATEGORIES:Saison 2025/26
END:VEVENT
BEGIN:VEVENT
DTSTAMP:20260424T135213Z
DTSTART;TZID=Europe/Berlin:20250919T193000
DTEND;TZID=Europe/Berlin:20250919T223000
SUMMARY:O40 4. Liga Gr. 4 Rapperswil-Jona II vs Chur III (0)
UID:2a1d76a2-0b0d-442a-b2a2-27f7f45fabea
STATUS:CONFIRMED
LAST-MODIFIED:20250926T135641Z
DESCRIPTION:4. Liga O40 Gruppe 4\nBegegnungs-Nr: 0\nHeim: Rapperswil-Jona II\nGast: Chur III\n\nAdresse: Kreuzstrasse 43\, 8640 Rapperswil\n
LOCATION:Kreuzstrasse 43\, 8640 Rapperswil
CATEGORIES:Saison 2025/26
END:VEVENT
END:VCALENDAR
