BEGIN:VCALENDAR
PRODID:-//nuDatenautomaten//framework iCal4j //DE
VERSION:2.0
CALSCALE:GREGORIAN
BEGIN:VTIMEZONE
TZID:Europe/Berlin
LAST-MODIFIED:20260306T231828Z
TZURL:https://www.tzurl.org/zoneinfo/Europe/Berlin
X-LIC-LOCATION:Europe/Berlin
X-PROLEPTIC-TZNAME:LMT
BEGIN:STANDARD
TZNAME:CET
TZOFFSETFROM:+005328
TZOFFSETTO:+0100
DTSTART:18930401T000000
END:STANDARD
BEGIN:DAYLIGHT
TZNAME:CEST
TZOFFSETFROM:+0100
TZOFFSETTO:+0200
DTSTART:19160430T230000
RDATE:19400401T020000
RDATE:19430329T020000
RDATE:19460414T020000
RDATE:19470406T030000
RDATE:19480418T020000
RDATE:19490410T020000
RDATE:19800406T020000
END:DAYLIGHT
BEGIN:STANDARD
TZNAME:CET
TZOFFSETFROM:+0200
TZOFFSETTO:+0100
DTSTART:19161001T010000
RDATE:19421102T030000
RDATE:19431004T030000
RDATE:19441002T030000
RDATE:19451118T030000
RDATE:19461007T030000
END:STANDARD
BEGIN:DAYLIGHT
TZNAME:CEST
TZOFFSETFROM:+0100
TZOFFSETTO:+0200
DTSTART:19170416T020000
RRULE:FREQ=YEARLY;UNTIL=19180415T010000Z;BYMONTH=4;BYDAY=3MO
END:DAYLIGHT
BEGIN:STANDARD
TZNAME:CET
TZOFFSETFROM:+0200
TZOFFSETTO:+0100
DTSTART:19170917T030000
RRULE:FREQ=YEARLY;UNTIL=19180916T010000Z;BYMONTH=9;BYDAY=3MO
END:STANDARD
BEGIN:DAYLIGHT
TZNAME:CEST
TZOFFSETFROM:+0100
TZOFFSETTO:+0200
DTSTART:19440403T020000
RRULE:FREQ=YEARLY;UNTIL=19450402T010000Z;BYMONTH=4;BYDAY=1MO
END:DAYLIGHT
BEGIN:DAYLIGHT
TZNAME:CEMT
TZOFFSETFROM:+0200
TZOFFSETTO:+0300
DTSTART:19450524T020000
RDATE:19470511T030000
END:DAYLIGHT
BEGIN:DAYLIGHT
TZNAME:CEST
TZOFFSETFROM:+0300
TZOFFSETTO:+0200
DTSTART:19450924T030000
RDATE:19470629T030000
END:DAYLIGHT
BEGIN:STANDARD
TZNAME:CET
TZOFFSETFROM:+0100
TZOFFSETTO:+0100
DTSTART:19460101T000000
RDATE:19800101T000000
END:STANDARD
BEGIN:STANDARD
TZNAME:CET
TZOFFSETFROM:+0200
TZOFFSETTO:+0100
DTSTART:19471005T030000
RRULE:FREQ=YEARLY;UNTIL=19491002T010000Z;BYMONTH=10;BYDAY=1SU
END:STANDARD
BEGIN:STANDARD
TZNAME:CET
TZOFFSETFROM:+0200
TZOFFSETTO:+0100
DTSTART:19800928T030000
RRULE:FREQ=YEARLY;UNTIL=19950924T010000Z;BYMONTH=9;BYDAY=-1SU
END:STANDARD
BEGIN:DAYLIGHT
TZNAME:CEST
TZOFFSETFROM:+0100
TZOFFSETTO:+0200
DTSTART:19810329T020000
RRULE:FREQ=YEARLY;BYMONTH=3;BYDAY=-1SU
END:DAYLIGHT
BEGIN:STANDARD
TZNAME:CET
TZOFFSETFROM:+0200
TZOFFSETTO:+0100
DTSTART:19961027T030000
RRULE:FREQ=YEARLY;BYMONTH=10;BYDAY=-1SU
END:STANDARD
END:VTIMEZONE
BEGIN:VEVENT
DTSTAMP:20260424T115004Z
DTSTART;TZID=Europe/Berlin:20250905T193000
DTEND;TZID=Europe/Berlin:20250905T223000
SUMMARY:ME L2 Gr 3\, Tours 1&2 Gland vs Romanel (0)
UID:5a59900c-afe5-479d-b779-351a0828e68e
STATUS:CONFIRMED
LAST-MODIFIED:20250906T154303Z
DESCRIPTION:2ème ligue Hommes Groupe 3\, Tours 1&2\nBegegnungs-Nr: 0\nHeim: Gland\nGast: Romanel\n\nAdresse: Chemin de la Perroude 1\, 1196 Gland\n
LOCATION:Chemin de la Perroude 1\, 1196 Gland
CATEGORIES:Saison 2025/26
END:VEVENT
BEGIN:VEVENT
DTSTAMP:20260424T115004Z
DTSTART;TZID=Europe/Berlin:20250919T193000
DTEND;TZID=Europe/Berlin:20250919T223000
SUMMARY:ME L2 Gr 3\, Tours 1&2 Gland vs Forward-Morges III (0)
UID:22e55acc-861d-44ec-831e-04a348b49c09
STATUS:CONFIRMED
LAST-MODIFIED:20250920T101325Z
DESCRIPTION:2ème ligue Hommes Groupe 3\, Tours 1&2\nBegegnungs-Nr: 0\nHeim: Gland\nGast: Forward-Morges III\n\nAdresse: Chemin de la Perroude 1\, 1196 Gland\n
LOCATION:Chemin de la Perroude 1\, 1196 Gland
CATEGORIES:Saison 2025/26
END:VEVENT
BEGIN:VEVENT
DTSTAMP:20260424T115004Z
DTSTART;TZID=Europe/Berlin:20251107T193000
DTEND;TZID=Europe/Berlin:20251107T223000
SUMMARY:ME L2 Gr 3\, Tours 1&2 Gland vs Eysins II (0)
UID:4c81af1f-8012-4efa-8106-054eb07d4f37
STATUS:CONFIRMED
LAST-MODIFIED:20251109T122412Z
DESCRIPTION:2ème ligue Hommes Groupe 3\, Tours 1&2\nBegegnungs-Nr: 0\nHeim: Gland\nGast: Eysins II\n\nAdresse: Chemin de la Perroude 1\, 1196 Gland\n
LOCATION:Chemin de la Perroude 1\, 1196 Gland
CATEGORIES:Saison 2025/26
END:VEVENT
BEGIN:VEVENT
DTSTAMP:20260424T115004Z
DTSTART;TZID=Europe/Berlin:20251128T193000
DTEND;TZID=Europe/Berlin:20251128T223000
SUMMARY:ME L2 Gr 3\, Tours 1&2 Gland vs Eysins (0)
UID:1336ca6d-89a6-4db9-aa14-b6fa5e80d59e
STATUS:CONFIRMED
LAST-MODIFIED:20251129T115801Z
DESCRIPTION:2ème ligue Hommes Groupe 3\, Tours 1&2\nBegegnungs-Nr: 0\nHeim: Gland\nGast: Eysins\n\nAdresse: Chemin de la Perroude 1\, 1196 Gland\n
LOCATION:Chemin de la Perroude 1\, 1196 Gland
CATEGORIES:Saison 2025/26
END:VEVENT
BEGIN:VEVENT
DTSTAMP:20260424T115004Z
DTSTART;TZID=Europe/Berlin:20251114T193000
DTEND;TZID=Europe/Berlin:20251114T223000
SUMMARY:ME L2 Gr 3\, Tours 1&2 Gland vs Lausanne III (0)
UID:30614d5e-a874-46e5-ac04-ccb37fec0909
STATUS:CONFIRMED
LAST-MODIFIED:20251115T132434Z
DESCRIPTION:2ème ligue Hommes Groupe 3\, Tours 1&2\nBegegnungs-Nr: 0\nHeim: Gland\nGast: Lausanne III\n\nAdresse: Chemin de la Perroude 1\, 1196 Gland\n
LOCATION:Chemin de la Perroude 1\, 1196 Gland
CATEGORIES:Saison 2025/26
END:VEVENT
BEGIN:VEVENT
DTSTAMP:20260424T115004Z
DTSTART;TZID=Europe/Berlin:20260123T193000
DTEND;TZID=Europe/Berlin:20260123T223000
SUMMARY:ME L1 Gr 1\, Tours 3&4 Gland vs Crissier (0)
UID:4fa3b9f8-680b-4a14-9566-d757cb0b750c
STATUS:CONFIRMED
LAST-MODIFIED:20260124T154015Z
DESCRIPTION:1ère ligue Hommes Groupe 1\, Tours 3&4\nBegegnungs-Nr: 0\nHeim: Gland\nGast: Crissier\n\nAdresse: Chemin de la Perroude 1\, 1196 Gland\n
LOCATION:Chemin de la Perroude 1\, 1196 Gland
CATEGORIES:Saison 2025/26
END:VEVENT
BEGIN:VEVENT
DTSTAMP:20260424T115004Z
DTSTART;TZID=Europe/Berlin:20260220T193000
DTEND;TZID=Europe/Berlin:20260220T223000
SUMMARY:ME L1 Gr 1\, Tours 3&4 Gland vs Lausanne II (0)
UID:b6bcbb0f-d36c-468d-9c07-779aca7ce2d7
STATUS:CONFIRMED
LAST-MODIFIED:20260222T210841Z
DESCRIPTION:1ère ligue Hommes Groupe 1\, Tours 3&4\nBegegnungs-Nr: 0\nHeim: Gland\nGast: Lausanne II\n\nAdresse: Chemin de la Perroude 1\, 1196 Gland\n
LOCATION:Chemin de la Perroude 1\, 1196 Gland
CATEGORIES:Saison 2025/26
END:VEVENT
BEGIN:VEVENT
DTSTAMP:20260424T115004Z
DTSTART;TZID=Europe/Berlin:20260228T180000
DTEND;TZID=Europe/Berlin:20260228T210000
SUMMARY:ME L1 Gr 1\, Tours 3&4 Gland vs Bulle II (0)
UID:1fdaef00-123d-4bef-8c2d-c8b04c3fbd30
STATUS:CONFIRMED
LAST-MODIFIED:20260301T134912Z
DESCRIPTION:1ère ligue Hommes Groupe 1\, Tours 3&4\nBegegnungs-Nr: 0\nHeim: Gland\nGast: Bulle II\n\nAdresse: Chemin de la Perroude 1\, 1196 Gland\n
LOCATION:Chemin de la Perroude 1\, 1196 Gland
CATEGORIES:Saison 2025/26
END:VEVENT
BEGIN:VEVENT
DTSTAMP:20260424T115004Z
DTSTART;TZID=Europe/Berlin:20260313T193000
DTEND;TZID=Europe/Berlin:20260313T223000
SUMMARY:ME L1 Gr 1\, Tours 3&4 Gland vs Collombey/Muraz (0)
UID:dfb2b819-a161-4c2c-b05e-768fe6e9a693
STATUS:CONFIRMED
LAST-MODIFIED:20260314T163325Z
DESCRIPTION:1ère ligue Hommes Groupe 1\, Tours 3&4\nBegegnungs-Nr: 0\nHeim: Gland\nGast: Collombey/Muraz\n\nAdresse: Chemin de la Perroude 1\, 1196 Gland\n
LOCATION:Chemin de la Perroude 1\, 1196 Gland
CATEGORIES:Saison 2025/26
END:VEVENT
BEGIN:VEVENT
DTSTAMP:20260424T115004Z
DTSTART;TZID=Europe/Berlin:20260403T193000
DTEND;TZID=Europe/Berlin:20260403T223000
SUMMARY:ME L1 Gr 1\, Tours 3&4 Gland vs Sierre III (0)
UID:a980e1dc-94f0-497a-92e3-bd4b0a88ae33
STATUS:CONFIRMED
LAST-MODIFIED:20260407T130213Z
DESCRIPTION:1ère ligue Hommes Groupe 1\, Tours 3&4\nBegegnungs-Nr: 0\nHeim: Gland\nGast: Sierre III\n\nAdresse: Chemin de la Perroude 1\, 1196 Gland\n
LOCATION:Chemin de la Perroude 1\, 1196 Gland
CATEGORIES:Saison 2025/26
END:VEVENT
BEGIN:VEVENT
DTSTAMP:20260424T115004Z
DTSTART;TZID=Europe/Berlin:20250910T200000
DTEND;TZID=Europe/Berlin:20250910T230000
SUMMARY:ME L2 Gr 3\, Tours 1&2 Eysins II vs Gland (0)
UID:98c8ecb4-75f3-4101-ba2c-c0cbe8168f6a
STATUS:CONFIRMED
LAST-MODIFIED:20250913T130000Z
DESCRIPTION:2ème ligue Hommes Groupe 3\, Tours 1&2\nBegegnungs-Nr: 0\nHeim: Eysins II\nGast: Gland\n\nAdresse: En Bellossiez 1\, 1262 Eysins\n
LOCATION:En Bellossiez 1\, 1262 Eysins
CATEGORIES:Saison 2025/26
END:VEVENT
BEGIN:VEVENT
DTSTAMP:20260424T115004Z
DTSTART;TZID=Europe/Berlin:20251009T201500
DTEND;TZID=Europe/Berlin:20251009T231500
SUMMARY:ME L2 Gr 3\, Tours 1&2 Eysins vs Gland (0)
UID:4bd65d18-5ebf-4f17-81f7-16cdc00531ca
STATUS:CONFIRMED
LAST-MODIFIED:20251012T123559Z
DESCRIPTION:2ème ligue Hommes Groupe 3\, Tours 1&2\nBegegnungs-Nr: 0\nHeim: Eysins\nGast: Gland\n\nAdresse: En Bellossiez 1\, 1262 Eysins\n
LOCATION:En Bellossiez 1\, 1262 Eysins
CATEGORIES:Saison 2025/26
END:VEVENT
BEGIN:VEVENT
DTSTAMP:20260424T115004Z
DTSTART;TZID=Europe/Berlin:20251006T200000
DTEND;TZID=Europe/Berlin:20251006T230000
SUMMARY:ME L2 Gr 3\, Tours 1&2 Lausanne III vs Gland (0)
UID:50481a4d-8c86-4b4e-b952-634b62191486
STATUS:CONFIRMED
LAST-MODIFIED:20251007T221902Z
DESCRIPTION:2ème ligue Hommes Groupe 3\, Tours 1&2\nBegegnungs-Nr: 0\nHeim: Lausanne III\nGast: Gland\n\nAdresse: Vaudoise Aréna\, Ch. du Viaduc 14\, 1008 Prilly\n
LOCATION:Vaudoise Aréna\, Ch. du Viaduc 14\, 1008 Prilly
CATEGORIES:Saison 2025/26
END:VEVENT
BEGIN:VEVENT
DTSTAMP:20260424T115004Z
DTSTART;TZID=Europe/Berlin:20251029T193000
DTEND;TZID=Europe/Berlin:20251029T223000
SUMMARY:ME L2 Gr 3\, Tours 1&2 Romanel vs Gland (0)
UID:283ff6e6-ee22-4065-8c3b-358883ae5582
STATUS:CONFIRMED
LAST-MODIFIED:20251101T153822Z
DESCRIPTION:2ème ligue Hommes Groupe 3\, Tours 1&2\nBegegnungs-Nr: 0\nHeim: Romanel\nGast: Gland\n\nAdresse: Ch des Epinettes 1\, 1032 Romanel-sur-Lausanne\n
LOCATION:Ch des Epinettes 1\, 1032 Romanel-sur-Lausanne
CATEGORIES:Saison 2025/26
END:VEVENT
BEGIN:VEVENT
DTSTAMP:20260424T115004Z
DTSTART;TZID=Europe/Berlin:20251119T194500
DTEND;TZID=Europe/Berlin:20251119T224500
SUMMARY:ME L2 Gr 3\, Tours 1&2 Forward-Morges III vs Gland (0)
UID:2bd57b20-cc20-490f-973e-3ee60d5d69e2
STATUS:CONFIRMED
LAST-MODIFIED:20251125T150501Z
DESCRIPTION:2ème ligue Hommes Groupe 3\, Tours 1&2\nBegegnungs-Nr: 0\nHeim: Forward-Morges III\nGast: Gland\n\nAdresse: Chemin de Tolochenaz\, 1110 Morges\n
LOCATION:Chemin de Tolochenaz\, 1110 Morges
CATEGORIES:Saison 2025/26
END:VEVENT
BEGIN:VEVENT
DTSTAMP:20260424T115004Z
DTSTART;TZID=Europe/Berlin:20260201T170000
DTEND;TZID=Europe/Berlin:20260201T200000
SUMMARY:ME L1 Gr 1\, Tours 3&4 Collombey/Muraz vs Gland (0)
UID:d0fca44c-ea7e-47ec-a191-e6d191c41825
STATUS:CONFIRMED
LAST-MODIFIED:20260202T201930Z
DESCRIPTION:1ère ligue Hommes Groupe 1\, Tours 3&4\nBegegnungs-Nr: 0\nHeim: Collombey/Muraz\nGast: Gland\n\nAdresse: Route du Montagnier 81\, 1868 Collombey\n
LOCATION:Route du Montagnier 81\, 1868 Collombey
CATEGORIES:Saison 2025/26
END:VEVENT
BEGIN:VEVENT
DTSTAMP:20260424T115004Z
DTSTART;TZID=Europe/Berlin:20260209T194500
DTEND;TZID=Europe/Berlin:20260209T224500
SUMMARY:ME L1 Gr 1\, Tours 3&4 Sierre III vs Gland (0)
UID:a551eda5-3006-496b-a6bd-d6d4c2acf9de
STATUS:CONFIRMED
LAST-MODIFIED:20260210T011023Z
DESCRIPTION:1ère ligue Hommes Groupe 1\, Tours 3&4\nBegegnungs-Nr: 0\nHeim: Sierre III\nGast: Gland\n\nAdresse: Rte des Liddes 6\, 3960 Sierre\n
LOCATION:Rte des Liddes 6\, 3960 Sierre
CATEGORIES:Saison 2025/26
END:VEVENT
BEGIN:VEVENT
DTSTAMP:20260424T115004Z
DTSTART;TZID=Europe/Berlin:20260306T193000
DTEND;TZID=Europe/Berlin:20260306T223000
SUMMARY:ME L1 Gr 1\, Tours 3&4 Crissier vs Gland (0)
UID:8a55097c-4244-48a3-b72e-82bb138e2a02
STATUS:CONFIRMED
LAST-MODIFIED:20260307T193440Z
DESCRIPTION:1ère ligue Hommes Groupe 1\, Tours 3&4\nBegegnungs-Nr: 0\nHeim: Crissier\nGast: Gland\n\nAdresse: ch. des Oches du Mur\, 1023 Crissier\n
LOCATION:ch. des Oches du Mur\, 1023 Crissier
CATEGORIES:Saison 2025/26
END:VEVENT
BEGIN:VEVENT
DTSTAMP:20260424T115004Z
DTSTART;TZID=Europe/Berlin:20260321T160000
DTEND;TZID=Europe/Berlin:20260321T190000
SUMMARY:ME L1 Gr 1\, Tours 3&4 Lausanne II vs Gland (0)
UID:79f0c0f6-1acd-4b3d-b3ef-a3b2d24d1b65
STATUS:CONFIRMED
LAST-MODIFIED:20260325T093120Z
DESCRIPTION:1ère ligue Hommes Groupe 1\, Tours 3&4\nBegegnungs-Nr: 0\nHeim: Lausanne II\nGast: Gland\n\nAdresse: Vaudoise Aréna\, Ch. du Viaduc 14\, 1008 Prilly\n
LOCATION:Vaudoise Aréna\, Ch. du Viaduc 14\, 1008 Prilly
CATEGORIES:Saison 2025/26
END:VEVENT
BEGIN:VEVENT
DTSTAMP:20260424T115004Z
DTSTART;TZID=Europe/Berlin:20260118T140000
DTEND;TZID=Europe/Berlin:20260118T170000
SUMMARY:ME L1 Gr 1\, Tours 3&4 Bulle II vs Gland (0)
UID:47b8da7a-4efb-41c3-ab26-2ccdc0d6159c
STATUS:CONFIRMED
LAST-MODIFIED:20260119T172058Z
DESCRIPTION:1ère ligue Hommes Groupe 1\, Tours 3&4\nBegegnungs-Nr: 0\nHeim: Bulle II\nGast: Gland\n\nAdresse: Rue du Stade 50\, 1630 Bulle\n
LOCATION:Rue du Stade 50\, 1630 Bulle
CATEGORIES:Saison 2025/26
END:VEVENT
END:VCALENDAR
