BEGIN:VCALENDAR
PRODID:-//nuDatenautomaten//framework iCal4j //DE
VERSION:2.0
CALSCALE:GREGORIAN
BEGIN:VTIMEZONE
TZID:Europe/Berlin
LAST-MODIFIED:20260306T231828Z
TZURL:https://www.tzurl.org/zoneinfo/Europe/Berlin
X-LIC-LOCATION:Europe/Berlin
X-PROLEPTIC-TZNAME:LMT
BEGIN:STANDARD
TZNAME:CET
TZOFFSETFROM:+005328
TZOFFSETTO:+0100
DTSTART:18930401T000000
END:STANDARD
BEGIN:DAYLIGHT
TZNAME:CEST
TZOFFSETFROM:+0100
TZOFFSETTO:+0200
DTSTART:19160430T230000
RDATE:19400401T020000
RDATE:19430329T020000
RDATE:19460414T020000
RDATE:19470406T030000
RDATE:19480418T020000
RDATE:19490410T020000
RDATE:19800406T020000
END:DAYLIGHT
BEGIN:STANDARD
TZNAME:CET
TZOFFSETFROM:+0200
TZOFFSETTO:+0100
DTSTART:19161001T010000
RDATE:19421102T030000
RDATE:19431004T030000
RDATE:19441002T030000
RDATE:19451118T030000
RDATE:19461007T030000
END:STANDARD
BEGIN:DAYLIGHT
TZNAME:CEST
TZOFFSETFROM:+0100
TZOFFSETTO:+0200
DTSTART:19170416T020000
RRULE:FREQ=YEARLY;UNTIL=19180415T010000Z;BYMONTH=4;BYDAY=3MO
END:DAYLIGHT
BEGIN:STANDARD
TZNAME:CET
TZOFFSETFROM:+0200
TZOFFSETTO:+0100
DTSTART:19170917T030000
RRULE:FREQ=YEARLY;UNTIL=19180916T010000Z;BYMONTH=9;BYDAY=3MO
END:STANDARD
BEGIN:DAYLIGHT
TZNAME:CEST
TZOFFSETFROM:+0100
TZOFFSETTO:+0200
DTSTART:19440403T020000
RRULE:FREQ=YEARLY;UNTIL=19450402T010000Z;BYMONTH=4;BYDAY=1MO
END:DAYLIGHT
BEGIN:DAYLIGHT
TZNAME:CEMT
TZOFFSETFROM:+0200
TZOFFSETTO:+0300
DTSTART:19450524T020000
RDATE:19470511T030000
END:DAYLIGHT
BEGIN:DAYLIGHT
TZNAME:CEST
TZOFFSETFROM:+0300
TZOFFSETTO:+0200
DTSTART:19450924T030000
RDATE:19470629T030000
END:DAYLIGHT
BEGIN:STANDARD
TZNAME:CET
TZOFFSETFROM:+0100
TZOFFSETTO:+0100
DTSTART:19460101T000000
RDATE:19800101T000000
END:STANDARD
BEGIN:STANDARD
TZNAME:CET
TZOFFSETFROM:+0200
TZOFFSETTO:+0100
DTSTART:19471005T030000
RRULE:FREQ=YEARLY;UNTIL=19491002T010000Z;BYMONTH=10;BYDAY=1SU
END:STANDARD
BEGIN:STANDARD
TZNAME:CET
TZOFFSETFROM:+0200
TZOFFSETTO:+0100
DTSTART:19800928T030000
RRULE:FREQ=YEARLY;UNTIL=19950924T010000Z;BYMONTH=9;BYDAY=-1SU
END:STANDARD
BEGIN:DAYLIGHT
TZNAME:CEST
TZOFFSETFROM:+0100
TZOFFSETTO:+0200
DTSTART:19810329T020000
RRULE:FREQ=YEARLY;BYMONTH=3;BYDAY=-1SU
END:DAYLIGHT
BEGIN:STANDARD
TZNAME:CET
TZOFFSETFROM:+0200
TZOFFSETTO:+0100
DTSTART:19961027T030000
RRULE:FREQ=YEARLY;BYMONTH=10;BYDAY=-1SU
END:STANDARD
END:VTIMEZONE
BEGIN:VEVENT
DTSTAMP:20260423T224751Z
DTSTART;TZID=Europe/Berlin:20251217T194500
DTEND;TZID=Europe/Berlin:20251217T224500
SUMMARY:He 3. Liga Gr. 3 Hergiswil vs Schenkon IV (0)
UID:0f45b046-c4b1-441a-88bf-2da24912d0d9
STATUS:CONFIRMED
LAST-MODIFIED:20260106T171013Z
DESCRIPTION:3. Liga Herren Gruppe 3\nBegegnungs-Nr: 0\nHeim: Hergiswil\nGast: Schenkon IV\n\nAdresse: Grossmatt 5\, 6052 Hergiswil NW\n
LOCATION:Grossmatt 5\, 6052 Hergiswil NW
CATEGORIES:Saison 2025/26
END:VEVENT
BEGIN:VEVENT
DTSTAMP:20260423T224751Z
DTSTART;TZID=Europe/Berlin:20251022T194500
DTEND;TZID=Europe/Berlin:20251022T224500
SUMMARY:He 3. Liga Gr. 3 Hergiswil vs Goldau III (0)
UID:10f28b46-2043-4008-b66b-27226e4bb979
STATUS:CONFIRMED
LAST-MODIFIED:20251101T110328Z
DESCRIPTION:3. Liga Herren Gruppe 3\nBegegnungs-Nr: 0\nHeim: Hergiswil\nGast: Goldau III\n\nAdresse: Grossmatt 5\, 6052 Hergiswil NW\n
LOCATION:Grossmatt 5\, 6052 Hergiswil NW
CATEGORIES:Saison 2025/26
END:VEVENT
BEGIN:VEVENT
DTSTAMP:20260423T224751Z
DTSTART;TZID=Europe/Berlin:20251105T194500
DTEND;TZID=Europe/Berlin:20251105T224500
SUMMARY:He 3. Liga Gr. 3 Hergiswil vs Reussbühl II (0)
UID:75090852-0176-4ed5-80f5-b65286f3d8fb
STATUS:CONFIRMED
LAST-MODIFIED:20251125T134545Z
DESCRIPTION:3. Liga Herren Gruppe 3\nBegegnungs-Nr: 0\nHeim: Hergiswil\nGast: Reussbühl II\n\nAdresse: Grossmatt 5\, 6052 Hergiswil NW\n
LOCATION:Grossmatt 5\, 6052 Hergiswil NW
CATEGORIES:Saison 2025/26
END:VEVENT
BEGIN:VEVENT
DTSTAMP:20260423T224751Z
DTSTART;TZID=Europe/Berlin:20260121T194500
DTEND;TZID=Europe/Berlin:20260121T224500
SUMMARY:He 3. Liga Gr. 3 Hergiswil vs Dierikon-Ebikon IV (0)
UID:7d1b2e6f-7805-4d6a-a44b-d415eda82b62
STATUS:CONFIRMED
LAST-MODIFIED:20260122T191441Z
DESCRIPTION:3. Liga Herren Gruppe 3\nBegegnungs-Nr: 0\nHeim: Hergiswil\nGast: Dierikon-Ebikon IV\n\nAdresse: Grossmatt 5\, 6052 Hergiswil NW\n
LOCATION:Grossmatt 5\, 6052 Hergiswil NW
CATEGORIES:Saison 2025/26
END:VEVENT
BEGIN:VEVENT
DTSTAMP:20260423T224751Z
DTSTART;TZID=Europe/Berlin:20250903T194500
DTEND;TZID=Europe/Berlin:20250903T224500
SUMMARY:He 3. Liga Gr. 3 Hergiswil vs Rothenburg (0)
UID:779d5525-85fe-467c-a227-a362c3cdf02b
STATUS:CONFIRMED
LAST-MODIFIED:20250907T155704Z
DESCRIPTION:3. Liga Herren Gruppe 3\nBegegnungs-Nr: 0\nHeim: Hergiswil\nGast: Rothenburg\n\nAdresse: Grossmatt 5\, 6052 Hergiswil NW\n
LOCATION:Grossmatt 5\, 6052 Hergiswil NW
CATEGORIES:Saison 2025/26
END:VEVENT
BEGIN:VEVENT
DTSTAMP:20260423T224751Z
DTSTART;TZID=Europe/Berlin:20251126T194500
DTEND;TZID=Europe/Berlin:20251126T224500
SUMMARY:He 3. Liga Gr. 3 Hergiswil vs Kriens V (0)
UID:9d0e9e5c-0e1b-48a2-9b56-c76509866adb
STATUS:CONFIRMED
LAST-MODIFIED:20251205T123720Z
DESCRIPTION:3. Liga Herren Gruppe 3\nBegegnungs-Nr: 0\nHeim: Hergiswil\nGast: Kriens V\n\nAdresse: Grossmatt 5\, 6052 Hergiswil NW\n
LOCATION:Grossmatt 5\, 6052 Hergiswil NW
CATEGORIES:Saison 2025/26
END:VEVENT
BEGIN:VEVENT
DTSTAMP:20260423T224751Z
DTSTART;TZID=Europe/Berlin:20260115T200000
DTEND;TZID=Europe/Berlin:20260115T230000
SUMMARY:He 3. Liga Gr. 3 Goldau III vs Hergiswil (0)
UID:a5044d22-87b4-4d91-acd0-1af02d93fe08
STATUS:CONFIRMED
LAST-MODIFIED:20260122T191405Z
DESCRIPTION:3. Liga Herren Gruppe 3\nBegegnungs-Nr: 0\nHeim: Goldau III\nGast: Hergiswil\n\nAdresse: Zaystrasse\, 6410 Goldau\n
LOCATION:Zaystrasse\, 6410 Goldau
CATEGORIES:Saison 2025/26
END:VEVENT
BEGIN:VEVENT
DTSTAMP:20260423T224751Z
DTSTART;TZID=Europe/Berlin:20260128T200000
DTEND;TZID=Europe/Berlin:20260128T230000
SUMMARY:He 3. Liga Gr. 3 Reussbühl II vs Hergiswil (0)
UID:6d72894e-8730-40c7-8d7e-419a9862fe5d
STATUS:CONFIRMED
LAST-MODIFIED:20260205T132925Z
DESCRIPTION:3. Liga Herren Gruppe 3\nBegegnungs-Nr: 0\nHeim: Reussbühl II\nGast: Hergiswil\n\nAdresse: Obermättlistrasse 44\, 6015 Luzern\n
LOCATION:Obermättlistrasse 44\, 6015 Luzern
CATEGORIES:Saison 2025/26
END:VEVENT
BEGIN:VEVENT
DTSTAMP:20260423T224751Z
DTSTART;TZID=Europe/Berlin:20251209T200000
DTEND;TZID=Europe/Berlin:20251209T230000
SUMMARY:He 3. Liga Gr. 3 Rothenburg vs Hergiswil (0)
UID:e3f8b20a-8993-4ce8-839f-b67a61c86ed0
STATUS:CONFIRMED
LAST-MODIFIED:20260106T170946Z
DESCRIPTION:3. Liga Herren Gruppe 3\nBegegnungs-Nr: 0\nHeim: Rothenburg\nGast: Hergiswil\n\nAdresse: Schulhausstrasse 6a\, 6023 Rothenburg\n
LOCATION:Schulhausstrasse 6a\, 6023 Rothenburg
CATEGORIES:Saison 2025/26
END:VEVENT
BEGIN:VEVENT
DTSTAMP:20260423T224751Z
DTSTART;TZID=Europe/Berlin:20250825T200000
DTEND;TZID=Europe/Berlin:20250825T230000
SUMMARY:He 3. Liga Gr. 3 Kriens V vs Hergiswil (0)
UID:1379275d-4305-44de-a8c1-9cba9a8228b1
STATUS:CONFIRMED
LAST-MODIFIED:20250831T092239Z
DESCRIPTION:3. Liga Herren Gruppe 3\nBegegnungs-Nr: 0\nHeim: Kriens V\nGast: Hergiswil\n\nAdresse: Krauerstrasse 1\, 6010 Kriens\n
LOCATION:Krauerstrasse 1\, 6010 Kriens
CATEGORIES:Saison 2025/26
END:VEVENT
BEGIN:VEVENT
DTSTAMP:20260423T224751Z
DTSTART;TZID=Europe/Berlin:20250919T201500
DTEND;TZID=Europe/Berlin:20250919T231500
SUMMARY:He 3. Liga Gr. 3 Schenkon IV vs Hergiswil (0)
UID:bec35245-7a51-4458-8ace-eb38259dc46f
STATUS:CONFIRMED
LAST-MODIFIED:20250930T053106Z
DESCRIPTION:3. Liga Herren Gruppe 3\nBegegnungs-Nr: 0\nHeim: Schenkon IV\nGast: Hergiswil\n6214 Schenkon\n
LOCATION:6214 Schenkon
CATEGORIES:Saison 2025/26
END:VEVENT
BEGIN:VEVENT
DTSTAMP:20260423T224751Z
DTSTART;TZID=Europe/Berlin:20260302T200000
DTEND;TZID=Europe/Berlin:20260302T230000
SUMMARY:He 3. Liga Gr. 3 Dierikon-Ebikon IV vs Hergiswil (0)
UID:ac6298fb-02dd-48d9-a5d2-7db9225b7e1b
STATUS:CONFIRMED
LAST-MODIFIED:20260308T182604Z
DESCRIPTION:3. Liga Herren Gruppe 3\nBegegnungs-Nr: 0\nHeim: Dierikon-Ebikon IV\nGast: Hergiswil\n\nAdresse: Rankstrasse\, 6030 Ebikon\n
LOCATION:Rankstrasse\, 6030 Ebikon
CATEGORIES:Saison 2025/26
END:VEVENT
END:VCALENDAR
