BEGIN:VCALENDAR
PRODID:-//nuDatenautomaten//framework iCal4j //DE
VERSION:2.0
CALSCALE:GREGORIAN
BEGIN:VTIMEZONE
TZID:Europe/Berlin
LAST-MODIFIED:20260306T231828Z
TZURL:https://www.tzurl.org/zoneinfo/Europe/Berlin
X-LIC-LOCATION:Europe/Berlin
X-PROLEPTIC-TZNAME:LMT
BEGIN:STANDARD
TZNAME:CET
TZOFFSETFROM:+005328
TZOFFSETTO:+0100
DTSTART:18930401T000000
END:STANDARD
BEGIN:DAYLIGHT
TZNAME:CEST
TZOFFSETFROM:+0100
TZOFFSETTO:+0200
DTSTART:19160430T230000
RDATE:19400401T020000
RDATE:19430329T020000
RDATE:19460414T020000
RDATE:19470406T030000
RDATE:19480418T020000
RDATE:19490410T020000
RDATE:19800406T020000
END:DAYLIGHT
BEGIN:STANDARD
TZNAME:CET
TZOFFSETFROM:+0200
TZOFFSETTO:+0100
DTSTART:19161001T010000
RDATE:19421102T030000
RDATE:19431004T030000
RDATE:19441002T030000
RDATE:19451118T030000
RDATE:19461007T030000
END:STANDARD
BEGIN:DAYLIGHT
TZNAME:CEST
TZOFFSETFROM:+0100
TZOFFSETTO:+0200
DTSTART:19170416T020000
RRULE:FREQ=YEARLY;UNTIL=19180415T010000Z;BYMONTH=4;BYDAY=3MO
END:DAYLIGHT
BEGIN:STANDARD
TZNAME:CET
TZOFFSETFROM:+0200
TZOFFSETTO:+0100
DTSTART:19170917T030000
RRULE:FREQ=YEARLY;UNTIL=19180916T010000Z;BYMONTH=9;BYDAY=3MO
END:STANDARD
BEGIN:DAYLIGHT
TZNAME:CEST
TZOFFSETFROM:+0100
TZOFFSETTO:+0200
DTSTART:19440403T020000
RRULE:FREQ=YEARLY;UNTIL=19450402T010000Z;BYMONTH=4;BYDAY=1MO
END:DAYLIGHT
BEGIN:DAYLIGHT
TZNAME:CEMT
TZOFFSETFROM:+0200
TZOFFSETTO:+0300
DTSTART:19450524T020000
RDATE:19470511T030000
END:DAYLIGHT
BEGIN:DAYLIGHT
TZNAME:CEST
TZOFFSETFROM:+0300
TZOFFSETTO:+0200
DTSTART:19450924T030000
RDATE:19470629T030000
END:DAYLIGHT
BEGIN:STANDARD
TZNAME:CET
TZOFFSETFROM:+0100
TZOFFSETTO:+0100
DTSTART:19460101T000000
RDATE:19800101T000000
END:STANDARD
BEGIN:STANDARD
TZNAME:CET
TZOFFSETFROM:+0200
TZOFFSETTO:+0100
DTSTART:19471005T030000
RRULE:FREQ=YEARLY;UNTIL=19491002T010000Z;BYMONTH=10;BYDAY=1SU
END:STANDARD
BEGIN:STANDARD
TZNAME:CET
TZOFFSETFROM:+0200
TZOFFSETTO:+0100
DTSTART:19800928T030000
RRULE:FREQ=YEARLY;UNTIL=19950924T010000Z;BYMONTH=9;BYDAY=-1SU
END:STANDARD
BEGIN:DAYLIGHT
TZNAME:CEST
TZOFFSETFROM:+0100
TZOFFSETTO:+0200
DTSTART:19810329T020000
RRULE:FREQ=YEARLY;BYMONTH=3;BYDAY=-1SU
END:DAYLIGHT
BEGIN:STANDARD
TZNAME:CET
TZOFFSETFROM:+0200
TZOFFSETTO:+0100
DTSTART:19961027T030000
RRULE:FREQ=YEARLY;BYMONTH=10;BYDAY=-1SU
END:STANDARD
END:VTIMEZONE
BEGIN:VEVENT
DTSTAMP:20260424T151759Z
DTSTART;TZID=Europe/Berlin:20251108T140000
DTEND;TZID=Europe/Berlin:20251108T170000
SUMMARY:HE 2. Liga Gr. 1 Muolen II vs Toggenburg (0)
UID:117bcb4d-a60c-46d4-a5be-11f01c5fb4ad
STATUS:CONFIRMED
LAST-MODIFIED:20251114T141746Z
DESCRIPTION:2. Liga Herren Gruppe 1\nBegegnungs-Nr: 0\nHeim: Muolen II\nGast: Toggenburg\n\nAdresse: Dorfstrasse 31\, 9313 Muolen\n
LOCATION:Dorfstrasse 31\, 9313 Muolen
CATEGORIES:Saison 2025/26
END:VEVENT
BEGIN:VEVENT
DTSTAMP:20260424T151759Z
DTSTART;TZID=Europe/Berlin:20260207T100000
DTEND;TZID=Europe/Berlin:20260207T130000
SUMMARY:HE 2. Liga Gr. 1 Muolen II vs Gaiserwald (0)
UID:0aae381b-e810-4e9b-ab6c-9fc150b97021
STATUS:CONFIRMED
LAST-MODIFIED:20260209T132126Z
DESCRIPTION:2. Liga Herren Gruppe 1\nBegegnungs-Nr: 0\nHeim: Muolen II\nGast: Gaiserwald\n\nAdresse: Dorfstrasse 31\, 9313 Muolen\n
LOCATION:Dorfstrasse 31\, 9313 Muolen
CATEGORIES:Saison 2025/26
END:VEVENT
BEGIN:VEVENT
DTSTAMP:20260424T151759Z
DTSTART;TZID=Europe/Berlin:20260307T100000
DTEND;TZID=Europe/Berlin:20260307T130000
SUMMARY:HE 2. Liga Gr. 1 Muolen II vs Neuhausen III (0)
UID:37133442-6995-421a-9b46-edc0dec93424
STATUS:CONFIRMED
LAST-MODIFIED:20260310T153319Z
DESCRIPTION:2. Liga Herren Gruppe 1\nBegegnungs-Nr: 0\nHeim: Muolen II\nGast: Neuhausen III\n\nAdresse: Dorfstrasse 31\, 9313 Muolen\n
LOCATION:Dorfstrasse 31\, 9313 Muolen
CATEGORIES:Saison 2025/26
END:VEVENT
BEGIN:VEVENT
DTSTAMP:20260424T151759Z
DTSTART;TZID=Europe/Berlin:20260314T100000
DTEND;TZID=Europe/Berlin:20260314T130000
SUMMARY:HE 2. Liga Gr. 1 Muolen II vs Zürich-Affoltern IV (0)
UID:6e040dae-fb23-456b-9d1c-9096f023daa8
STATUS:CONFIRMED
LAST-MODIFIED:20260316T135736Z
DESCRIPTION:2. Liga Herren Gruppe 1\nBegegnungs-Nr: 0\nHeim: Muolen II\nGast: Zürich-Affoltern IV\n\nAdresse: Dorfstrasse 31\, 9313 Muolen\n
LOCATION:Dorfstrasse 31\, 9313 Muolen
CATEGORIES:Saison 2025/26
END:VEVENT
BEGIN:VEVENT
DTSTAMP:20260424T151759Z
DTSTART;TZID=Europe/Berlin:20260418T100000
DTEND;TZID=Europe/Berlin:20260418T130000
SUMMARY:HE 2. Liga Gr. 1 Muolen II vs Winterthur (0)
UID:7d29729d-e659-435f-a6a9-0d550d0f9e71
STATUS:CONFIRMED
LAST-MODIFIED:20260420T115204Z
DESCRIPTION:2. Liga Herren Gruppe 1\nBegegnungs-Nr: 0\nHeim: Muolen II\nGast: Winterthur\n\nAdresse: Dorfstrasse 31\, 9313 Muolen\n
LOCATION:Dorfstrasse 31\, 9313 Muolen
CATEGORIES:Saison 2025/26
END:VEVENT
BEGIN:VEVENT
DTSTAMP:20260424T151759Z
DTSTART;TZID=Europe/Berlin:20250830T100000
DTEND;TZID=Europe/Berlin:20250830T130000
SUMMARY:HE 2. Liga Gr. 1 Muolen II vs Bronschhofen (0)
UID:6913dd8d-1a67-4799-952f-13ea4b3ff0fb
STATUS:CONFIRMED
LAST-MODIFIED:20250902T090731Z
DESCRIPTION:2. Liga Herren Gruppe 1\nBegegnungs-Nr: 0\nHeim: Muolen II\nGast: Bronschhofen\n\nAdresse: Dorfstrasse 31\, 9313 Muolen\n
LOCATION:Dorfstrasse 31\, 9313 Muolen
CATEGORIES:Saison 2025/26
END:VEVENT
BEGIN:VEVENT
DTSTAMP:20260424T151759Z
DTSTART;TZID=Europe/Berlin:20251001T200000
DTEND;TZID=Europe/Berlin:20251001T230000
SUMMARY:HE 2. Liga Gr. 1 Muolen II vs Romanshorn (0)
UID:fc4246f7-ba0e-47ba-91ff-1006d9eee1ce
STATUS:CONFIRMED
LAST-MODIFIED:20251003T064355Z
DESCRIPTION:2. Liga Herren Gruppe 1\nBegegnungs-Nr: 0\nHeim: Muolen II\nGast: Romanshorn\n\nAdresse: Dorfstrasse 31\, 9313 Muolen\n
LOCATION:Dorfstrasse 31\, 9313 Muolen
CATEGORIES:Saison 2025/26
END:VEVENT
BEGIN:VEVENT
DTSTAMP:20260424T151759Z
DTSTART;TZID=Europe/Berlin:20260204T200000
DTEND;TZID=Europe/Berlin:20260204T230000
SUMMARY:HE 2. Liga Gr. 1 Bronschhofen vs Muolen II (0)
UID:81e4a79e-851e-49a0-b1b7-be692346af5f
STATUS:CONFIRMED
LAST-MODIFIED:20260206T133117Z
DESCRIPTION:2. Liga Herren Gruppe 1\nBegegnungs-Nr: 0\nHeim: Bronschhofen\nGast: Muolen II\n\nAdresse: Industriestrasse 4\, 9552 Bronschhofen\n
LOCATION:Industriestrasse 4\, 9552 Bronschhofen
CATEGORIES:Saison 2025/26
END:VEVENT
BEGIN:VEVENT
DTSTAMP:20260424T151759Z
DTSTART;TZID=Europe/Berlin:20250930T201500
DTEND;TZID=Europe/Berlin:20250930T231500
SUMMARY:HE 2. Liga Gr. 1 Neuhausen III vs Muolen II (0)
UID:dfc27222-d4a8-445e-82bf-50d6d56e12ef
STATUS:CONFIRMED
LAST-MODIFIED:20251001T060530Z
DESCRIPTION:2. Liga Herren Gruppe 1\nBegegnungs-Nr: 0\nHeim: Neuhausen III\nGast: Muolen II\n\nAdresse: Ebnatstrasse 35\, 8200 Schaffhausen\n
LOCATION:Ebnatstrasse 35\, 8200 Schaffhausen
CATEGORIES:Saison 2025/26
END:VEVENT
BEGIN:VEVENT
DTSTAMP:20260424T151759Z
DTSTART;TZID=Europe/Berlin:20251031T201500
DTEND;TZID=Europe/Berlin:20251031T231500
SUMMARY:HE 2. Liga Gr. 1 Zürich-Affoltern IV vs Muolen II (0)
UID:efd74e19-7a09-4ad2-9b01-1b23a8aacb3f
STATUS:CONFIRMED
LAST-MODIFIED:20251107T152046Z
DESCRIPTION:2. Liga Herren Gruppe 1\nBegegnungs-Nr: 0\nHeim: Zürich-Affoltern IV\nGast: Muolen II\n\nAdresse: Rümlangstr. 89\, 8052 Zürich\n
LOCATION:Rümlangstr. 89\, 8052 Zürich
CATEGORIES:Saison 2025/26
END:VEVENT
BEGIN:VEVENT
DTSTAMP:20260424T151759Z
DTSTART;TZID=Europe/Berlin:20251205T201500
DTEND;TZID=Europe/Berlin:20251205T231500
SUMMARY:HE 2. Liga Gr. 1 Winterthur vs Muolen II (0)
UID:38a1178f-b209-4213-b64a-9c5d2faaac3f
STATUS:CONFIRMED
LAST-MODIFIED:20251210T080215Z
DESCRIPTION:2. Liga Herren Gruppe 1\nBegegnungs-Nr: 0\nHeim: Winterthur\nGast: Muolen II\n\nAdresse: Buchackerstrasse 54\, 8400 Winterthur\n
LOCATION:Buchackerstrasse 54\, 8400 Winterthur
CATEGORIES:Saison 2025/26
END:VEVENT
BEGIN:VEVENT
DTSTAMP:20260424T151759Z
DTSTART;TZID=Europe/Berlin:20260213T201500
DTEND;TZID=Europe/Berlin:20260213T231500
SUMMARY:HE 2. Liga Gr. 1 Romanshorn vs Muolen II (0)
UID:3eadd562-bb7e-49e0-aaab-55dce4671b81
STATUS:CONFIRMED
LAST-MODIFIED:20260216T095752Z
DESCRIPTION:2. Liga Herren Gruppe 1\nBegegnungs-Nr: 0\nHeim: Romanshorn\nGast: Muolen II\n\nAdresse: Florastrasse\, 8590 Romanshorn\n
LOCATION:Florastrasse\, 8590 Romanshorn
CATEGORIES:Saison 2025/26
END:VEVENT
BEGIN:VEVENT
DTSTAMP:20260424T151759Z
DTSTART;TZID=Europe/Berlin:20260330T200000
DTEND;TZID=Europe/Berlin:20260330T230000
SUMMARY:HE 2. Liga Gr. 1 Toggenburg vs Muolen II (0)
UID:452e5fa7-be84-4023-96cd-cef64732b65c
STATUS:CONFIRMED
LAST-MODIFIED:20260401T121002Z
DESCRIPTION:2. Liga Herren Gruppe 1\nBegegnungs-Nr: 0\nHeim: Toggenburg\nGast: Muolen II\n\nAdresse: Frohmaderweg\, 9630 Wattwil\n
LOCATION:Frohmaderweg\, 9630 Wattwil
CATEGORIES:Saison 2025/26
END:VEVENT
BEGIN:VEVENT
DTSTAMP:20260424T151759Z
DTSTART;TZID=Europe/Berlin:20250902T200000
DTEND;TZID=Europe/Berlin:20250902T230000
SUMMARY:HE 2. Liga Gr. 1 Gaiserwald vs Muolen II (0)
UID:fff6b18c-6bc8-42a2-ae80-2e53f8bd65c2
STATUS:CONFIRMED
LAST-MODIFIED:20250904T131441Z
DESCRIPTION:2. Liga Herren Gruppe 1\nBegegnungs-Nr: 0\nHeim: Gaiserwald\nGast: Muolen II\n\nAdresse: Sonnenbergstrasse 15\, 9030 Abtwil\n
LOCATION:Sonnenbergstrasse 15\, 9030 Abtwil
CATEGORIES:Saison 2025/26
END:VEVENT
END:VCALENDAR
