BEGIN:VCALENDAR
PRODID:-//nuDatenautomaten//framework iCal4j //DE
VERSION:2.0
CALSCALE:GREGORIAN
BEGIN:VTIMEZONE
TZID:Europe/Berlin
LAST-MODIFIED:20260306T231828Z
TZURL:https://www.tzurl.org/zoneinfo/Europe/Berlin
X-LIC-LOCATION:Europe/Berlin
X-PROLEPTIC-TZNAME:LMT
BEGIN:STANDARD
TZNAME:CET
TZOFFSETFROM:+005328
TZOFFSETTO:+0100
DTSTART:18930401T000000
END:STANDARD
BEGIN:DAYLIGHT
TZNAME:CEST
TZOFFSETFROM:+0100
TZOFFSETTO:+0200
DTSTART:19160430T230000
RDATE:19400401T020000
RDATE:19430329T020000
RDATE:19460414T020000
RDATE:19470406T030000
RDATE:19480418T020000
RDATE:19490410T020000
RDATE:19800406T020000
END:DAYLIGHT
BEGIN:STANDARD
TZNAME:CET
TZOFFSETFROM:+0200
TZOFFSETTO:+0100
DTSTART:19161001T010000
RDATE:19421102T030000
RDATE:19431004T030000
RDATE:19441002T030000
RDATE:19451118T030000
RDATE:19461007T030000
END:STANDARD
BEGIN:DAYLIGHT
TZNAME:CEST
TZOFFSETFROM:+0100
TZOFFSETTO:+0200
DTSTART:19170416T020000
RRULE:FREQ=YEARLY;UNTIL=19180415T010000Z;BYMONTH=4;BYDAY=3MO
END:DAYLIGHT
BEGIN:STANDARD
TZNAME:CET
TZOFFSETFROM:+0200
TZOFFSETTO:+0100
DTSTART:19170917T030000
RRULE:FREQ=YEARLY;UNTIL=19180916T010000Z;BYMONTH=9;BYDAY=3MO
END:STANDARD
BEGIN:DAYLIGHT
TZNAME:CEST
TZOFFSETFROM:+0100
TZOFFSETTO:+0200
DTSTART:19440403T020000
RRULE:FREQ=YEARLY;UNTIL=19450402T010000Z;BYMONTH=4;BYDAY=1MO
END:DAYLIGHT
BEGIN:DAYLIGHT
TZNAME:CEMT
TZOFFSETFROM:+0200
TZOFFSETTO:+0300
DTSTART:19450524T020000
RDATE:19470511T030000
END:DAYLIGHT
BEGIN:DAYLIGHT
TZNAME:CEST
TZOFFSETFROM:+0300
TZOFFSETTO:+0200
DTSTART:19450924T030000
RDATE:19470629T030000
END:DAYLIGHT
BEGIN:STANDARD
TZNAME:CET
TZOFFSETFROM:+0100
TZOFFSETTO:+0100
DTSTART:19460101T000000
RDATE:19800101T000000
END:STANDARD
BEGIN:STANDARD
TZNAME:CET
TZOFFSETFROM:+0200
TZOFFSETTO:+0100
DTSTART:19471005T030000
RRULE:FREQ=YEARLY;UNTIL=19491002T010000Z;BYMONTH=10;BYDAY=1SU
END:STANDARD
BEGIN:STANDARD
TZNAME:CET
TZOFFSETFROM:+0200
TZOFFSETTO:+0100
DTSTART:19800928T030000
RRULE:FREQ=YEARLY;UNTIL=19950924T010000Z;BYMONTH=9;BYDAY=-1SU
END:STANDARD
BEGIN:DAYLIGHT
TZNAME:CEST
TZOFFSETFROM:+0100
TZOFFSETTO:+0200
DTSTART:19810329T020000
RRULE:FREQ=YEARLY;BYMONTH=3;BYDAY=-1SU
END:DAYLIGHT
BEGIN:STANDARD
TZNAME:CET
TZOFFSETFROM:+0200
TZOFFSETTO:+0100
DTSTART:19961027T030000
RRULE:FREQ=YEARLY;BYMONTH=10;BYDAY=-1SU
END:STANDARD
END:VTIMEZONE
BEGIN:VEVENT
DTSTAMP:20260424T115049Z
DTSTART;TZID=Europe/Berlin:20251122T130000
DTEND;TZID=Europe/Berlin:20251122T160000
SUMMARY:J L2 Gr3\, Tours 1&2 Yverdon vs Nyon (11)
UID:233eac22-f500-40a6-9156-b6e2d460e665
STATUS:CONFIRMED
LAST-MODIFIED:20251123T123351Z
DESCRIPTION:2ème ligue Jeunesse Groupe 3\, Tours 1&2\nBegegnungs-Nr: 11\nHeim: Yverdon\nGast: Nyon\n\nAdresse: Avenue des Quatre Marroniers 1\, 1400 Yverdon-les-Bains\n
LOCATION:Avenue des Quatre Marroniers 1\, 1400 Yverdon-les-Bains
CATEGORIES:Saison 2025/26
END:VEVENT
BEGIN:VEVENT
DTSTAMP:20260424T115049Z
DTSTART;TZID=Europe/Berlin:20251122T100000
DTEND;TZID=Europe/Berlin:20251122T130000
SUMMARY:J L2 Gr3\, Tours 1&2 Yverdon vs Gland III (7)
UID:a7a81fc3-3e20-4f74-87a0-47f4801d3386
STATUS:CONFIRMED
LAST-MODIFIED:20251123T123342Z
DESCRIPTION:2ème ligue Jeunesse Groupe 3\, Tours 1&2\nBegegnungs-Nr: 7\nHeim: Yverdon\nGast: Gland III\n\nAdresse: Avenue des Quatre Marroniers 1\, 1400 Yverdon-les-Bains\n
LOCATION:Avenue des Quatre Marroniers 1\, 1400 Yverdon-les-Bains
CATEGORIES:Saison 2025/26
END:VEVENT
BEGIN:VEVENT
DTSTAMP:20260424T115049Z
DTSTART;TZID=Europe/Berlin:20250906T150000
DTEND;TZID=Europe/Berlin:20250906T180000
SUMMARY:J L2 Gr3\, Tours 1&2 Yverdon vs Montriond-Ouchy  (4)
UID:975b3b3e-e705-4f46-8e50-643c8d719c87
STATUS:CONFIRMED
LAST-MODIFIED:20250906T155404Z
DESCRIPTION:2ème ligue Jeunesse Groupe 3\, Tours 1&2\nBegegnungs-Nr: 4\nHeim: Yverdon\nGast: Montriond-Ouchy \n\nAdresse: Avenue des Quatre Marroniers 1\, 1400 Yverdon-les-Bains\n
LOCATION:Avenue des Quatre Marroniers 1\, 1400 Yverdon-les-Bains
CATEGORIES:Saison 2025/26
END:VEVENT
BEGIN:VEVENT
DTSTAMP:20260424T115049Z
DTSTART;TZID=Europe/Berlin:20260117T150000
DTEND;TZID=Europe/Berlin:20260117T180000
SUMMARY:J L2 Gr1\, Tours 3&4 Yverdon vs Vevey II (5)
UID:59ae02c8-ab83-47a4-93ff-080ed1f495a7
STATUS:CONFIRMED
LAST-MODIFIED:20260217T141523Z
DESCRIPTION:2ème ligue Jeunesse Groupe 1\, Tours 3&4\nBegegnungs-Nr: 5\nHeim: Yverdon\nGast: Vevey II\n\nAdresse: Avenue des Quatre Marroniers 1\, 1400 Yverdon-les-Bains\n
LOCATION:Avenue des Quatre Marroniers 1\, 1400 Yverdon-les-Bains
CATEGORIES:Saison 2025/26
END:VEVENT
BEGIN:VEVENT
DTSTAMP:20260424T115049Z
DTSTART;TZID=Europe/Berlin:20260117T100000
DTEND;TZID=Europe/Berlin:20260117T130000
SUMMARY:J L2 Gr1\, Tours 3&4 Yverdon vs Bulle (1)
UID:27e10c32-bbff-44f3-b29a-b83cf48d9fce
STATUS:CONFIRMED
LAST-MODIFIED:20260117T181602Z
DESCRIPTION:2ème ligue Jeunesse Groupe 1\, Tours 3&4\nBegegnungs-Nr: 1\nHeim: Yverdon\nGast: Bulle\n\nAdresse: Avenue des Quatre Marroniers 1\, 1400 Yverdon-les-Bains\n
LOCATION:Avenue des Quatre Marroniers 1\, 1400 Yverdon-les-Bains
CATEGORIES:Saison 2025/26
END:VEVENT
BEGIN:VEVENT
DTSTAMP:20260424T115049Z
DTSTART;TZID=Europe/Berlin:20260228T130000
DTEND;TZID=Europe/Berlin:20260228T160000
SUMMARY:J L2 Gr1\, Tours 3&4 Yverdon vs Collombey/Muraz (10)
UID:fa485c2c-ae4d-42b9-9b23-6ee09a6608dd
STATUS:CONFIRMED
LAST-MODIFIED:20260301T135546Z
DESCRIPTION:2ème ligue Jeunesse Groupe 1\, Tours 3&4\nBegegnungs-Nr: 10\nHeim: Yverdon\nGast: Collombey/Muraz\n\nAdresse: Avenue des Quatre Marroniers 1\, 1400 Yverdon-les-Bains\n
LOCATION:Avenue des Quatre Marroniers 1\, 1400 Yverdon-les-Bains
CATEGORIES:Saison 2025/26
END:VEVENT
BEGIN:VEVENT
DTSTAMP:20260424T115049Z
DTSTART;TZID=Europe/Berlin:20251122T150000
DTEND;TZID=Europe/Berlin:20251122T180000
SUMMARY:J L2 Gr3\, Tours 1&2 Montriond-Ouchy  vs Yverdon (10)
UID:835c2d07-51e2-443c-bf33-35616d8bc9e9
STATUS:CONFIRMED
LAST-MODIFIED:20251123T223341Z
DESCRIPTION:2ème ligue Jeunesse Groupe 3\, Tours 1&2\nBegegnungs-Nr: 10\nHeim: Montriond-Ouchy \nGast: Yverdon\n\nAdresse: Avenue d'Ouchy 45\, 1006 Lausanne\n
LOCATION:Avenue d'Ouchy 45\, 1006 Lausanne
CATEGORIES:Saison 2025/26
END:VEVENT
BEGIN:VEVENT
DTSTAMP:20260424T115049Z
DTSTART;TZID=Europe/Berlin:20250906T130000
DTEND;TZID=Europe/Berlin:20250906T160000
SUMMARY:J L2 Gr3\, Tours 1&2 Nyon vs Yverdon (5)
UID:4091106b-efed-4659-8193-a1bb38b0fd52
STATUS:CONFIRMED
LAST-MODIFIED:20250906T155344Z
DESCRIPTION:2ème ligue Jeunesse Groupe 3\, Tours 1&2\nBegegnungs-Nr: 5\nHeim: Nyon\nGast: Yverdon\n\nAdresse: Rte des Tattes-d'Oie 97\, 1260 Nyon\n
LOCATION:Rte des Tattes-d'Oie 97\, 1260 Nyon
CATEGORIES:Saison 2025/26
END:VEVENT
BEGIN:VEVENT
DTSTAMP:20260424T115049Z
DTSTART;TZID=Europe/Berlin:20250906T100000
DTEND;TZID=Europe/Berlin:20250906T130000
SUMMARY:J L2 Gr3\, Tours 1&2 Gland III vs Yverdon (1)
UID:42e419a2-c678-40ee-8d5e-880e7001f32a
STATUS:CONFIRMED
LAST-MODIFIED:20250906T155321Z
DESCRIPTION:2ème ligue Jeunesse Groupe 3\, Tours 1&2\nBegegnungs-Nr: 1\nHeim: Gland III\nGast: Yverdon\n\nAdresse: Chemin de la Perroude 1\, 1196 Gland\n
LOCATION:Chemin de la Perroude 1\, 1196 Gland
CATEGORIES:Saison 2025/26
END:VEVENT
BEGIN:VEVENT
DTSTAMP:20260424T115049Z
DTSTART;TZID=Europe/Berlin:20260117T130000
DTEND;TZID=Europe/Berlin:20260117T160000
SUMMARY:J L2 Gr1\, Tours 3&4 Collombey/Muraz vs Yverdon (4)
UID:c43cb0a5-66ca-4b3a-bf92-5546e7e00cd3
STATUS:CONFIRMED
LAST-MODIFIED:20260119T172123Z
DESCRIPTION:2ème ligue Jeunesse Groupe 1\, Tours 3&4\nBegegnungs-Nr: 4\nHeim: Collombey/Muraz\nGast: Yverdon\n\nAdresse: Route du Montagnier 81\, 1868 Collombey\n
LOCATION:Route du Montagnier 81\, 1868 Collombey
CATEGORIES:Saison 2025/26
END:VEVENT
BEGIN:VEVENT
DTSTAMP:20260424T115049Z
DTSTART;TZID=Europe/Berlin:20260228T100000
DTEND;TZID=Europe/Berlin:20260228T130000
SUMMARY:J L2 Gr1\, Tours 3&4 Bulle vs Yverdon (7)
UID:287570a9-0842-44c5-a065-69b02b299b86
STATUS:CONFIRMED
LAST-MODIFIED:20260228T130622Z
DESCRIPTION:2ème ligue Jeunesse Groupe 1\, Tours 3&4\nBegegnungs-Nr: 7\nHeim: Bulle\nGast: Yverdon\n\nAdresse: Rue du Stade 50\, 1630 Bulle\n
LOCATION:Rue du Stade 50\, 1630 Bulle
CATEGORIES:Saison 2025/26
END:VEVENT
BEGIN:VEVENT
DTSTAMP:20260424T115049Z
DTSTART;TZID=Europe/Berlin:20260228T150000
DTEND;TZID=Europe/Berlin:20260228T180000
SUMMARY:J L2 Gr1\, Tours 3&4 Vevey II vs Yverdon (11)
UID:135eca66-0d0e-47bb-a494-d8c4b83f9f8f
STATUS:CONFIRMED
LAST-MODIFIED:20260303T222758Z
DESCRIPTION:2ème ligue Jeunesse Groupe 1\, Tours 3&4\nBegegnungs-Nr: 11\nHeim: Vevey II\nGast: Yverdon\n\nAdresse: Rue Louis-Meyer\, 1800 Vevey\n
LOCATION:Rue Louis-Meyer\, 1800 Vevey
CATEGORIES:Saison 2025/26
END:VEVENT
END:VCALENDAR
