BEGIN:VCALENDAR
PRODID:-//nuDatenautomaten//framework iCal4j //DE
VERSION:2.0
CALSCALE:GREGORIAN
BEGIN:VTIMEZONE
TZID:Europe/Berlin
LAST-MODIFIED:20260306T231828Z
TZURL:https://www.tzurl.org/zoneinfo/Europe/Berlin
X-LIC-LOCATION:Europe/Berlin
X-PROLEPTIC-TZNAME:LMT
BEGIN:STANDARD
TZNAME:CET
TZOFFSETFROM:+005328
TZOFFSETTO:+0100
DTSTART:18930401T000000
END:STANDARD
BEGIN:DAYLIGHT
TZNAME:CEST
TZOFFSETFROM:+0100
TZOFFSETTO:+0200
DTSTART:19160430T230000
RDATE:19400401T020000
RDATE:19430329T020000
RDATE:19460414T020000
RDATE:19470406T030000
RDATE:19480418T020000
RDATE:19490410T020000
RDATE:19800406T020000
END:DAYLIGHT
BEGIN:STANDARD
TZNAME:CET
TZOFFSETFROM:+0200
TZOFFSETTO:+0100
DTSTART:19161001T010000
RDATE:19421102T030000
RDATE:19431004T030000
RDATE:19441002T030000
RDATE:19451118T030000
RDATE:19461007T030000
END:STANDARD
BEGIN:DAYLIGHT
TZNAME:CEST
TZOFFSETFROM:+0100
TZOFFSETTO:+0200
DTSTART:19170416T020000
RRULE:FREQ=YEARLY;UNTIL=19180415T010000Z;BYMONTH=4;BYDAY=3MO
END:DAYLIGHT
BEGIN:STANDARD
TZNAME:CET
TZOFFSETFROM:+0200
TZOFFSETTO:+0100
DTSTART:19170917T030000
RRULE:FREQ=YEARLY;UNTIL=19180916T010000Z;BYMONTH=9;BYDAY=3MO
END:STANDARD
BEGIN:DAYLIGHT
TZNAME:CEST
TZOFFSETFROM:+0100
TZOFFSETTO:+0200
DTSTART:19440403T020000
RRULE:FREQ=YEARLY;UNTIL=19450402T010000Z;BYMONTH=4;BYDAY=1MO
END:DAYLIGHT
BEGIN:DAYLIGHT
TZNAME:CEMT
TZOFFSETFROM:+0200
TZOFFSETTO:+0300
DTSTART:19450524T020000
RDATE:19470511T030000
END:DAYLIGHT
BEGIN:DAYLIGHT
TZNAME:CEST
TZOFFSETFROM:+0300
TZOFFSETTO:+0200
DTSTART:19450924T030000
RDATE:19470629T030000
END:DAYLIGHT
BEGIN:STANDARD
TZNAME:CET
TZOFFSETFROM:+0100
TZOFFSETTO:+0100
DTSTART:19460101T000000
RDATE:19800101T000000
END:STANDARD
BEGIN:STANDARD
TZNAME:CET
TZOFFSETFROM:+0200
TZOFFSETTO:+0100
DTSTART:19471005T030000
RRULE:FREQ=YEARLY;UNTIL=19491002T010000Z;BYMONTH=10;BYDAY=1SU
END:STANDARD
BEGIN:STANDARD
TZNAME:CET
TZOFFSETFROM:+0200
TZOFFSETTO:+0100
DTSTART:19800928T030000
RRULE:FREQ=YEARLY;UNTIL=19950924T010000Z;BYMONTH=9;BYDAY=-1SU
END:STANDARD
BEGIN:DAYLIGHT
TZNAME:CEST
TZOFFSETFROM:+0100
TZOFFSETTO:+0200
DTSTART:19810329T020000
RRULE:FREQ=YEARLY;BYMONTH=3;BYDAY=-1SU
END:DAYLIGHT
BEGIN:STANDARD
TZNAME:CET
TZOFFSETFROM:+0200
TZOFFSETTO:+0100
DTSTART:19961027T030000
RRULE:FREQ=YEARLY;BYMONTH=10;BYDAY=-1SU
END:STANDARD
END:VTIMEZONE
BEGIN:VEVENT
DTSTAMP:20260424T115054Z
DTSTART;TZID=Europe/Berlin:20250904T200000
DTEND;TZID=Europe/Berlin:20250904T230000
SUMMARY:ME L2 Gr 1\, Tours 1&2 Martigny II vs Lausanne IV (0)
UID:fb9bbc06-7f2e-4f3f-9ad3-7c0b6c9b2195
STATUS:CONFIRMED
LAST-MODIFIED:20250905T182538Z
DESCRIPTION:2ème ligue Hommes Groupe 1\, Tours 1&2\nBegegnungs-Nr: 0\nHeim: Martigny II\nGast: Lausanne IV\n\nAdresse: Rue des Ecoles 9\, 1920 Martigny\n
LOCATION:Rue des Ecoles 9\, 1920 Martigny
CATEGORIES:Saison 2025/26
END:VEVENT
BEGIN:VEVENT
DTSTAMP:20260424T115054Z
DTSTART;TZID=Europe/Berlin:20251002T200000
DTEND;TZID=Europe/Berlin:20251002T230000
SUMMARY:ME L2 Gr 1\, Tours 1&2 Martigny II vs Yvorne (0)
UID:9b2d8f5d-8690-40c3-a16c-88c7fbcfdfe8
STATUS:CONFIRMED
LAST-MODIFIED:20251003T163226Z
DESCRIPTION:2ème ligue Hommes Groupe 1\, Tours 1&2\nBegegnungs-Nr: 0\nHeim: Martigny II\nGast: Yvorne\n\nAdresse: Rue des Ecoles 9\, 1920 Martigny\n
LOCATION:Rue des Ecoles 9\, 1920 Martigny
CATEGORIES:Saison 2025/26
END:VEVENT
BEGIN:VEVENT
DTSTAMP:20260424T115054Z
DTSTART;TZID=Europe/Berlin:20251106T200000
DTEND;TZID=Europe/Berlin:20251106T230000
SUMMARY:ME L2 Gr 1\, Tours 1&2 Martigny II vs Sion (0)
UID:2f546619-abfc-4481-a685-21dda52aee73
STATUS:CONFIRMED
LAST-MODIFIED:20251109T122329Z
DESCRIPTION:2ème ligue Hommes Groupe 1\, Tours 1&2\nBegegnungs-Nr: 0\nHeim: Martigny II\nGast: Sion\n\nAdresse: Rue des Ecoles 9\, 1920 Martigny\n
LOCATION:Rue des Ecoles 9\, 1920 Martigny
CATEGORIES:Saison 2025/26
END:VEVENT
BEGIN:VEVENT
DTSTAMP:20260424T115054Z
DTSTART;TZID=Europe/Berlin:20251127T200000
DTEND;TZID=Europe/Berlin:20251127T230000
SUMMARY:ME L2 Gr 1\, Tours 1&2 Martigny II vs Collombey/Muraz II (0)
UID:f158300b-78ad-4c38-92eb-834c929135c0
STATUS:CONFIRMED
LAST-MODIFIED:20251130T120724Z
DESCRIPTION:2ème ligue Hommes Groupe 1\, Tours 1&2\nBegegnungs-Nr: 0\nHeim: Martigny II\nGast: Collombey/Muraz II\n\nAdresse: Rue des Ecoles 9\, 1920 Martigny\n
LOCATION:Rue des Ecoles 9\, 1920 Martigny
CATEGORIES:Saison 2025/26
END:VEVENT
BEGIN:VEVENT
DTSTAMP:20260424T115054Z
DTSTART;TZID=Europe/Berlin:20251211T200000
DTEND;TZID=Europe/Berlin:20251211T230000
SUMMARY:ME L2 Gr 1\, Tours 1&2 Martigny II vs Sierre III (0)
UID:b3c97363-5d4a-4693-aa62-dd7b6b980873
STATUS:CONFIRMED
LAST-MODIFIED:20251213T094625Z
DESCRIPTION:2ème ligue Hommes Groupe 1\, Tours 1&2\nBegegnungs-Nr: 0\nHeim: Martigny II\nGast: Sierre III\n\nAdresse: Rue des Ecoles 9\, 1920 Martigny\n
LOCATION:Rue des Ecoles 9\, 1920 Martigny
CATEGORIES:Saison 2025/26
END:VEVENT
BEGIN:VEVENT
DTSTAMP:20260424T115054Z
DTSTART;TZID=Europe/Berlin:20260120T200000
DTEND;TZID=Europe/Berlin:20260120T230000
SUMMARY:ME L2 Gr 1\, Tours 3&4 Martigny II vs Sion (0)
UID:5abd06b1-cb45-4549-bead-896d817d5908
STATUS:CONFIRMED
LAST-MODIFIED:20260121T122424Z
DESCRIPTION:2ème ligue Hommes Groupe 1\, Tours 3&4\nBegegnungs-Nr: 0\nHeim: Martigny II\nGast: Sion\n\nAdresse: Rue des Ecoles 9\, 1920 Martigny\n
LOCATION:Rue des Ecoles 9\, 1920 Martigny
CATEGORIES:Saison 2025/26
END:VEVENT
BEGIN:VEVENT
DTSTAMP:20260424T115054Z
DTSTART;TZID=Europe/Berlin:20260205T200000
DTEND;TZID=Europe/Berlin:20260205T230000
SUMMARY:ME L2 Gr 1\, Tours 3&4 Martigny II vs Fribourg II (0)
UID:46e60e34-aab5-44ab-ac5f-b6891d113a2f
STATUS:CONFIRMED
LAST-MODIFIED:20260206T183822Z
DESCRIPTION:2ème ligue Hommes Groupe 1\, Tours 3&4\nBegegnungs-Nr: 0\nHeim: Martigny II\nGast: Fribourg II\n\nAdresse: Rue des Ecoles 9\, 1920 Martigny\n
LOCATION:Rue des Ecoles 9\, 1920 Martigny
CATEGORIES:Saison 2025/26
END:VEVENT
BEGIN:VEVENT
DTSTAMP:20260424T115054Z
DTSTART;TZID=Europe/Berlin:20260312T200000
DTEND;TZID=Europe/Berlin:20260312T230000
SUMMARY:ME L2 Gr 1\, Tours 3&4 Martigny II vs Bulle III (0)
UID:868e0787-bbe1-4522-8817-e95fdf62fc73
STATUS:CONFIRMED
LAST-MODIFIED:20260313T231654Z
DESCRIPTION:2ème ligue Hommes Groupe 1\, Tours 3&4\nBegegnungs-Nr: 0\nHeim: Martigny II\nGast: Bulle III\n\nAdresse: Rue des Ecoles 9\, 1920 Martigny\n
LOCATION:Rue des Ecoles 9\, 1920 Martigny
CATEGORIES:Saison 2025/26
END:VEVENT
BEGIN:VEVENT
DTSTAMP:20260424T115054Z
DTSTART;TZID=Europe/Berlin:20260423T200000
DTEND;TZID=Europe/Berlin:20260423T230000
SUMMARY:ME L2 Gr 1\, Tours 3&4 Martigny II vs Grône (0)
UID:84710258-ea05-4312-94e4-ce1c36ca4758
STATUS:CONFIRMED
DESCRIPTION:2ème ligue Hommes Groupe 1\, Tours 3&4\nBegegnungs-Nr: 0\nHeim: Martigny II\nGast: Grône\n\nAdresse: Rue des Ecoles 9\, 1920 Martigny\n
LOCATION:Rue des Ecoles 9\, 1920 Martigny
CATEGORIES:Saison 2025/26
END:VEVENT
BEGIN:VEVENT
DTSTAMP:20260424T115054Z
DTSTART;TZID=Europe/Berlin:20260430T200000
DTEND;TZID=Europe/Berlin:20260430T230000
SUMMARY:ME L2 Gr 1\, Tours 3&4 Martigny II vs Collombey/Muraz II (0)
UID:a271ea61-f5ed-40c4-8984-d0f55a953275
STATUS:CONFIRMED
DESCRIPTION:2ème ligue Hommes Groupe 1\, Tours 3&4\nBegegnungs-Nr: 0\nHeim: Martigny II\nGast: Collombey/Muraz II\n\nAdresse: Rue des Ecoles 9\, 1920 Martigny\n
LOCATION:Rue des Ecoles 9\, 1920 Martigny
CATEGORIES:Saison 2025/26
END:VEVENT
BEGIN:VEVENT
DTSTAMP:20260424T115054Z
DTSTART;TZID=Europe/Berlin:20250923T190000
DTEND;TZID=Europe/Berlin:20250923T220000
SUMMARY:ME L2 Gr 1\, Tours 1&2 Sion vs Martigny II (0)
UID:98eb0a30-c481-4261-883a-b366939767d8
STATUS:CONFIRMED
LAST-MODIFIED:20250925T100016Z
DESCRIPTION:2ème ligue Hommes Groupe 1\, Tours 1&2\nBegegnungs-Nr: 0\nHeim: Sion\nGast: Martigny II\n\nAdresse: Rue du Chanoine-Berchtold 17\, 1950 Sion\n
LOCATION:Rue du Chanoine-Berchtold 17\, 1950 Sion
CATEGORIES:Saison 2025/26
END:VEVENT
BEGIN:VEVENT
DTSTAMP:20260424T115054Z
DTSTART;TZID=Europe/Berlin:20250929T193000
DTEND;TZID=Europe/Berlin:20250929T223000
SUMMARY:ME L2 Gr 1\, Tours 1&2 Collombey/Muraz II vs Martigny II (0)
UID:ba911bf2-a172-4f3b-8723-828b40bbec24
STATUS:CONFIRMED
LAST-MODIFIED:20250930T095747Z
DESCRIPTION:2ème ligue Hommes Groupe 1\, Tours 1&2\nBegegnungs-Nr: 0\nHeim: Collombey/Muraz II\nGast: Martigny II\n\nAdresse: Route du Montagnier 81\, 1868 Collombey\n
LOCATION:Route du Montagnier 81\, 1868 Collombey
CATEGORIES:Saison 2025/26
END:VEVENT
BEGIN:VEVENT
DTSTAMP:20260424T115054Z
DTSTART;TZID=Europe/Berlin:20251006T194500
DTEND;TZID=Europe/Berlin:20251006T224500
SUMMARY:ME L2 Gr 1\, Tours 1&2 Sierre III vs Martigny II (0)
UID:f47fabe0-93f1-497d-9be4-cbb6d48f314f
STATUS:CONFIRMED
LAST-MODIFIED:20251007T094807Z
DESCRIPTION:2ème ligue Hommes Groupe 1\, Tours 1&2\nBegegnungs-Nr: 0\nHeim: Sierre III\nGast: Martigny II\n\nAdresse: Rte des Liddes 6\, 3960 Sierre\n
LOCATION:Rte des Liddes 6\, 3960 Sierre
CATEGORIES:Saison 2025/26
END:VEVENT
BEGIN:VEVENT
DTSTAMP:20260424T115054Z
DTSTART;TZID=Europe/Berlin:20251023T200000
DTEND;TZID=Europe/Berlin:20251023T230000
SUMMARY:ME L2 Gr 1\, Tours 1&2 Lausanne IV vs Martigny II (0)
UID:7c555428-4adf-4371-910b-5919d7d27881
STATUS:CONFIRMED
LAST-MODIFIED:20251030T105701Z
DESCRIPTION:2ème ligue Hommes Groupe 1\, Tours 1&2\nBegegnungs-Nr: 0\nHeim: Lausanne IV\nGast: Martigny II\n\nAdresse: Vaudoise Aréna\, Ch. du Viaduc 14\, 1008 Prilly\n
LOCATION:Vaudoise Aréna\, Ch. du Viaduc 14\, 1008 Prilly
CATEGORIES:Saison 2025/26
END:VEVENT
BEGIN:VEVENT
DTSTAMP:20260424T115054Z
DTSTART;TZID=Europe/Berlin:20251119T194500
DTEND;TZID=Europe/Berlin:20251119T224500
SUMMARY:ME L2 Gr 1\, Tours 1&2 Yvorne vs Martigny II (0)
UID:ca8a1a2b-bcb1-4ea3-a5ab-7e2050acac56
STATUS:CONFIRMED
LAST-MODIFIED:20251120T094435Z
DESCRIPTION:2ème ligue Hommes Groupe 1\, Tours 1&2\nBegegnungs-Nr: 0\nHeim: Yvorne\nGast: Martigny II\n\nAdresse: Les Maisons Neuves 38\, 1853 Yvorne\n
LOCATION:Les Maisons Neuves 38\, 1853 Yvorne
CATEGORIES:Saison 2025/26
END:VEVENT
BEGIN:VEVENT
DTSTAMP:20260424T115054Z
DTSTART;TZID=Europe/Berlin:20260116T193000
DTEND;TZID=Europe/Berlin:20260116T223000
SUMMARY:ME L2 Gr 1\, Tours 3&4 Bulle III vs Martigny II (0)
UID:885874f4-514e-4b6a-aeb4-99befc7ccc55
STATUS:CONFIRMED
LAST-MODIFIED:20260117T130810Z
DESCRIPTION:2ème ligue Hommes Groupe 1\, Tours 3&4\nBegegnungs-Nr: 0\nHeim: Bulle III\nGast: Martigny II\n\nAdresse: Rue du Stade 50\, 1630 Bulle\n
LOCATION:Rue du Stade 50\, 1630 Bulle
CATEGORIES:Saison 2025/26
END:VEVENT
BEGIN:VEVENT
DTSTAMP:20260424T115054Z
DTSTART;TZID=Europe/Berlin:20260213T200000
DTEND;TZID=Europe/Berlin:20260213T230000
SUMMARY:ME L2 Gr 1\, Tours 3&4 Grône vs Martigny II (0)
UID:d73449a4-19f7-45c2-93fa-43bd758413e5
STATUS:CONFIRMED
LAST-MODIFIED:20260220T155134Z
DESCRIPTION:2ème ligue Hommes Groupe 1\, Tours 3&4\nBegegnungs-Nr: 0\nHeim: Grône\nGast: Martigny II\n\nAdresse:  Rue Centrale\,  \, Rue de la Piscine\, \, 3979 Grône\n
LOCATION: Rue Centrale\,  \, Rue de la Piscine\, \, 3979 Grône
CATEGORIES:Saison 2025/26
END:VEVENT
BEGIN:VEVENT
DTSTAMP:20260424T115054Z
DTSTART;TZID=Europe/Berlin:20260216T193000
DTEND;TZID=Europe/Berlin:20260216T223000
SUMMARY:ME L2 Gr 1\, Tours 3&4 Collombey/Muraz II vs Martigny II (0)
UID:d8cab913-1a86-436a-8eff-7d115aa972ae
STATUS:CONFIRMED
LAST-MODIFIED:20260217T121252Z
DESCRIPTION:2ème ligue Hommes Groupe 1\, Tours 3&4\nBegegnungs-Nr: 0\nHeim: Collombey/Muraz II\nGast: Martigny II\n\nAdresse: Route du Montagnier 81\, 1868 Collombey\n
LOCATION:Route du Montagnier 81\, 1868 Collombey
CATEGORIES:Saison 2025/26
END:VEVENT
BEGIN:VEVENT
DTSTAMP:20260424T115054Z
DTSTART;TZID=Europe/Berlin:20260324T190000
DTEND;TZID=Europe/Berlin:20260324T220000
SUMMARY:ME L2 Gr 1\, Tours 3&4 Sion vs Martigny II (0)
UID:618b521d-1eac-4437-8b8e-9775c8e53aef
STATUS:CONFIRMED
LAST-MODIFIED:20260325T204742Z
DESCRIPTION:2ème ligue Hommes Groupe 1\, Tours 3&4\nBegegnungs-Nr: 0\nHeim: Sion\nGast: Martigny II\n\nAdresse: Rue du Chanoine-Berchtold 17\, 1950 Sion\n
LOCATION:Rue du Chanoine-Berchtold 17\, 1950 Sion
CATEGORIES:Saison 2025/26
END:VEVENT
BEGIN:VEVENT
DTSTAMP:20260424T115054Z
DTSTART;TZID=Europe/Berlin:20260401T201500
DTEND;TZID=Europe/Berlin:20260401T231500
SUMMARY:ME L2 Gr 1\, Tours 3&4 Fribourg II vs Martigny II (0)
UID:136ddd0c-bff5-41c6-9f2a-e3f5ee1e526e
STATUS:CONFIRMED
LAST-MODIFIED:20260402T080741Z
DESCRIPTION:2ème ligue Hommes Groupe 1\, Tours 3&4\nBegegnungs-Nr: 0\nHeim: Fribourg II\nGast: Martigny II\n\nAdresse: Avenue Général Guisan 61\, 1700 Fribourg\n
LOCATION:Avenue Général Guisan 61\, 1700 Fribourg
CATEGORIES:Saison 2025/26
END:VEVENT
END:VCALENDAR
