BEGIN:VCALENDAR
PRODID:-//nuDatenautomaten//framework iCal4j //DE
VERSION:2.0
CALSCALE:GREGORIAN
BEGIN:VTIMEZONE
TZID:Europe/Berlin
LAST-MODIFIED:20260306T231828Z
TZURL:https://www.tzurl.org/zoneinfo/Europe/Berlin
X-LIC-LOCATION:Europe/Berlin
X-PROLEPTIC-TZNAME:LMT
BEGIN:STANDARD
TZNAME:CET
TZOFFSETFROM:+005328
TZOFFSETTO:+0100
DTSTART:18930401T000000
END:STANDARD
BEGIN:DAYLIGHT
TZNAME:CEST
TZOFFSETFROM:+0100
TZOFFSETTO:+0200
DTSTART:19160430T230000
RDATE:19400401T020000
RDATE:19430329T020000
RDATE:19460414T020000
RDATE:19470406T030000
RDATE:19480418T020000
RDATE:19490410T020000
RDATE:19800406T020000
END:DAYLIGHT
BEGIN:STANDARD
TZNAME:CET
TZOFFSETFROM:+0200
TZOFFSETTO:+0100
DTSTART:19161001T010000
RDATE:19421102T030000
RDATE:19431004T030000
RDATE:19441002T030000
RDATE:19451118T030000
RDATE:19461007T030000
END:STANDARD
BEGIN:DAYLIGHT
TZNAME:CEST
TZOFFSETFROM:+0100
TZOFFSETTO:+0200
DTSTART:19170416T020000
RRULE:FREQ=YEARLY;UNTIL=19180415T010000Z;BYMONTH=4;BYDAY=3MO
END:DAYLIGHT
BEGIN:STANDARD
TZNAME:CET
TZOFFSETFROM:+0200
TZOFFSETTO:+0100
DTSTART:19170917T030000
RRULE:FREQ=YEARLY;UNTIL=19180916T010000Z;BYMONTH=9;BYDAY=3MO
END:STANDARD
BEGIN:DAYLIGHT
TZNAME:CEST
TZOFFSETFROM:+0100
TZOFFSETTO:+0200
DTSTART:19440403T020000
RRULE:FREQ=YEARLY;UNTIL=19450402T010000Z;BYMONTH=4;BYDAY=1MO
END:DAYLIGHT
BEGIN:DAYLIGHT
TZNAME:CEMT
TZOFFSETFROM:+0200
TZOFFSETTO:+0300
DTSTART:19450524T020000
RDATE:19470511T030000
END:DAYLIGHT
BEGIN:DAYLIGHT
TZNAME:CEST
TZOFFSETFROM:+0300
TZOFFSETTO:+0200
DTSTART:19450924T030000
RDATE:19470629T030000
END:DAYLIGHT
BEGIN:STANDARD
TZNAME:CET
TZOFFSETFROM:+0100
TZOFFSETTO:+0100
DTSTART:19460101T000000
RDATE:19800101T000000
END:STANDARD
BEGIN:STANDARD
TZNAME:CET
TZOFFSETFROM:+0200
TZOFFSETTO:+0100
DTSTART:19471005T030000
RRULE:FREQ=YEARLY;UNTIL=19491002T010000Z;BYMONTH=10;BYDAY=1SU
END:STANDARD
BEGIN:STANDARD
TZNAME:CET
TZOFFSETFROM:+0200
TZOFFSETTO:+0100
DTSTART:19800928T030000
RRULE:FREQ=YEARLY;UNTIL=19950924T010000Z;BYMONTH=9;BYDAY=-1SU
END:STANDARD
BEGIN:DAYLIGHT
TZNAME:CEST
TZOFFSETFROM:+0100
TZOFFSETTO:+0200
DTSTART:19810329T020000
RRULE:FREQ=YEARLY;BYMONTH=3;BYDAY=-1SU
END:DAYLIGHT
BEGIN:STANDARD
TZNAME:CET
TZOFFSETFROM:+0200
TZOFFSETTO:+0100
DTSTART:19961027T030000
RRULE:FREQ=YEARLY;BYMONTH=10;BYDAY=-1SU
END:STANDARD
END:VTIMEZONE
BEGIN:VEVENT
DTSTAMP:20260424T084050Z
DTSTART;TZID=Europe/Berlin:20251215T200000
DTEND;TZID=Europe/Berlin:20251215T230000
SUMMARY:HE 5. Liga Gr. 2 Langnau IV vs Ostermundigen X (19)
UID:5bd8f66f-887a-4bf2-b133-2f7366682ffa
STATUS:CONFIRMED
LAST-MODIFIED:20251216T120828Z
DESCRIPTION:5. Liga Herren Gruppe 2\nBegegnungs-Nr: 19\nHeim: Langnau IV\nGast: Ostermundigen X\n\nAdresse: Bleicheweg 11\, 3550 Langnau\n
LOCATION:Bleicheweg 11\, 3550 Langnau
CATEGORIES:Saison 2025/26
END:VEVENT
BEGIN:VEVENT
DTSTAMP:20260424T084050Z
DTSTART;TZID=Europe/Berlin:20251129T140000
DTEND;TZID=Europe/Berlin:20251129T170000
SUMMARY:HE 5. Liga Gr. 2 Langnau IV vs Düdingen III (16)
UID:be7a18e7-96df-405b-ad1c-31eecc3f09c7
STATUS:CONFIRMED
LAST-MODIFIED:20251207T173646Z
DESCRIPTION:5. Liga Herren Gruppe 2\nBegegnungs-Nr: 16\nHeim: Langnau IV\nGast: Düdingen III\n\nAdresse: Bleicheweg 11\, 3550 Langnau\n
LOCATION:Bleicheweg 11\, 3550 Langnau
CATEGORIES:Saison 2025/26
END:VEVENT
BEGIN:VEVENT
DTSTAMP:20260424T084050Z
DTSTART;TZID=Europe/Berlin:20250906T153000
DTEND;TZID=Europe/Berlin:20250906T183000
SUMMARY:HE 5. Liga Gr. 2 Langnau IV vs Regio Moossee III (2)
UID:53351fb0-bbcd-419f-a6ac-7488c6411067
STATUS:CONFIRMED
LAST-MODIFIED:20250907T195447Z
DESCRIPTION:5. Liga Herren Gruppe 2\nBegegnungs-Nr: 2\nHeim: Langnau IV\nGast: Regio Moossee III\n\nAdresse: Bleicheweg 11\, 3550 Langnau\n
LOCATION:Bleicheweg 11\, 3550 Langnau
CATEGORIES:Saison 2025/26
END:VEVENT
BEGIN:VEVENT
DTSTAMP:20260424T084050Z
DTSTART;TZID=Europe/Berlin:20260218T200000
DTEND;TZID=Europe/Berlin:20260218T230000
SUMMARY:HE 5. Liga Gr. 2 Langnau IV vs Köniz IV (11)
UID:280c7ccc-262a-4f42-a6c8-6064d4feb7b6
STATUS:CONFIRMED
LAST-MODIFIED:20260220T123428Z
DESCRIPTION:5. Liga Herren Gruppe 2\nBegegnungs-Nr: 11\nHeim: Langnau IV\nGast: Köniz IV\n\nAdresse: Bleicheweg 11\, 3550 Langnau\n
LOCATION:Bleicheweg 11\, 3550 Langnau
CATEGORIES:Saison 2025/26
END:VEVENT
BEGIN:VEVENT
DTSTAMP:20260424T084050Z
DTSTART;TZID=Europe/Berlin:20260124T140000
DTEND;TZID=Europe/Berlin:20260124T170000
SUMMARY:HE 5. Liga Gr. 2 Langnau IV vs Bern XII (5)
UID:8fe31fa4-a0d2-474b-b7c0-8dece8def7f5
STATUS:CONFIRMED
LAST-MODIFIED:20260125T002343Z
DESCRIPTION:5. Liga Herren Gruppe 2\nBegegnungs-Nr: 5\nHeim: Langnau IV\nGast: Bern XII\n\nAdresse: Bleicheweg 11\, 3550 Langnau\n
LOCATION:Bleicheweg 11\, 3550 Langnau
CATEGORIES:Saison 2025/26
END:VEVENT
BEGIN:VEVENT
DTSTAMP:20260424T084050Z
DTSTART;TZID=Europe/Berlin:20251018T140000
DTEND;TZID=Europe/Berlin:20251018T170000
SUMMARY:HE 5. Liga Gr. 2 Langnau IV vs Tiefenau II (8)
UID:d24e996f-a20b-4d40-af29-8ff4d7239392
STATUS:CONFIRMED
LAST-MODIFIED:20251020T114348Z
DESCRIPTION:5. Liga Herren Gruppe 2\nBegegnungs-Nr: 8\nHeim: Langnau IV\nGast: Tiefenau II\n\nAdresse: Bleicheweg 11\, 3550 Langnau\n
LOCATION:Bleicheweg 11\, 3550 Langnau
CATEGORIES:Saison 2025/26
END:VEVENT
BEGIN:VEVENT
DTSTAMP:20260424T084050Z
DTSTART;TZID=Europe/Berlin:20251107T200000
DTEND;TZID=Europe/Berlin:20251107T230000
SUMMARY:HE 5. Liga Gr. 2 Köniz IV vs Langnau IV (11)
UID:ad1b2890-0562-44ce-8851-af629dc499ad
STATUS:CONFIRMED
LAST-MODIFIED:20251115T173233Z
DESCRIPTION:5. Liga Herren Gruppe 2\nBegegnungs-Nr: 11\nHeim: Köniz IV\nGast: Langnau IV\n\nAdresse: Kirchstrasse 72-76\, 3084 Wabern\n
LOCATION:Kirchstrasse 72-76\, 3084 Wabern
CATEGORIES:Saison 2025/26
END:VEVENT
BEGIN:VEVENT
DTSTAMP:20260424T084050Z
DTSTART;TZID=Europe/Berlin:20260331T193000
DTEND;TZID=Europe/Berlin:20260331T223000
SUMMARY:HE 5. Liga Gr. 2 Ostermundigen X vs Langnau IV (19)
UID:5728fcff-14e6-4f83-ae8f-7f4ac2e3a2c1
STATUS:CONFIRMED
LAST-MODIFIED:20260409T123133Z
DESCRIPTION:5. Liga Herren Gruppe 2\nBegegnungs-Nr: 19\nHeim: Ostermundigen X\nGast: Langnau IV\n\nAdresse: Dennigkofenweg 169\, 3072 Ostermundigen\n
LOCATION:Dennigkofenweg 169\, 3072 Ostermundigen
CATEGORIES:Saison 2025/26
END:VEVENT
BEGIN:VEVENT
DTSTAMP:20260424T084050Z
DTSTART;TZID=Europe/Berlin:20260316T194500
DTEND;TZID=Europe/Berlin:20260316T224500
SUMMARY:HE 5. Liga Gr. 2 Düdingen III vs Langnau IV (16)
UID:dc180d3a-2c64-4da1-ac9b-2bc2f60194e3
STATUS:CONFIRMED
LAST-MODIFIED:20260327T142724Z
DESCRIPTION:5. Liga Herren Gruppe 2\nBegegnungs-Nr: 16\nHeim: Düdingen III\nGast: Langnau IV\n\nAdresse: Alfons-Aeby-Strasse\, 3186 Düdingen\n
LOCATION:Alfons-Aeby-Strasse\, 3186 Düdingen
CATEGORIES:Saison 2025/26
END:VEVENT
BEGIN:VEVENT
DTSTAMP:20260424T084050Z
DTSTART;TZID=Europe/Berlin:20260226T194500
DTEND;TZID=Europe/Berlin:20260226T224500
SUMMARY:HE 5. Liga Gr. 2 Tiefenau II vs Langnau IV (8)
UID:8761bd87-a883-4163-8677-933710f75ec8
STATUS:CONFIRMED
LAST-MODIFIED:20260302T144840Z
DESCRIPTION:5. Liga Herren Gruppe 2\nBegegnungs-Nr: 8\nHeim: Tiefenau II\nGast: Langnau IV\n\nAdresse: Studerstrasse 56\, 3004 Bern\n
LOCATION:Studerstrasse 56\, 3004 Bern
CATEGORIES:Saison 2025/26
END:VEVENT
BEGIN:VEVENT
DTSTAMP:20260424T084050Z
DTSTART;TZID=Europe/Berlin:20260106T194500
DTEND;TZID=Europe/Berlin:20260106T224500
SUMMARY:HE 5. Liga Gr. 2 Regio Moossee III vs Langnau IV (2)
UID:db47c546-6d04-4b6f-b12d-edb0837e9276
STATUS:CONFIRMED
LAST-MODIFIED:20260125T002245Z
DESCRIPTION:5. Liga Herren Gruppe 2\nBegegnungs-Nr: 2\nHeim: Regio Moossee III\nGast: Langnau IV\n\nAdresse: Schulhausstrasse 23-25\, 3302 Moosseedorf\n
LOCATION:Schulhausstrasse 23-25\, 3302 Moosseedorf
CATEGORIES:Saison 2025/26
END:VEVENT
BEGIN:VEVENT
DTSTAMP:20260424T084050Z
DTSTART;TZID=Europe/Berlin:20251015T193000
DTEND;TZID=Europe/Berlin:20251015T223000
SUMMARY:HE 5. Liga Gr. 2 Bern XII vs Langnau IV (5)
UID:5a055fca-7f52-4d33-9310-5e91523a4cf9
STATUS:CONFIRMED
LAST-MODIFIED:20251016T191155Z
DESCRIPTION:5. Liga Herren Gruppe 2\nBegegnungs-Nr: 5\nHeim: Bern XII\nGast: Langnau IV\n\nAdresse: Papiermühlestrasse 81\, 3014 Bern\n
LOCATION:Papiermühlestrasse 81\, 3014 Bern
CATEGORIES:Saison 2025/26
END:VEVENT
END:VCALENDAR
