BEGIN:VCALENDAR
PRODID:-//nuDatenautomaten//framework iCal4j //DE
VERSION:2.0
CALSCALE:GREGORIAN
BEGIN:VTIMEZONE
TZID:Europe/Berlin
LAST-MODIFIED:20260306T231828Z
TZURL:https://www.tzurl.org/zoneinfo/Europe/Berlin
X-LIC-LOCATION:Europe/Berlin
X-PROLEPTIC-TZNAME:LMT
BEGIN:STANDARD
TZNAME:CET
TZOFFSETFROM:+005328
TZOFFSETTO:+0100
DTSTART:18930401T000000
END:STANDARD
BEGIN:DAYLIGHT
TZNAME:CEST
TZOFFSETFROM:+0100
TZOFFSETTO:+0200
DTSTART:19160430T230000
RDATE:19400401T020000
RDATE:19430329T020000
RDATE:19460414T020000
RDATE:19470406T030000
RDATE:19480418T020000
RDATE:19490410T020000
RDATE:19800406T020000
END:DAYLIGHT
BEGIN:STANDARD
TZNAME:CET
TZOFFSETFROM:+0200
TZOFFSETTO:+0100
DTSTART:19161001T010000
RDATE:19421102T030000
RDATE:19431004T030000
RDATE:19441002T030000
RDATE:19451118T030000
RDATE:19461007T030000
END:STANDARD
BEGIN:DAYLIGHT
TZNAME:CEST
TZOFFSETFROM:+0100
TZOFFSETTO:+0200
DTSTART:19170416T020000
RRULE:FREQ=YEARLY;UNTIL=19180415T010000Z;BYMONTH=4;BYDAY=3MO
END:DAYLIGHT
BEGIN:STANDARD
TZNAME:CET
TZOFFSETFROM:+0200
TZOFFSETTO:+0100
DTSTART:19170917T030000
RRULE:FREQ=YEARLY;UNTIL=19180916T010000Z;BYMONTH=9;BYDAY=3MO
END:STANDARD
BEGIN:DAYLIGHT
TZNAME:CEST
TZOFFSETFROM:+0100
TZOFFSETTO:+0200
DTSTART:19440403T020000
RRULE:FREQ=YEARLY;UNTIL=19450402T010000Z;BYMONTH=4;BYDAY=1MO
END:DAYLIGHT
BEGIN:DAYLIGHT
TZNAME:CEMT
TZOFFSETFROM:+0200
TZOFFSETTO:+0300
DTSTART:19450524T020000
RDATE:19470511T030000
END:DAYLIGHT
BEGIN:DAYLIGHT
TZNAME:CEST
TZOFFSETFROM:+0300
TZOFFSETTO:+0200
DTSTART:19450924T030000
RDATE:19470629T030000
END:DAYLIGHT
BEGIN:STANDARD
TZNAME:CET
TZOFFSETFROM:+0100
TZOFFSETTO:+0100
DTSTART:19460101T000000
RDATE:19800101T000000
END:STANDARD
BEGIN:STANDARD
TZNAME:CET
TZOFFSETFROM:+0200
TZOFFSETTO:+0100
DTSTART:19471005T030000
RRULE:FREQ=YEARLY;UNTIL=19491002T010000Z;BYMONTH=10;BYDAY=1SU
END:STANDARD
BEGIN:STANDARD
TZNAME:CET
TZOFFSETFROM:+0200
TZOFFSETTO:+0100
DTSTART:19800928T030000
RRULE:FREQ=YEARLY;UNTIL=19950924T010000Z;BYMONTH=9;BYDAY=-1SU
END:STANDARD
BEGIN:DAYLIGHT
TZNAME:CEST
TZOFFSETFROM:+0100
TZOFFSETTO:+0200
DTSTART:19810329T020000
RRULE:FREQ=YEARLY;BYMONTH=3;BYDAY=-1SU
END:DAYLIGHT
BEGIN:STANDARD
TZNAME:CET
TZOFFSETFROM:+0200
TZOFFSETTO:+0100
DTSTART:19961027T030000
RRULE:FREQ=YEARLY;BYMONTH=10;BYDAY=-1SU
END:STANDARD
END:VTIMEZONE
BEGIN:VEVENT
DTSTAMP:20260424T115059Z
DTSTART;TZID=Europe/Berlin:20260116T203000
DTEND;TZID=Europe/Berlin:20260116T233000
SUMMARY:2° Divisione Locarno III vs Tenero II (18)
UID:4a457fb5-649c-4ae7-a6f7-1bb5291bb484
STATUS:CONFIRMED
LAST-MODIFIED:20260119T082350Z
DESCRIPTION:2° Divisione\nBegegnungs-Nr: 18\nHeim: Locarno III\nGast: Tenero II\n\nAdresse: Via alla Morettina 3\, 6600 Locarno\n
LOCATION:Via alla Morettina 3\, 6600 Locarno
CATEGORIES:Saison 2025/26
END:VEVENT
BEGIN:VEVENT
DTSTAMP:20260424T115059Z
DTSTART;TZID=Europe/Berlin:20260327T203000
DTEND;TZID=Europe/Berlin:20260327T233000
SUMMARY:2° Divisione Locarno III vs ABTT III (30)
UID:7647be60-33b5-4c9c-bd61-311b25954e97
STATUS:CONFIRMED
LAST-MODIFIED:20260330T095115Z
DESCRIPTION:2° Divisione\nBegegnungs-Nr: 30\nHeim: Locarno III\nGast: ABTT III\n\nAdresse: Via alla Morettina 3\, 6600 Locarno\n
LOCATION:Via alla Morettina 3\, 6600 Locarno
CATEGORIES:Saison 2025/26
END:VEVENT
BEGIN:VEVENT
DTSTAMP:20260424T115059Z
DTSTART;TZID=Europe/Berlin:20260227T203000
DTEND;TZID=Europe/Berlin:20260227T233000
SUMMARY:2° Divisione Locarno III vs Lugano V (24)
UID:c5ee20e1-2ac9-4eca-859f-e2faca923de9
STATUS:CONFIRMED
LAST-MODIFIED:20260301T112328Z
DESCRIPTION:2° Divisione\nBegegnungs-Nr: 24\nHeim: Locarno III\nGast: Lugano V\n\nAdresse: Via alla Morettina 3\, 6600 Locarno\n
LOCATION:Via alla Morettina 3\, 6600 Locarno
CATEGORIES:Saison 2025/26
END:VEVENT
BEGIN:VEVENT
DTSTAMP:20260424T115059Z
DTSTART;TZID=Europe/Berlin:20251010T203000
DTEND;TZID=Europe/Berlin:20251010T233000
SUMMARY:2° Divisione Locarno III vs Lugano IV (5)
UID:9d3b8c3e-ba24-450e-9961-c3960cd1296c
STATUS:CONFIRMED
LAST-MODIFIED:20251013T063324Z
DESCRIPTION:2° Divisione\nBegegnungs-Nr: 5\nHeim: Locarno III\nGast: Lugano IV\n\nAdresse: Via alla Morettina 3\, 6600 Locarno\n
LOCATION:Via alla Morettina 3\, 6600 Locarno
CATEGORIES:Saison 2025/26
END:VEVENT
BEGIN:VEVENT
DTSTAMP:20260424T115059Z
DTSTART;TZID=Europe/Berlin:20251114T203000
DTEND;TZID=Europe/Berlin:20251114T233000
SUMMARY:2° Divisione Locarno III vs Riva S.Vitale II (10)
UID:4ddbdcfe-42be-4581-9145-fe4a55344c90
STATUS:CONFIRMED
LAST-MODIFIED:20251117T075036Z
DESCRIPTION:2° Divisione\nBegegnungs-Nr: 10\nHeim: Locarno III\nGast: Riva S.Vitale II\n\nAdresse: Via alla Morettina 3\, 6600 Locarno\n
LOCATION:Via alla Morettina 3\, 6600 Locarno
CATEGORIES:Saison 2025/26
END:VEVENT
BEGIN:VEVENT
DTSTAMP:20260424T115059Z
DTSTART;TZID=Europe/Berlin:20260130T201500
DTEND;TZID=Europe/Berlin:20260130T231500
SUMMARY:2° Divisione Lugano IV vs Locarno III (20)
UID:a4e26da1-8236-4797-9ad6-ce8c3a7d3212
STATUS:CONFIRMED
LAST-MODIFIED:20260202T075802Z
DESCRIPTION:2° Divisione\nBegegnungs-Nr: 20\nHeim: Lugano IV\nGast: Locarno III\n\nAdresse: Via al Chioso 7\, 6900 Lugano-Cassarate\n
LOCATION:Via al Chioso 7\, 6900 Lugano-Cassarate
CATEGORIES:Saison 2025/26
END:VEVENT
BEGIN:VEVENT
DTSTAMP:20260424T115059Z
DTSTART;TZID=Europe/Berlin:20260313T203000
DTEND;TZID=Europe/Berlin:20260313T233000
SUMMARY:2° Divisione Riva S.Vitale II vs Locarno III (25)
UID:10f3a15a-221d-4c35-a490-d6247db9cdce
STATUS:CONFIRMED
LAST-MODIFIED:20260316T073138Z
DESCRIPTION:2° Divisione\nBegegnungs-Nr: 25\nHeim: Riva S.Vitale II\nGast: Locarno III\n\nAdresse: Via Monsignor Sesti\, 6826 Riva San Vitale\n
LOCATION:Via Monsignor Sesti\, 6826 Riva San Vitale
CATEGORIES:Saison 2025/26
END:VEVENT
BEGIN:VEVENT
DTSTAMP:20260424T115059Z
DTSTART;TZID=Europe/Berlin:20250926T194500
DTEND;TZID=Europe/Berlin:20250926T224500
SUMMARY:2° Divisione Tenero II vs Locarno III (3)
UID:1a7d7bda-a08e-4d1d-a188-c19afba8b88f
STATUS:CONFIRMED
LAST-MODIFIED:20250929T055705Z
DESCRIPTION:2° Divisione\nBegegnungs-Nr: 3\nHeim: Tenero II\nGast: Locarno III\n\nAdresse: Palestra Naviglio\, Gottardo\, Squash\, 6598 Tenero\n
LOCATION:Palestra Naviglio\, Gottardo\, Squash\, 6598 Tenero
CATEGORIES:Saison 2025/26
END:VEVENT
BEGIN:VEVENT
DTSTAMP:20260424T115059Z
DTSTART;TZID=Europe/Berlin:20251024T201500
DTEND;TZID=Europe/Berlin:20251024T231500
SUMMARY:2° Divisione Lugano V vs Locarno III (9)
UID:1ff62023-22d9-4a8b-b53c-bc68cf160a8e
STATUS:CONFIRMED
LAST-MODIFIED:20251027T065710Z
DESCRIPTION:2° Divisione\nBegegnungs-Nr: 9\nHeim: Lugano V\nGast: Locarno III\n\nAdresse: Via al Chioso 7\, 6900 Lugano-Cassarate\n
LOCATION:Via al Chioso 7\, 6900 Lugano-Cassarate
CATEGORIES:Saison 2025/26
END:VEVENT
BEGIN:VEVENT
DTSTAMP:20260424T115059Z
DTSTART;TZID=Europe/Berlin:20251205T201500
DTEND;TZID=Europe/Berlin:20251205T231500
SUMMARY:2° Divisione ABTT III vs Locarno III (15)
UID:aff83134-373f-48ee-af4e-2b84189c3703
STATUS:CONFIRMED
LAST-MODIFIED:20251208T085903Z
DESCRIPTION:2° Divisione\nBegegnungs-Nr: 15\nHeim: ABTT III\nGast: Locarno III\n\nAdresse: Francesco Chiesa 2a\, 6500 Bellinzona\n
LOCATION:Francesco Chiesa 2a\, 6500 Bellinzona
CATEGORIES:Saison 2025/26
END:VEVENT
END:VCALENDAR
