BEGIN:VCALENDAR
PRODID:-//nuDatenautomaten//framework iCal4j //DE
VERSION:2.0
CALSCALE:GREGORIAN
BEGIN:VTIMEZONE
TZID:Europe/Berlin
LAST-MODIFIED:20260306T231828Z
TZURL:https://www.tzurl.org/zoneinfo/Europe/Berlin
X-LIC-LOCATION:Europe/Berlin
X-PROLEPTIC-TZNAME:LMT
BEGIN:STANDARD
TZNAME:CET
TZOFFSETFROM:+005328
TZOFFSETTO:+0100
DTSTART:18930401T000000
END:STANDARD
BEGIN:DAYLIGHT
TZNAME:CEST
TZOFFSETFROM:+0100
TZOFFSETTO:+0200
DTSTART:19160430T230000
RDATE:19400401T020000
RDATE:19430329T020000
RDATE:19460414T020000
RDATE:19470406T030000
RDATE:19480418T020000
RDATE:19490410T020000
RDATE:19800406T020000
END:DAYLIGHT
BEGIN:STANDARD
TZNAME:CET
TZOFFSETFROM:+0200
TZOFFSETTO:+0100
DTSTART:19161001T010000
RDATE:19421102T030000
RDATE:19431004T030000
RDATE:19441002T030000
RDATE:19451118T030000
RDATE:19461007T030000
END:STANDARD
BEGIN:DAYLIGHT
TZNAME:CEST
TZOFFSETFROM:+0100
TZOFFSETTO:+0200
DTSTART:19170416T020000
RRULE:FREQ=YEARLY;UNTIL=19180415T010000Z;BYMONTH=4;BYDAY=3MO
END:DAYLIGHT
BEGIN:STANDARD
TZNAME:CET
TZOFFSETFROM:+0200
TZOFFSETTO:+0100
DTSTART:19170917T030000
RRULE:FREQ=YEARLY;UNTIL=19180916T010000Z;BYMONTH=9;BYDAY=3MO
END:STANDARD
BEGIN:DAYLIGHT
TZNAME:CEST
TZOFFSETFROM:+0100
TZOFFSETTO:+0200
DTSTART:19440403T020000
RRULE:FREQ=YEARLY;UNTIL=19450402T010000Z;BYMONTH=4;BYDAY=1MO
END:DAYLIGHT
BEGIN:DAYLIGHT
TZNAME:CEMT
TZOFFSETFROM:+0200
TZOFFSETTO:+0300
DTSTART:19450524T020000
RDATE:19470511T030000
END:DAYLIGHT
BEGIN:DAYLIGHT
TZNAME:CEST
TZOFFSETFROM:+0300
TZOFFSETTO:+0200
DTSTART:19450924T030000
RDATE:19470629T030000
END:DAYLIGHT
BEGIN:STANDARD
TZNAME:CET
TZOFFSETFROM:+0100
TZOFFSETTO:+0100
DTSTART:19460101T000000
RDATE:19800101T000000
END:STANDARD
BEGIN:STANDARD
TZNAME:CET
TZOFFSETFROM:+0200
TZOFFSETTO:+0100
DTSTART:19471005T030000
RRULE:FREQ=YEARLY;UNTIL=19491002T010000Z;BYMONTH=10;BYDAY=1SU
END:STANDARD
BEGIN:STANDARD
TZNAME:CET
TZOFFSETFROM:+0200
TZOFFSETTO:+0100
DTSTART:19800928T030000
RRULE:FREQ=YEARLY;UNTIL=19950924T010000Z;BYMONTH=9;BYDAY=-1SU
END:STANDARD
BEGIN:DAYLIGHT
TZNAME:CEST
TZOFFSETFROM:+0100
TZOFFSETTO:+0200
DTSTART:19810329T020000
RRULE:FREQ=YEARLY;BYMONTH=3;BYDAY=-1SU
END:DAYLIGHT
BEGIN:STANDARD
TZNAME:CET
TZOFFSETFROM:+0200
TZOFFSETTO:+0100
DTSTART:19961027T030000
RRULE:FREQ=YEARLY;BYMONTH=10;BYDAY=-1SU
END:STANDARD
END:VTIMEZONE
BEGIN:VEVENT
DTSTAMP:20260424T140358Z
DTSTART;TZID=Europe/Berlin:20250819T200000
DTEND;TZID=Europe/Berlin:20250819T230000
SUMMARY:HE 5. Liga Gr. 2 Sisseln II vs Möhlin II (0)
UID:1ed1948a-ba91-4d25-889a-977fdc425119
STATUS:CONFIRMED
LAST-MODIFIED:20250825T070802Z
DESCRIPTION:5. Liga Herren Gruppe 2\nBegegnungs-Nr: 0\nHeim: Sisseln II\nGast: Möhlin II\n\nAdresse: Schulstrasse\, 4334 Sisseln\n
LOCATION:Schulstrasse\, 4334 Sisseln
CATEGORIES:Saison 2025/26
END:VEVENT
BEGIN:VEVENT
DTSTAMP:20260424T140358Z
DTSTART;TZID=Europe/Berlin:20250902T193000
DTEND;TZID=Europe/Berlin:20250902T223000
SUMMARY:HE 5. Liga Gr. 2 Sisseln II vs Münchenstein-City IV (0)
UID:fed1ba14-c2fd-40c6-887b-4bc09e0afbb5
STATUS:CONFIRMED
LAST-MODIFIED:20250905T121612Z
DESCRIPTION:5. Liga Herren Gruppe 2\nBegegnungs-Nr: 0\nHeim: Sisseln II\nGast: Münchenstein-City IV\n\nAdresse: Schulstrasse\, 4334 Sisseln\n
LOCATION:Schulstrasse\, 4334 Sisseln
CATEGORIES:Saison 2025/26
END:VEVENT
BEGIN:VEVENT
DTSTAMP:20260424T140358Z
DTSTART;TZID=Europe/Berlin:20250919T200000
DTEND;TZID=Europe/Berlin:20250919T230000
SUMMARY:HE 5. Liga Gr. 2 Sisseln II vs Basel IX (0)
UID:c5049cdf-4e21-4cc2-8046-f7a54ac944bc
STATUS:CONFIRMED
LAST-MODIFIED:20250926T123740Z
DESCRIPTION:5. Liga Herren Gruppe 2\nBegegnungs-Nr: 0\nHeim: Sisseln II\nGast: Basel IX\n\nAdresse: Schulstrasse\, 4334 Sisseln\n
LOCATION:Schulstrasse\, 4334 Sisseln
CATEGORIES:Saison 2025/26
END:VEVENT
BEGIN:VEVENT
DTSTAMP:20260424T140358Z
DTSTART;TZID=Europe/Berlin:20251114T200000
DTEND;TZID=Europe/Berlin:20251114T230000
SUMMARY:HE 5. Liga Gr. 2 Sisseln II vs Gelterkinden IV (0)
UID:2acdaa54-7901-4e1c-bf28-d127fdc08111
STATUS:CONFIRMED
LAST-MODIFIED:20251119T123235Z
DESCRIPTION:5. Liga Herren Gruppe 2\nBegegnungs-Nr: 0\nHeim: Sisseln II\nGast: Gelterkinden IV\n\nAdresse: Schulstrasse\, 4334 Sisseln\n
LOCATION:Schulstrasse\, 4334 Sisseln
CATEGORIES:Saison 2025/26
END:VEVENT
BEGIN:VEVENT
DTSTAMP:20260424T140358Z
DTSTART;TZID=Europe/Berlin:20260127T200000
DTEND;TZID=Europe/Berlin:20260127T230000
SUMMARY:HE 5. Liga Gr. 2 Sisseln II vs Frenkendorf/Füllinsd. (0)
UID:b8d428b9-0aa3-4c6f-810c-0d30c1561f47
STATUS:CONFIRMED
LAST-MODIFIED:20260130T133416Z
DESCRIPTION:5. Liga Herren Gruppe 2\nBegegnungs-Nr: 0\nHeim: Sisseln II\nGast: Frenkendorf/Füllinsd.\n\nAdresse: Schulstrasse\, 4334 Sisseln\n
LOCATION:Schulstrasse\, 4334 Sisseln
CATEGORIES:Saison 2025/26
END:VEVENT
BEGIN:VEVENT
DTSTAMP:20260424T140358Z
DTSTART;TZID=Europe/Berlin:20260310T200000
DTEND;TZID=Europe/Berlin:20260310T230000
SUMMARY:HE 5. Liga Gr. 2 Sisseln II vs Basel XI (0)
UID:251b8757-670f-4ad8-a4e9-2ecf610e57c7
STATUS:CONFIRMED
LAST-MODIFIED:20260313T130610Z
DESCRIPTION:5. Liga Herren Gruppe 2\nBegegnungs-Nr: 0\nHeim: Sisseln II\nGast: Basel XI\n\nAdresse: Schulstrasse\, 4334 Sisseln\n
LOCATION:Schulstrasse\, 4334 Sisseln
CATEGORIES:Saison 2025/26
END:VEVENT
BEGIN:VEVENT
DTSTAMP:20260424T140358Z
DTSTART;TZID=Europe/Berlin:20260324T200000
DTEND;TZID=Europe/Berlin:20260324T230000
SUMMARY:HE 5. Liga Gr. 2 Sisseln II vs KV Liestal IV (0)
UID:206b05d3-efb8-4822-9321-5aebe855d9c5
STATUS:CONFIRMED
LAST-MODIFIED:20260416T094045Z
DESCRIPTION:5. Liga Herren Gruppe 2\nBegegnungs-Nr: 0\nHeim: Sisseln II\nGast: KV Liestal IV\n\nAdresse: Schulstrasse\, 4334 Sisseln\n
LOCATION:Schulstrasse\, 4334 Sisseln
CATEGORIES:Saison 2025/26
END:VEVENT
BEGIN:VEVENT
DTSTAMP:20260424T140358Z
DTSTART;TZID=Europe/Berlin:20260109T200000
DTEND;TZID=Europe/Berlin:20260109T230000
SUMMARY:HE 5. Liga Gr. 2 Möhlin II vs Sisseln II (0)
UID:8e78d51d-5119-4f07-8b3c-fc23b772e792
STATUS:CONFIRMED
LAST-MODIFIED:20260115T094854Z
DESCRIPTION:5. Liga Herren Gruppe 2\nBegegnungs-Nr: 0\nHeim: Möhlin II\nGast: Sisseln II\n\nAdresse: Schulhausweg\, 4313 Möhlin\n
LOCATION:Schulhausweg\, 4313 Möhlin
CATEGORIES:Saison 2025/26
END:VEVENT
BEGIN:VEVENT
DTSTAMP:20260424T140358Z
DTSTART;TZID=Europe/Berlin:20251013T193000
DTEND;TZID=Europe/Berlin:20251013T223000
SUMMARY:HE 5. Liga Gr. 2 Frenkendorf/Füllinsd. vs Sisseln II (0)
UID:307c7da9-7dff-4c5f-a12d-50f1dc2fcb9a
STATUS:CONFIRMED
LAST-MODIFIED:20251016T145851Z
DESCRIPTION:5. Liga Herren Gruppe 2\nBegegnungs-Nr: 0\nHeim: Frenkendorf/Füllinsd.\nGast: Sisseln II\n\nAdresse: Schulstrasse\, 4402 Frenkendorf\n
LOCATION:Schulstrasse\, 4402 Frenkendorf
CATEGORIES:Saison 2025/26
END:VEVENT
BEGIN:VEVENT
DTSTAMP:20260424T140358Z
DTSTART;TZID=Europe/Berlin:20251119T200000
DTEND;TZID=Europe/Berlin:20251119T230000
SUMMARY:HE 5. Liga Gr. 2 Basel XI vs Sisseln II (0)
UID:ed2a0a0d-7266-44db-9d09-d13326f7089d
STATUS:CONFIRMED
LAST-MODIFIED:20251120T083630Z
DESCRIPTION:5. Liga Herren Gruppe 2\nBegegnungs-Nr: 0\nHeim: Basel XI\nGast: Sisseln II\n\nAdresse: Schwarzwaldallee 107\, 4058 Basel\n
LOCATION:Schwarzwaldallee 107\, 4058 Basel
CATEGORIES:Saison 2025/26
END:VEVENT
BEGIN:VEVENT
DTSTAMP:20260424T140358Z
DTSTART;TZID=Europe/Berlin:20260108T193000
DTEND;TZID=Europe/Berlin:20260108T223000
SUMMARY:HE 5. Liga Gr. 2 Münchenstein-City IV vs Sisseln II (0)
UID:71574885-377b-4fa5-95b4-a1b92edc104e
STATUS:CONFIRMED
LAST-MODIFIED:20260109T074357Z
DESCRIPTION:5. Liga Herren Gruppe 2\nBegegnungs-Nr: 0\nHeim: Münchenstein-City IV\nGast: Sisseln II\n\nAdresse: Gruthweg 8\, 4142 Münchenstein\n
LOCATION:Gruthweg 8\, 4142 Münchenstein
CATEGORIES:Saison 2025/26
END:VEVENT
BEGIN:VEVENT
DTSTAMP:20260424T140358Z
DTSTART;TZID=Europe/Berlin:20260128T200000
DTEND;TZID=Europe/Berlin:20260128T230000
SUMMARY:HE 5. Liga Gr. 2 Basel IX vs Sisseln II (0)
UID:633a9947-162e-4e65-8e95-c59d26b8b2af
STATUS:CONFIRMED
LAST-MODIFIED:20260130T133423Z
DESCRIPTION:5. Liga Herren Gruppe 2\nBegegnungs-Nr: 0\nHeim: Basel IX\nGast: Sisseln II\n\nAdresse: Schwarzwaldallee 107\, 4058 Basel\n
LOCATION:Schwarzwaldallee 107\, 4058 Basel
CATEGORIES:Saison 2025/26
END:VEVENT
BEGIN:VEVENT
DTSTAMP:20260424T140358Z
DTSTART;TZID=Europe/Berlin:20251209T201500
DTEND;TZID=Europe/Berlin:20251209T231500
SUMMARY:HE 5. Liga Gr. 2 KV Liestal IV vs Sisseln II (0)
UID:610e29f2-d664-4da4-94e2-eaa0a0efa38d
STATUS:CONFIRMED
LAST-MODIFIED:20251211T112050Z
DESCRIPTION:5. Liga Herren Gruppe 2\nBegegnungs-Nr: 0\nHeim: KV Liestal IV\nGast: Sisseln II\n\nAdresse: Büchelistrasse\, 4410 Liestal\n
LOCATION:Büchelistrasse\, 4410 Liestal
CATEGORIES:Saison 2025/26
END:VEVENT
BEGIN:VEVENT
DTSTAMP:20260424T140358Z
DTSTART;TZID=Europe/Berlin:20260302T201500
DTEND;TZID=Europe/Berlin:20260302T231500
SUMMARY:HE 5. Liga Gr. 2 Gelterkinden IV vs Sisseln II (0)
UID:76fe4aa3-85a7-49f7-aa6f-49e63c2e12af
STATUS:CONFIRMED
LAST-MODIFIED:20260313T130500Z
DESCRIPTION:5. Liga Herren Gruppe 2\nBegegnungs-Nr: 0\nHeim: Gelterkinden IV\nGast: Sisseln II\n\nAdresse: Turnhallenstrasse 18\, 4460 Gelterkinden\n
LOCATION:Turnhallenstrasse 18\, 4460 Gelterkinden
CATEGORIES:Saison 2025/26
END:VEVENT
END:VCALENDAR
