BEGIN:VCALENDAR
PRODID:-//nuDatenautomaten//framework iCal4j //DE
VERSION:2.0
CALSCALE:GREGORIAN
BEGIN:VTIMEZONE
TZID:Europe/Berlin
LAST-MODIFIED:20260306T231828Z
TZURL:https://www.tzurl.org/zoneinfo/Europe/Berlin
X-LIC-LOCATION:Europe/Berlin
X-PROLEPTIC-TZNAME:LMT
BEGIN:STANDARD
TZNAME:CET
TZOFFSETFROM:+005328
TZOFFSETTO:+0100
DTSTART:18930401T000000
END:STANDARD
BEGIN:DAYLIGHT
TZNAME:CEST
TZOFFSETFROM:+0100
TZOFFSETTO:+0200
DTSTART:19160430T230000
RDATE:19400401T020000
RDATE:19430329T020000
RDATE:19460414T020000
RDATE:19470406T030000
RDATE:19480418T020000
RDATE:19490410T020000
RDATE:19800406T020000
END:DAYLIGHT
BEGIN:STANDARD
TZNAME:CET
TZOFFSETFROM:+0200
TZOFFSETTO:+0100
DTSTART:19161001T010000
RDATE:19421102T030000
RDATE:19431004T030000
RDATE:19441002T030000
RDATE:19451118T030000
RDATE:19461007T030000
END:STANDARD
BEGIN:DAYLIGHT
TZNAME:CEST
TZOFFSETFROM:+0100
TZOFFSETTO:+0200
DTSTART:19170416T020000
RRULE:FREQ=YEARLY;UNTIL=19180415T010000Z;BYMONTH=4;BYDAY=3MO
END:DAYLIGHT
BEGIN:STANDARD
TZNAME:CET
TZOFFSETFROM:+0200
TZOFFSETTO:+0100
DTSTART:19170917T030000
RRULE:FREQ=YEARLY;UNTIL=19180916T010000Z;BYMONTH=9;BYDAY=3MO
END:STANDARD
BEGIN:DAYLIGHT
TZNAME:CEST
TZOFFSETFROM:+0100
TZOFFSETTO:+0200
DTSTART:19440403T020000
RRULE:FREQ=YEARLY;UNTIL=19450402T010000Z;BYMONTH=4;BYDAY=1MO
END:DAYLIGHT
BEGIN:DAYLIGHT
TZNAME:CEMT
TZOFFSETFROM:+0200
TZOFFSETTO:+0300
DTSTART:19450524T020000
RDATE:19470511T030000
END:DAYLIGHT
BEGIN:DAYLIGHT
TZNAME:CEST
TZOFFSETFROM:+0300
TZOFFSETTO:+0200
DTSTART:19450924T030000
RDATE:19470629T030000
END:DAYLIGHT
BEGIN:STANDARD
TZNAME:CET
TZOFFSETFROM:+0100
TZOFFSETTO:+0100
DTSTART:19460101T000000
RDATE:19800101T000000
END:STANDARD
BEGIN:STANDARD
TZNAME:CET
TZOFFSETFROM:+0200
TZOFFSETTO:+0100
DTSTART:19471005T030000
RRULE:FREQ=YEARLY;UNTIL=19491002T010000Z;BYMONTH=10;BYDAY=1SU
END:STANDARD
BEGIN:STANDARD
TZNAME:CET
TZOFFSETFROM:+0200
TZOFFSETTO:+0100
DTSTART:19800928T030000
RRULE:FREQ=YEARLY;UNTIL=19950924T010000Z;BYMONTH=9;BYDAY=-1SU
END:STANDARD
BEGIN:DAYLIGHT
TZNAME:CEST
TZOFFSETFROM:+0100
TZOFFSETTO:+0200
DTSTART:19810329T020000
RRULE:FREQ=YEARLY;BYMONTH=3;BYDAY=-1SU
END:DAYLIGHT
BEGIN:STANDARD
TZNAME:CET
TZOFFSETFROM:+0200
TZOFFSETTO:+0100
DTSTART:19961027T030000
RRULE:FREQ=YEARLY;BYMONTH=10;BYDAY=-1SU
END:STANDARD
END:VTIMEZONE
BEGIN:VEVENT
DTSTAMP:20260424T135212Z
DTSTART;TZID=Europe/Berlin:20260119T200000
DTEND;TZID=Europe/Berlin:20260119T230000
SUMMARY:HE 1. Liga Schöftland II vs Oberwil (null)
UID:021d9e8f-0e3c-4e3a-bd14-57b90399a728
STATUS:CONFIRMED
LAST-MODIFIED:20260123T080738Z
DESCRIPTION:1. Liga Herren Gruppe 1\nBegegnungs-Nr: null\nHeim: Schöftland II\nGast: Oberwil\n\nAdresse: Birkenweg\, 5040 Schöftland\n
LOCATION:Birkenweg\, 5040 Schöftland
CATEGORIES:Saison 2025/26
END:VEVENT
BEGIN:VEVENT
DTSTAMP:20260424T135212Z
DTSTART;TZID=Europe/Berlin:20260316T200000
DTEND;TZID=Europe/Berlin:20260316T230000
SUMMARY:HE 1. Liga Schöftland II vs Olten (null)
UID:233e2e6d-eb67-46d0-bb4d-a632f7cd1f9a
STATUS:CONFIRMED
LAST-MODIFIED:20260318T105659Z
DESCRIPTION:1. Liga Herren Gruppe 1\nBegegnungs-Nr: null\nHeim: Schöftland II\nGast: Olten\n\nAdresse: Birkenweg\, 5040 Schöftland\n
LOCATION:Birkenweg\, 5040 Schöftland
CATEGORIES:Saison 2025/26
END:VEVENT
BEGIN:VEVENT
DTSTAMP:20260424T135212Z
DTSTART;TZID=Europe/Berlin:20260309T200000
DTEND;TZID=Europe/Berlin:20260309T230000
SUMMARY:HE 1. Liga Schöftland II vs Aesch (null)
UID:e2ba185d-70dd-445e-b9a7-e9810e8ad3ed
STATUS:CONFIRMED
LAST-MODIFIED:20260313T124751Z
DESCRIPTION:1. Liga Herren Gruppe 1\nBegegnungs-Nr: null\nHeim: Schöftland II\nGast: Aesch\n\nAdresse: Birkenweg\, 5040 Schöftland\n
LOCATION:Birkenweg\, 5040 Schöftland
CATEGORIES:Saison 2025/26
END:VEVENT
BEGIN:VEVENT
DTSTAMP:20260424T135212Z
DTSTART;TZID=Europe/Berlin:20250818T200000
DTEND;TZID=Europe/Berlin:20250818T230000
SUMMARY:HE 1. Liga Schöftland II vs Bremgarten II (null)
UID:e32a73e3-f9d7-4df9-85f8-6ea171053f69
STATUS:CONFIRMED
LAST-MODIFIED:20250825T064741Z
DESCRIPTION:1. Liga Herren Gruppe 1\nBegegnungs-Nr: null\nHeim: Schöftland II\nGast: Bremgarten II\n\nAdresse: Birkenweg\, 5040 Schöftland\n
LOCATION:Birkenweg\, 5040 Schöftland
CATEGORIES:Saison 2025/26
END:VEVENT
BEGIN:VEVENT
DTSTAMP:20260424T135212Z
DTSTART;TZID=Europe/Berlin:20250915T200000
DTEND;TZID=Europe/Berlin:20250915T230000
SUMMARY:HE 1. Liga Schöftland II vs Döttingen (null)
UID:0b489870-0af9-4368-a8e1-949ee47f2ff6
STATUS:CONFIRMED
LAST-MODIFIED:20250918T094620Z
DESCRIPTION:1. Liga Herren Gruppe 1\nBegegnungs-Nr: null\nHeim: Schöftland II\nGast: Döttingen\n\nAdresse: Birkenweg\, 5040 Schöftland\n
LOCATION:Birkenweg\, 5040 Schöftland
CATEGORIES:Saison 2025/26
END:VEVENT
BEGIN:VEVENT
DTSTAMP:20260424T135212Z
DTSTART;TZID=Europe/Berlin:20251027T200000
DTEND;TZID=Europe/Berlin:20251027T230000
SUMMARY:HE 1. Liga Schöftland II vs Baden-Wettingen (null)
UID:da58ab56-a2c5-4784-9451-bf3033ac2106
STATUS:CONFIRMED
LAST-MODIFIED:20251029T100511Z
DESCRIPTION:1. Liga Herren Gruppe 1\nBegegnungs-Nr: null\nHeim: Schöftland II\nGast: Baden-Wettingen\n\nAdresse: Birkenweg\, 5040 Schöftland\n
LOCATION:Birkenweg\, 5040 Schöftland
CATEGORIES:Saison 2025/26
END:VEVENT
BEGIN:VEVENT
DTSTAMP:20260424T135212Z
DTSTART;TZID=Europe/Berlin:20251215T200000
DTEND;TZID=Europe/Berlin:20251215T230000
SUMMARY:HE 1. Liga Schöftland II vs Rio-Star Muttenz III (null)
UID:aedd5ff1-924b-45ee-a88f-55d9966a5078
STATUS:CONFIRMED
LAST-MODIFIED:20251218T122544Z
DESCRIPTION:1. Liga Herren Gruppe 1\nBegegnungs-Nr: null\nHeim: Schöftland II\nGast: Rio-Star Muttenz III\n\nAdresse: Birkenweg\, 5040 Schöftland\n
LOCATION:Birkenweg\, 5040 Schöftland
CATEGORIES:Saison 2025/26
END:VEVENT
BEGIN:VEVENT
DTSTAMP:20260424T135212Z
DTSTART;TZID=Europe/Berlin:20260121T201500
DTEND;TZID=Europe/Berlin:20260121T231500
SUMMARY:HE 1. Liga Döttingen vs Schöftland II (null)
UID:b6f57aef-c011-441a-812e-37f117c1bc9c
STATUS:CONFIRMED
LAST-MODIFIED:20260123T080751Z
DESCRIPTION:1. Liga Herren Gruppe 1\nBegegnungs-Nr: null\nHeim: Döttingen\nGast: Schöftland II\n\nAdresse: Im Bogen\, Chilbert 25\, 5312 Döttingen\n
LOCATION:Im Bogen\, Chilbert 25\, 5312 Döttingen
CATEGORIES:Saison 2025/26
END:VEVENT
BEGIN:VEVENT
DTSTAMP:20260424T135212Z
DTSTART;TZID=Europe/Berlin:20260127T201500
DTEND;TZID=Europe/Berlin:20260127T231500
SUMMARY:HE 1. Liga Bremgarten II vs Schöftland II (null)
UID:e43cfe0c-84f2-429a-8d0d-5c620c5c0be0
STATUS:CONFIRMED
LAST-MODIFIED:20260129T074155Z
DESCRIPTION:1. Liga Herren Gruppe 1\nBegegnungs-Nr: null\nHeim: Bremgarten II\nGast: Schöftland II\n\nAdresse: Badstrasse 3\, 5620 Bremgarten\n
LOCATION:Badstrasse 3\, 5620 Bremgarten
CATEGORIES:Saison 2025/26
END:VEVENT
BEGIN:VEVENT
DTSTAMP:20260424T135212Z
DTSTART;TZID=Europe/Berlin:20260223T194500
DTEND;TZID=Europe/Berlin:20260223T224500
SUMMARY:HE 1. Liga Baden-Wettingen vs Schöftland II (null)
UID:c55cde02-8e0d-4ff6-80ab-6a91df957fa5
STATUS:CONFIRMED
LAST-MODIFIED:20260225T111822Z
DESCRIPTION:1. Liga Herren Gruppe 1\nBegegnungs-Nr: null\nHeim: Baden-Wettingen\nGast: Schöftland II\n\nAdresse: Wiesenstrasse 32 (Parkhaus Schmiede Fabrikstrasse)\, 5400 Baden\n
LOCATION:Wiesenstrasse 32 (Parkhaus Schmiede Fabrikstrasse)\, 5400 Baden
CATEGORIES:Saison 2025/26
END:VEVENT
BEGIN:VEVENT
DTSTAMP:20260424T135212Z
DTSTART;TZID=Europe/Berlin:20260327T193000
DTEND;TZID=Europe/Berlin:20260327T223000
SUMMARY:HE 1. Liga Rio-Star Muttenz III vs Schöftland II (null)
UID:e2806fa8-e012-47e2-8b3e-e1e419bc5ffa
STATUS:CONFIRMED
LAST-MODIFIED:20260420T133731Z
DESCRIPTION:1. Liga Herren Gruppe 1\nBegegnungs-Nr: null\nHeim: Rio-Star Muttenz III\nGast: Schöftland II\n\nAdresse: Gründenstrasse 32\, 4132 Muttenz\n
LOCATION:Gründenstrasse 32\, 4132 Muttenz
CATEGORIES:Saison 2025/26
END:VEVENT
BEGIN:VEVENT
DTSTAMP:20260424T135212Z
DTSTART;TZID=Europe/Berlin:20250905T194500
DTEND;TZID=Europe/Berlin:20250905T224500
SUMMARY:HE 1. Liga Oberwil vs Schöftland II (null)
UID:54630097-6aff-4cb9-8294-1e3f66e281a0
STATUS:CONFIRMED
LAST-MODIFIED:20250911T110814Z
DESCRIPTION:1. Liga Herren Gruppe 1\nBegegnungs-Nr: null\nHeim: Oberwil\nGast: Schöftland II\n\nAdresse: Schulstrasse\, 4104 Oberwil\n
LOCATION:Schulstrasse\, 4104 Oberwil
CATEGORIES:Saison 2025/26
END:VEVENT
BEGIN:VEVENT
DTSTAMP:20260424T135212Z
DTSTART;TZID=Europe/Berlin:20250924T200000
DTEND;TZID=Europe/Berlin:20250924T230000
SUMMARY:HE 1. Liga Olten vs Schöftland II (null)
UID:77c18df6-d11e-4f09-b537-f694166a42a2
STATUS:CONFIRMED
LAST-MODIFIED:20250926T122941Z
DESCRIPTION:1. Liga Herren Gruppe 1\nBegegnungs-Nr: null\nHeim: Olten\nGast: Schöftland II\n\nAdresse: Stockackerstrasse 17\, 5013 Niedergösgen\n
LOCATION:Stockackerstrasse 17\, 5013 Niedergösgen
CATEGORIES:Saison 2025/26
END:VEVENT
BEGIN:VEVENT
DTSTAMP:20260424T135212Z
DTSTART;TZID=Europe/Berlin:20251120T193000
DTEND;TZID=Europe/Berlin:20251120T223000
SUMMARY:HE 1. Liga Aesch vs Schöftland II (null)
UID:25208d46-0cca-4079-9f3a-b2332b542d24
STATUS:CONFIRMED
LAST-MODIFIED:20251121T093334Z
DESCRIPTION:1. Liga Herren Gruppe 1\nBegegnungs-Nr: null\nHeim: Aesch\nGast: Schöftland II\n\nAdresse: Dornacherstrasse\, 4147 Aesch\n
LOCATION:Dornacherstrasse\, 4147 Aesch
CATEGORIES:Saison 2025/26
END:VEVENT
END:VCALENDAR
