BEGIN:VCALENDAR
PRODID:-//nuDatenautomaten//framework iCal4j //DE
VERSION:2.0
CALSCALE:GREGORIAN
BEGIN:VTIMEZONE
TZID:Europe/Berlin
LAST-MODIFIED:20260306T231828Z
TZURL:https://www.tzurl.org/zoneinfo/Europe/Berlin
X-LIC-LOCATION:Europe/Berlin
X-PROLEPTIC-TZNAME:LMT
BEGIN:STANDARD
TZNAME:CET
TZOFFSETFROM:+005328
TZOFFSETTO:+0100
DTSTART:18930401T000000
END:STANDARD
BEGIN:DAYLIGHT
TZNAME:CEST
TZOFFSETFROM:+0100
TZOFFSETTO:+0200
DTSTART:19160430T230000
RDATE:19400401T020000
RDATE:19430329T020000
RDATE:19460414T020000
RDATE:19470406T030000
RDATE:19480418T020000
RDATE:19490410T020000
RDATE:19800406T020000
END:DAYLIGHT
BEGIN:STANDARD
TZNAME:CET
TZOFFSETFROM:+0200
TZOFFSETTO:+0100
DTSTART:19161001T010000
RDATE:19421102T030000
RDATE:19431004T030000
RDATE:19441002T030000
RDATE:19451118T030000
RDATE:19461007T030000
END:STANDARD
BEGIN:DAYLIGHT
TZNAME:CEST
TZOFFSETFROM:+0100
TZOFFSETTO:+0200
DTSTART:19170416T020000
RRULE:FREQ=YEARLY;UNTIL=19180415T010000Z;BYMONTH=4;BYDAY=3MO
END:DAYLIGHT
BEGIN:STANDARD
TZNAME:CET
TZOFFSETFROM:+0200
TZOFFSETTO:+0100
DTSTART:19170917T030000
RRULE:FREQ=YEARLY;UNTIL=19180916T010000Z;BYMONTH=9;BYDAY=3MO
END:STANDARD
BEGIN:DAYLIGHT
TZNAME:CEST
TZOFFSETFROM:+0100
TZOFFSETTO:+0200
DTSTART:19440403T020000
RRULE:FREQ=YEARLY;UNTIL=19450402T010000Z;BYMONTH=4;BYDAY=1MO
END:DAYLIGHT
BEGIN:DAYLIGHT
TZNAME:CEMT
TZOFFSETFROM:+0200
TZOFFSETTO:+0300
DTSTART:19450524T020000
RDATE:19470511T030000
END:DAYLIGHT
BEGIN:DAYLIGHT
TZNAME:CEST
TZOFFSETFROM:+0300
TZOFFSETTO:+0200
DTSTART:19450924T030000
RDATE:19470629T030000
END:DAYLIGHT
BEGIN:STANDARD
TZNAME:CET
TZOFFSETFROM:+0100
TZOFFSETTO:+0100
DTSTART:19460101T000000
RDATE:19800101T000000
END:STANDARD
BEGIN:STANDARD
TZNAME:CET
TZOFFSETFROM:+0200
TZOFFSETTO:+0100
DTSTART:19471005T030000
RRULE:FREQ=YEARLY;UNTIL=19491002T010000Z;BYMONTH=10;BYDAY=1SU
END:STANDARD
BEGIN:STANDARD
TZNAME:CET
TZOFFSETFROM:+0200
TZOFFSETTO:+0100
DTSTART:19800928T030000
RRULE:FREQ=YEARLY;UNTIL=19950924T010000Z;BYMONTH=9;BYDAY=-1SU
END:STANDARD
BEGIN:DAYLIGHT
TZNAME:CEST
TZOFFSETFROM:+0100
TZOFFSETTO:+0200
DTSTART:19810329T020000
RRULE:FREQ=YEARLY;BYMONTH=3;BYDAY=-1SU
END:DAYLIGHT
BEGIN:STANDARD
TZNAME:CET
TZOFFSETFROM:+0200
TZOFFSETTO:+0100
DTSTART:19961027T030000
RRULE:FREQ=YEARLY;BYMONTH=10;BYDAY=-1SU
END:STANDARD
END:VTIMEZONE
BEGIN:VEVENT
DTSTAMP:20260424T115104Z
DTSTART;TZID=Europe/Berlin:20250922T194500
DTEND;TZID=Europe/Berlin:20250922T224500
SUMMARY:Ligue 5 Gr.1 Ph.A Versoix VI vs Châtelaine VIII (5)
UID:ff6a0495-f383-4a60-838c-dbf70d18381f
STATUS:CONFIRMED
LAST-MODIFIED:20250923T071655Z
DESCRIPTION:5ème ligue Hommes Gr.1 Phase A\nBegegnungs-Nr: 5\nHeim: Versoix VI\nGast: Châtelaine VIII\n
LOCATION:
CATEGORIES:Saison 2025/26
END:VEVENT
BEGIN:VEVENT
DTSTAMP:20260424T115104Z
DTSTART;TZID=Europe/Berlin:20251013T194500
DTEND;TZID=Europe/Berlin:20251013T224500
SUMMARY:Ligue 5 Gr.1 Ph.A Versoix VI vs Mandement VI (9)
UID:1470da34-e03e-4c25-981c-6ed15ea6baf1
STATUS:CONFIRMED
LAST-MODIFIED:20251014T103509Z
DESCRIPTION:5ème ligue Hommes Gr.1 Phase A\nBegegnungs-Nr: 9\nHeim: Versoix VI\nGast: Mandement VI\n
LOCATION:
CATEGORIES:Saison 2025/26
END:VEVENT
BEGIN:VEVENT
DTSTAMP:20260424T115104Z
DTSTART;TZID=Europe/Berlin:20251027T194500
DTEND;TZID=Europe/Berlin:20251027T224500
SUMMARY:Ligue 5 Gr.1 Ph.A Versoix VI vs ZZ-Lancy X (11)
UID:b190b144-c089-4e73-be51-23e61516042d
STATUS:CONFIRMED
LAST-MODIFIED:20251028T194801Z
DESCRIPTION:5ème ligue Hommes Gr.1 Phase A\nBegegnungs-Nr: 11\nHeim: Versoix VI\nGast: ZZ-Lancy X\n\nAdresse: Chemin Ami-Argand 40\, 1290 Versoix\n
LOCATION:Chemin Ami-Argand 40\, 1290 Versoix
CATEGORIES:Saison 2025/26
END:VEVENT
BEGIN:VEVENT
DTSTAMP:20260424T115104Z
DTSTART;TZID=Europe/Berlin:20251124T194500
DTEND;TZID=Europe/Berlin:20251124T224500
SUMMARY:Ligue 5 Gr.1 Ph.A Versoix VI vs Meyrin VII (17)
UID:ffbd4b39-45b5-42a1-b822-acd3855f077b
STATUS:CONFIRMED
LAST-MODIFIED:20251125T075445Z
DESCRIPTION:5ème ligue Hommes Gr.1 Phase A\nBegegnungs-Nr: 17\nHeim: Versoix VI\nGast: Meyrin VII\n
LOCATION:
CATEGORIES:Saison 2025/26
END:VEVENT
BEGIN:VEVENT
DTSTAMP:20260424T115104Z
DTSTART;TZID=Europe/Berlin:20260427T194500
DTEND;TZID=Europe/Berlin:20260427T224500
SUMMARY:Ligue 5 Gr.3 Ph.B Versoix VI vs Rapid-Genève IV (28)
UID:899db6bd-7bb4-4783-a733-129c329c6c3d
STATUS:CONFIRMED
DESCRIPTION:5ème ligue Hommes Gr.3 Phase B\nBegegnungs-Nr: 28\nHeim: Versoix VI\nGast: Rapid-Genève IV\n
LOCATION:
CATEGORIES:Saison 2025/26
END:VEVENT
BEGIN:VEVENT
DTSTAMP:20260424T115104Z
DTSTART;TZID=Europe/Berlin:20260316T194500
DTEND;TZID=Europe/Berlin:20260316T224500
SUMMARY:Ligue 5 Gr.3 Ph.B Versoix VI vs Silver Star IX (20)
UID:815f0523-ef87-424c-8d03-b2faca983132
STATUS:CONFIRMED
LAST-MODIFIED:20260317T211205Z
DESCRIPTION:5ème ligue Hommes Gr.3 Phase B\nBegegnungs-Nr: 20\nHeim: Versoix VI\nGast: Silver Star IX\n
LOCATION:
CATEGORIES:Saison 2025/26
END:VEVENT
BEGIN:VEVENT
DTSTAMP:20260424T115104Z
DTSTART;TZID=Europe/Berlin:20260112T194500
DTEND;TZID=Europe/Berlin:20260112T224500
SUMMARY:Ligue 5 Gr.3 Ph.B Versoix VI vs Grand-Saconnex IV (2)
UID:f7f929d7-84da-4804-8f8d-b21861c73e2c
STATUS:CONFIRMED
LAST-MODIFIED:20260113T180314Z
DESCRIPTION:5ème ligue Hommes Gr.3 Phase B\nBegegnungs-Nr: 2\nHeim: Versoix VI\nGast: Grand-Saconnex IV\n
LOCATION:
CATEGORIES:Saison 2025/26
END:VEVENT
BEGIN:VEVENT
DTSTAMP:20260424T115104Z
DTSTART;TZID=Europe/Berlin:20260126T194500
DTEND;TZID=Europe/Berlin:20260126T224500
SUMMARY:Ligue 5 Gr.3 Ph.B Versoix VI vs Onex IV (8)
UID:ae7a3cf1-ab8e-4d58-91d0-ffb538ca9d01
STATUS:CONFIRMED
LAST-MODIFIED:20260127T115506Z
DESCRIPTION:5ème ligue Hommes Gr.3 Phase B\nBegegnungs-Nr: 8\nHeim: Versoix VI\nGast: Onex IV\n
LOCATION:
CATEGORIES:Saison 2025/26
END:VEVENT
BEGIN:VEVENT
DTSTAMP:20260424T115104Z
DTSTART;TZID=Europe/Berlin:20250901T200000
DTEND;TZID=Europe/Berlin:20250901T230000
SUMMARY:Ligue 5 Gr.1 Ph.A ZZ-Lancy X vs Versoix VI (1)
UID:023a22f7-181b-487c-a5bd-7780f519682b
STATUS:CONFIRMED
LAST-MODIFIED:20250904T111830Z
DESCRIPTION:5ème ligue Hommes Gr.1 Phase A\nBegegnungs-Nr: 1\nHeim: ZZ-Lancy X\nGast: Versoix VI\n\nAdresse: Avenue du Curé-Baud 40\, 1212 Grand-Lancy\n
LOCATION:Avenue du Curé-Baud 40\, 1212 Grand-Lancy
CATEGORIES:Saison 2025/26
END:VEVENT
BEGIN:VEVENT
DTSTAMP:20260424T115104Z
DTSTART;TZID=Europe/Berlin:20251009T194500
DTEND;TZID=Europe/Berlin:20251009T224500
SUMMARY:Ligue 5 Gr.1 Ph.A Meyrin VII vs Versoix VI (7)
UID:9f96a79f-5af8-4837-bf01-00d831d50656
STATUS:CONFIRMED
LAST-MODIFIED:20251014T103435Z
DESCRIPTION:5ème ligue Hommes Gr.1 Phase A\nBegegnungs-Nr: 7\nHeim: Meyrin VII\nGast: Versoix VI\n
LOCATION:
CATEGORIES:Saison 2025/26
END:VEVENT
BEGIN:VEVENT
DTSTAMP:20260424T115104Z
DTSTART;TZID=Europe/Berlin:20251202T194500
DTEND;TZID=Europe/Berlin:20251202T224500
SUMMARY:Ligue 5 Gr.1 Ph.A Mandement VI vs Versoix VI (19)
UID:ce9000ee-b737-4384-b0d7-f1775b09cc6a
STATUS:CONFIRMED
LAST-MODIFIED:20251204T082950Z
DESCRIPTION:5ème ligue Hommes Gr.1 Phase A\nBegegnungs-Nr: 19\nHeim: Mandement VI\nGast: Versoix VI\n
LOCATION:
CATEGORIES:Saison 2025/26
END:VEVENT
BEGIN:VEVENT
DTSTAMP:20260424T115104Z
DTSTART;TZID=Europe/Berlin:20251119T194500
DTEND;TZID=Europe/Berlin:20251119T224500
SUMMARY:Ligue 5 Gr.1 Ph.A Châtelaine VIII vs Versoix VI (15)
UID:87c7266c-b955-4b0f-aed0-aa546ec80347
STATUS:CONFIRMED
LAST-MODIFIED:20251120T123827Z
DESCRIPTION:5ème ligue Hommes Gr.1 Phase A\nBegegnungs-Nr: 15\nHeim: Châtelaine VIII\nGast: Versoix VI\n
LOCATION:
CATEGORIES:Saison 2025/26
END:VEVENT
BEGIN:VEVENT
DTSTAMP:20260424T115104Z
DTSTART;TZID=Europe/Berlin:20260326T194500
DTEND;TZID=Europe/Berlin:20260326T224500
SUMMARY:Ligue 5 Gr.3 Ph.B Onex IV vs Versoix VI (23)
UID:fdf44031-a647-4741-b0b8-35435b4a85de
STATUS:CONFIRMED
LAST-MODIFIED:20260327T081720Z
DESCRIPTION:5ème ligue Hommes Gr.3 Phase B\nBegegnungs-Nr: 23\nHeim: Onex IV\nGast: Versoix VI\n
LOCATION:
CATEGORIES:Saison 2025/26
END:VEVENT
BEGIN:VEVENT
DTSTAMP:20260424T115104Z
DTSTART;TZID=Europe/Berlin:20260309T194500
DTEND;TZID=Europe/Berlin:20260309T224500
SUMMARY:Ligue 5 Gr.3 Ph.B Grand-Saconnex IV vs Versoix VI (17)
UID:2718dadc-a7dc-4c6f-b823-3f44227aee37
STATUS:CONFIRMED
LAST-MODIFIED:20260311T135209Z
DESCRIPTION:5ème ligue Hommes Gr.3 Phase B\nBegegnungs-Nr: 17\nHeim: Grand-Saconnex IV\nGast: Versoix VI\n
LOCATION:
CATEGORIES:Saison 2025/26
END:VEVENT
BEGIN:VEVENT
DTSTAMP:20260424T115104Z
DTSTART;TZID=Europe/Berlin:20260216T194500
DTEND;TZID=Europe/Berlin:20260216T224500
SUMMARY:Ligue 5 Gr.3 Ph.B Rapid-Genève IV vs Versoix VI (13)
UID:5eee5782-a8b7-42db-ae0a-caf0b426f785
STATUS:CONFIRMED
LAST-MODIFIED:20260217T124611Z
DESCRIPTION:5ème ligue Hommes Gr.3 Phase B\nBegegnungs-Nr: 13\nHeim: Rapid-Genève IV\nGast: Versoix VI\n
LOCATION:
CATEGORIES:Saison 2025/26
END:VEVENT
BEGIN:VEVENT
DTSTAMP:20260424T115104Z
DTSTART;TZID=Europe/Berlin:20260119T194500
DTEND;TZID=Europe/Berlin:20260119T224500
SUMMARY:Ligue 5 Gr.3 Ph.B Silver Star IX vs Versoix VI (5)
UID:98ba7106-4aaf-4d39-af52-bbf3427924b8
STATUS:CONFIRMED
LAST-MODIFIED:20260120T121114Z
DESCRIPTION:5ème ligue Hommes Gr.3 Phase B\nBegegnungs-Nr: 5\nHeim: Silver Star IX\nGast: Versoix VI\n
LOCATION:
CATEGORIES:Saison 2025/26
END:VEVENT
END:VCALENDAR
