BEGIN:VCALENDAR
PRODID:-//nuDatenautomaten//framework iCal4j //DE
VERSION:2.0
CALSCALE:GREGORIAN
BEGIN:VTIMEZONE
TZID:Europe/Berlin
LAST-MODIFIED:20260306T231828Z
TZURL:https://www.tzurl.org/zoneinfo/Europe/Berlin
X-LIC-LOCATION:Europe/Berlin
X-PROLEPTIC-TZNAME:LMT
BEGIN:STANDARD
TZNAME:CET
TZOFFSETFROM:+005328
TZOFFSETTO:+0100
DTSTART:18930401T000000
END:STANDARD
BEGIN:DAYLIGHT
TZNAME:CEST
TZOFFSETFROM:+0100
TZOFFSETTO:+0200
DTSTART:19160430T230000
RDATE:19400401T020000
RDATE:19430329T020000
RDATE:19460414T020000
RDATE:19470406T030000
RDATE:19480418T020000
RDATE:19490410T020000
RDATE:19800406T020000
END:DAYLIGHT
BEGIN:STANDARD
TZNAME:CET
TZOFFSETFROM:+0200
TZOFFSETTO:+0100
DTSTART:19161001T010000
RDATE:19421102T030000
RDATE:19431004T030000
RDATE:19441002T030000
RDATE:19451118T030000
RDATE:19461007T030000
END:STANDARD
BEGIN:DAYLIGHT
TZNAME:CEST
TZOFFSETFROM:+0100
TZOFFSETTO:+0200
DTSTART:19170416T020000
RRULE:FREQ=YEARLY;UNTIL=19180415T010000Z;BYMONTH=4;BYDAY=3MO
END:DAYLIGHT
BEGIN:STANDARD
TZNAME:CET
TZOFFSETFROM:+0200
TZOFFSETTO:+0100
DTSTART:19170917T030000
RRULE:FREQ=YEARLY;UNTIL=19180916T010000Z;BYMONTH=9;BYDAY=3MO
END:STANDARD
BEGIN:DAYLIGHT
TZNAME:CEST
TZOFFSETFROM:+0100
TZOFFSETTO:+0200
DTSTART:19440403T020000
RRULE:FREQ=YEARLY;UNTIL=19450402T010000Z;BYMONTH=4;BYDAY=1MO
END:DAYLIGHT
BEGIN:DAYLIGHT
TZNAME:CEMT
TZOFFSETFROM:+0200
TZOFFSETTO:+0300
DTSTART:19450524T020000
RDATE:19470511T030000
END:DAYLIGHT
BEGIN:DAYLIGHT
TZNAME:CEST
TZOFFSETFROM:+0300
TZOFFSETTO:+0200
DTSTART:19450924T030000
RDATE:19470629T030000
END:DAYLIGHT
BEGIN:STANDARD
TZNAME:CET
TZOFFSETFROM:+0100
TZOFFSETTO:+0100
DTSTART:19460101T000000
RDATE:19800101T000000
END:STANDARD
BEGIN:STANDARD
TZNAME:CET
TZOFFSETFROM:+0200
TZOFFSETTO:+0100
DTSTART:19471005T030000
RRULE:FREQ=YEARLY;UNTIL=19491002T010000Z;BYMONTH=10;BYDAY=1SU
END:STANDARD
BEGIN:STANDARD
TZNAME:CET
TZOFFSETFROM:+0200
TZOFFSETTO:+0100
DTSTART:19800928T030000
RRULE:FREQ=YEARLY;UNTIL=19950924T010000Z;BYMONTH=9;BYDAY=-1SU
END:STANDARD
BEGIN:DAYLIGHT
TZNAME:CEST
TZOFFSETFROM:+0100
TZOFFSETTO:+0200
DTSTART:19810329T020000
RRULE:FREQ=YEARLY;BYMONTH=3;BYDAY=-1SU
END:DAYLIGHT
BEGIN:STANDARD
TZNAME:CET
TZOFFSETFROM:+0200
TZOFFSETTO:+0100
DTSTART:19961027T030000
RRULE:FREQ=YEARLY;BYMONTH=10;BYDAY=-1SU
END:STANDARD
END:VTIMEZONE
BEGIN:VEVENT
DTSTAMP:20260424T135223Z
DTSTART;TZID=Europe/Berlin:20251212T194500
DTEND;TZID=Europe/Berlin:20251212T224500
SUMMARY:O40 1. Liga Olten vs Aesch (0)
UID:a0e4d8d6-c31c-45b2-b853-c4eba49d1741
STATUS:CONFIRMED
LAST-MODIFIED:20251216T122423Z
DESCRIPTION:1. Liga O40\nBegegnungs-Nr: 0\nHeim: Olten\nGast: Aesch\n\nAdresse: Lostorferstrasse 16\, 4652 Winznau\n
LOCATION:Lostorferstrasse 16\, 4652 Winznau
CATEGORIES:Saison 2025/26
END:VEVENT
BEGIN:VEVENT
DTSTAMP:20260424T135223Z
DTSTART;TZID=Europe/Berlin:20251121T200000
DTEND;TZID=Europe/Berlin:20251121T230000
SUMMARY:O40 1. Liga Olten vs Baden-Wettingen (0)
UID:f447f26e-cc9f-4bc7-b3ee-397f4b3af095
STATUS:CONFIRMED
LAST-MODIFIED:20251124T082807Z
DESCRIPTION:1. Liga O40\nBegegnungs-Nr: 0\nHeim: Olten\nGast: Baden-Wettingen\n\nAdresse: Stockackerstrasse 17\, 5013 Niedergösgen\n
LOCATION:Stockackerstrasse 17\, 5013 Niedergösgen
CATEGORIES:Saison 2025/26
END:VEVENT
BEGIN:VEVENT
DTSTAMP:20260424T135223Z
DTSTART;TZID=Europe/Berlin:20250919T194500
DTEND;TZID=Europe/Berlin:20250919T224500
SUMMARY:O40 1. Liga Olten vs Schöftland (0)
UID:6a307fd3-3d04-4ee2-8e1a-d76aeaa1f6f5
STATUS:CONFIRMED
LAST-MODIFIED:20250926T125341Z
DESCRIPTION:1. Liga O40\nBegegnungs-Nr: 0\nHeim: Olten\nGast: Schöftland\n\nAdresse: Lostorferstrasse 16\, 4652 Winznau\n
LOCATION:Lostorferstrasse 16\, 4652 Winznau
CATEGORIES:Saison 2025/26
END:VEVENT
BEGIN:VEVENT
DTSTAMP:20260424T135223Z
DTSTART;TZID=Europe/Berlin:20250822T194500
DTEND;TZID=Europe/Berlin:20250822T224500
SUMMARY:O40 1. Liga Olten vs Birrfeld (0)
UID:16cc013c-80cf-479a-b44c-d9faf3fd3357
STATUS:CONFIRMED
LAST-MODIFIED:20250825T064521Z
DESCRIPTION:1. Liga O40\nBegegnungs-Nr: 0\nHeim: Olten\nGast: Birrfeld\n\nAdresse: Stockackerstrasse 17\, 5013 Niedergösgen\n
LOCATION:Stockackerstrasse 17\, 5013 Niedergösgen
CATEGORIES:Saison 2025/26
END:VEVENT
BEGIN:VEVENT
DTSTAMP:20260424T135223Z
DTSTART;TZID=Europe/Berlin:20260227T200000
DTEND;TZID=Europe/Berlin:20260227T230000
SUMMARY:O40 1. Liga Olten vs Mellingen (0)
UID:16acbc5a-10f0-4b1e-9025-a461f11369da
STATUS:CONFIRMED
LAST-MODIFIED:20260302T112301Z
DESCRIPTION:1. Liga O40\nBegegnungs-Nr: 0\nHeim: Olten\nGast: Mellingen\n\nAdresse: Stockackerstrasse 17\, 5013 Niedergösgen\n
LOCATION:Stockackerstrasse 17\, 5013 Niedergösgen
CATEGORIES:Saison 2025/26
END:VEVENT
BEGIN:VEVENT
DTSTAMP:20260424T135223Z
DTSTART;TZID=Europe/Berlin:20260220T194500
DTEND;TZID=Europe/Berlin:20260220T224500
SUMMARY:O40 1. Liga Olten vs Aarau (0)
UID:ee91e4e7-363e-402f-826d-70303ccfe6af
STATUS:CONFIRMED
LAST-MODIFIED:20260224T074713Z
DESCRIPTION:1. Liga O40\nBegegnungs-Nr: 0\nHeim: Olten\nGast: Aarau\n\nAdresse: Stockackerstrasse 17\, 5013 Niedergösgen\n
LOCATION:Stockackerstrasse 17\, 5013 Niedergösgen
CATEGORIES:Saison 2025/26
END:VEVENT
BEGIN:VEVENT
DTSTAMP:20260424T135223Z
DTSTART;TZID=Europe/Berlin:20260116T200000
DTEND;TZID=Europe/Berlin:20260116T230000
SUMMARY:O40 1. Liga Olten vs Gelterkinden (0)
UID:269efd3b-43a1-4c7c-8487-ec0ee79cb32f
STATUS:CONFIRMED
LAST-MODIFIED:20260123T082147Z
DESCRIPTION:1. Liga O40\nBegegnungs-Nr: 0\nHeim: Olten\nGast: Gelterkinden\n\nAdresse: Stockackerstrasse 17\, 5013 Niedergösgen\n
LOCATION:Stockackerstrasse 17\, 5013 Niedergösgen
CATEGORIES:Saison 2025/26
END:VEVENT
BEGIN:VEVENT
DTSTAMP:20260424T135223Z
DTSTART;TZID=Europe/Berlin:20251030T200000
DTEND;TZID=Europe/Berlin:20251030T230000
SUMMARY:O40 1. Liga Mellingen vs Olten (0)
UID:b8400f98-0325-4231-96ce-411b8129f391
STATUS:CONFIRMED
LAST-MODIFIED:20251031T143327Z
DESCRIPTION:1. Liga O40\nBegegnungs-Nr: 0\nHeim: Mellingen\nGast: Olten\n\nAdresse: Bahnhofstrasse 22\, 5507 Mellingen\n
LOCATION:Bahnhofstrasse 22\, 5507 Mellingen
CATEGORIES:Saison 2025/26
END:VEVENT
BEGIN:VEVENT
DTSTAMP:20260424T135223Z
DTSTART;TZID=Europe/Berlin:20251015T194500
DTEND;TZID=Europe/Berlin:20251015T224500
SUMMARY:O40 1. Liga Aarau vs Olten (0)
UID:77725685-959b-4fa5-89b1-7cdf6edd7c10
STATUS:CONFIRMED
LAST-MODIFIED:20251016T145821Z
DESCRIPTION:1. Liga O40\nBegegnungs-Nr: 0\nHeim: Aarau\nGast: Olten\n\nAdresse: Weltistrasse 20\, 5000 Aarau\n
LOCATION:Weltistrasse 20\, 5000 Aarau
CATEGORIES:Saison 2025/26
END:VEVENT
BEGIN:VEVENT
DTSTAMP:20260424T135223Z
DTSTART;TZID=Europe/Berlin:20250827T201500
DTEND;TZID=Europe/Berlin:20250827T231500
SUMMARY:O40 1. Liga Gelterkinden vs Olten (0)
UID:5a483d08-4445-4711-8936-08896a11d323
STATUS:CONFIRMED
LAST-MODIFIED:20250918T095725Z
DESCRIPTION:1. Liga O40\nBegegnungs-Nr: 0\nHeim: Gelterkinden\nGast: Olten\n\nAdresse: Turnhallenstrasse 18\, 4460 Gelterkinden\n
LOCATION:Turnhallenstrasse 18\, 4460 Gelterkinden
CATEGORIES:Saison 2025/26
END:VEVENT
BEGIN:VEVENT
DTSTAMP:20260424T135223Z
DTSTART;TZID=Europe/Berlin:20260326T193000
DTEND;TZID=Europe/Berlin:20260326T223000
SUMMARY:O40 1. Liga Aesch vs Olten (0)
UID:010c98b4-2d70-4bef-ae94-0e7b86c2b945
STATUS:CONFIRMED
LAST-MODIFIED:20260416T095317Z
DESCRIPTION:1. Liga O40\nBegegnungs-Nr: 0\nHeim: Aesch\nGast: Olten\n\nAdresse: Dornacherstrasse\, 4147 Aesch\n
LOCATION:Dornacherstrasse\, 4147 Aesch
CATEGORIES:Saison 2025/26
END:VEVENT
BEGIN:VEVENT
DTSTAMP:20260424T135223Z
DTSTART;TZID=Europe/Berlin:20260325T194500
DTEND;TZID=Europe/Berlin:20260325T224500
SUMMARY:O40 1. Liga Baden-Wettingen vs Olten (0)
UID:65110213-257a-4dd3-ae1c-68ef303216ca
STATUS:CONFIRMED
LAST-MODIFIED:20260416T095306Z
DESCRIPTION:1. Liga O40\nBegegnungs-Nr: 0\nHeim: Baden-Wettingen\nGast: Olten\n\nAdresse: Wiesenstrasse 32 (Parkhaus Schmiede Fabrikstrasse)\, 5400 Baden\n
LOCATION:Wiesenstrasse 32 (Parkhaus Schmiede Fabrikstrasse)\, 5400 Baden
CATEGORIES:Saison 2025/26
END:VEVENT
BEGIN:VEVENT
DTSTAMP:20260424T135223Z
DTSTART;TZID=Europe/Berlin:20260130T200000
DTEND;TZID=Europe/Berlin:20260130T230000
SUMMARY:O40 1. Liga Schöftland vs Olten (0)
UID:34bb7f32-8e19-4750-9f8b-35283699f17d
STATUS:CONFIRMED
LAST-MODIFIED:20260130T133637Z
DESCRIPTION:1. Liga O40\nBegegnungs-Nr: 0\nHeim: Schöftland\nGast: Olten\n\nAdresse: Birkenweg\, 5040 Schöftland\n
LOCATION:Birkenweg\, 5040 Schöftland
CATEGORIES:Saison 2025/26
END:VEVENT
BEGIN:VEVENT
DTSTAMP:20260424T135223Z
DTSTART;TZID=Europe/Berlin:20251217T194500
DTEND;TZID=Europe/Berlin:20251217T224500
SUMMARY:O40 1. Liga Birrfeld vs Olten (0)
UID:7f186a42-0aa4-49e3-acc8-396bf9313353
STATUS:CONFIRMED
LAST-MODIFIED:20251218T122746Z
DESCRIPTION:1. Liga O40\nBegegnungs-Nr: 0\nHeim: Birrfeld\nGast: Olten\n\nAdresse: Zentralstrasse 30\, 5242 Birr\n
LOCATION:Zentralstrasse 30\, 5242 Birr
CATEGORIES:Saison 2025/26
END:VEVENT
END:VCALENDAR
