BEGIN:VCALENDAR
PRODID:-//nuDatenautomaten//framework iCal4j //DE
VERSION:2.0
CALSCALE:GREGORIAN
BEGIN:VTIMEZONE
TZID:Europe/Berlin
LAST-MODIFIED:20260306T231828Z
TZURL:https://www.tzurl.org/zoneinfo/Europe/Berlin
X-LIC-LOCATION:Europe/Berlin
X-PROLEPTIC-TZNAME:LMT
BEGIN:STANDARD
TZNAME:CET
TZOFFSETFROM:+005328
TZOFFSETTO:+0100
DTSTART:18930401T000000
END:STANDARD
BEGIN:DAYLIGHT
TZNAME:CEST
TZOFFSETFROM:+0100
TZOFFSETTO:+0200
DTSTART:19160430T230000
RDATE:19400401T020000
RDATE:19430329T020000
RDATE:19460414T020000
RDATE:19470406T030000
RDATE:19480418T020000
RDATE:19490410T020000
RDATE:19800406T020000
END:DAYLIGHT
BEGIN:STANDARD
TZNAME:CET
TZOFFSETFROM:+0200
TZOFFSETTO:+0100
DTSTART:19161001T010000
RDATE:19421102T030000
RDATE:19431004T030000
RDATE:19441002T030000
RDATE:19451118T030000
RDATE:19461007T030000
END:STANDARD
BEGIN:DAYLIGHT
TZNAME:CEST
TZOFFSETFROM:+0100
TZOFFSETTO:+0200
DTSTART:19170416T020000
RRULE:FREQ=YEARLY;UNTIL=19180415T010000Z;BYMONTH=4;BYDAY=3MO
END:DAYLIGHT
BEGIN:STANDARD
TZNAME:CET
TZOFFSETFROM:+0200
TZOFFSETTO:+0100
DTSTART:19170917T030000
RRULE:FREQ=YEARLY;UNTIL=19180916T010000Z;BYMONTH=9;BYDAY=3MO
END:STANDARD
BEGIN:DAYLIGHT
TZNAME:CEST
TZOFFSETFROM:+0100
TZOFFSETTO:+0200
DTSTART:19440403T020000
RRULE:FREQ=YEARLY;UNTIL=19450402T010000Z;BYMONTH=4;BYDAY=1MO
END:DAYLIGHT
BEGIN:DAYLIGHT
TZNAME:CEMT
TZOFFSETFROM:+0200
TZOFFSETTO:+0300
DTSTART:19450524T020000
RDATE:19470511T030000
END:DAYLIGHT
BEGIN:DAYLIGHT
TZNAME:CEST
TZOFFSETFROM:+0300
TZOFFSETTO:+0200
DTSTART:19450924T030000
RDATE:19470629T030000
END:DAYLIGHT
BEGIN:STANDARD
TZNAME:CET
TZOFFSETFROM:+0100
TZOFFSETTO:+0100
DTSTART:19460101T000000
RDATE:19800101T000000
END:STANDARD
BEGIN:STANDARD
TZNAME:CET
TZOFFSETFROM:+0200
TZOFFSETTO:+0100
DTSTART:19471005T030000
RRULE:FREQ=YEARLY;UNTIL=19491002T010000Z;BYMONTH=10;BYDAY=1SU
END:STANDARD
BEGIN:STANDARD
TZNAME:CET
TZOFFSETFROM:+0200
TZOFFSETTO:+0100
DTSTART:19800928T030000
RRULE:FREQ=YEARLY;UNTIL=19950924T010000Z;BYMONTH=9;BYDAY=-1SU
END:STANDARD
BEGIN:DAYLIGHT
TZNAME:CEST
TZOFFSETFROM:+0100
TZOFFSETTO:+0200
DTSTART:19810329T020000
RRULE:FREQ=YEARLY;BYMONTH=3;BYDAY=-1SU
END:DAYLIGHT
BEGIN:STANDARD
TZNAME:CET
TZOFFSETFROM:+0200
TZOFFSETTO:+0100
DTSTART:19961027T030000
RRULE:FREQ=YEARLY;BYMONTH=10;BYDAY=-1SU
END:STANDARD
END:VTIMEZONE
BEGIN:VEVENT
DTSTAMP:20260424T005439Z
DTSTART;TZID=Europe/Berlin:20251125T194500
DTEND;TZID=Europe/Berlin:20251125T224500
SUMMARY:HE 4. Liga Gr. 1 bls Spiez II vs Münsingen II (22)
UID:ec4911c6-4c4c-423c-b793-a040501120a8
STATUS:CONFIRMED
LAST-MODIFIED:20251207T172645Z
DESCRIPTION:4. Liga Herren Gruppe 1\nBegegnungs-Nr: 22\nHeim: bls Spiez II\nGast: Münsingen II\n\nAdresse: Hofachernweg 19 / Oberlandstr. 89\, 3700 Spiez\n
LOCATION:Hofachernweg 19 / Oberlandstr. 89\, 3700 Spiez
CATEGORIES:Saison 2025/26
END:VEVENT
BEGIN:VEVENT
DTSTAMP:20260424T005439Z
DTSTART;TZID=Europe/Berlin:20251014T194500
DTEND;TZID=Europe/Berlin:20251014T224500
SUMMARY:HE 4. Liga Gr. 1 bls Spiez II vs Worb II (12)
UID:d76cc09c-3890-419c-816e-150bba51c029
STATUS:CONFIRMED
LAST-MODIFIED:20251016T191353Z
DESCRIPTION:4. Liga Herren Gruppe 1\nBegegnungs-Nr: 12\nHeim: bls Spiez II\nGast: Worb II\n\nAdresse: Hofachernweg 19 / Oberlandstr. 89\, 3700 Spiez\n
LOCATION:Hofachernweg 19 / Oberlandstr. 89\, 3700 Spiez
CATEGORIES:Saison 2025/26
END:VEVENT
BEGIN:VEVENT
DTSTAMP:20260424T005439Z
DTSTART;TZID=Europe/Berlin:20250826T194500
DTEND;TZID=Europe/Berlin:20250826T224500
SUMMARY:HE 4. Liga Gr. 1 bls Spiez II vs Ostermundigen VIII (4)
UID:beb65925-5b16-4da4-ae63-cfb30ff8f55c
STATUS:CONFIRMED
LAST-MODIFIED:20250903T133157Z
DESCRIPTION:4. Liga Herren Gruppe 1\nBegegnungs-Nr: 4\nHeim: bls Spiez II\nGast: Ostermundigen VIII\n\nAdresse: Hofachernweg 19 / Oberlandstr. 89\, 3700 Spiez\n
LOCATION:Hofachernweg 19 / Oberlandstr. 89\, 3700 Spiez
CATEGORIES:Saison 2025/26
END:VEVENT
BEGIN:VEVENT
DTSTAMP:20260424T005439Z
DTSTART;TZID=Europe/Berlin:20260324T194500
DTEND;TZID=Europe/Berlin:20260324T224500
SUMMARY:HE 4. Liga Gr. 1 bls Spiez II vs Interlaken II (26)
UID:92d503b7-45e3-412d-8450-32e531c490fd
STATUS:CONFIRMED
LAST-MODIFIED:20260409T122929Z
DESCRIPTION:4. Liga Herren Gruppe 1\nBegegnungs-Nr: 26\nHeim: bls Spiez II\nGast: Interlaken II\n\nAdresse: Hofachernweg 19 / Oberlandstr. 89\, 3700 Spiez\n
LOCATION:Hofachernweg 19 / Oberlandstr. 89\, 3700 Spiez
CATEGORIES:Saison 2025/26
END:VEVENT
BEGIN:VEVENT
DTSTAMP:20260424T005439Z
DTSTART;TZID=Europe/Berlin:20260303T194500
DTEND;TZID=Europe/Berlin:20260303T224500
SUMMARY:HE 4. Liga Gr. 1 bls Spiez II vs Thun V (17)
UID:c852a992-ee9f-4b1f-b1d5-f86694fc0c7a
STATUS:CONFIRMED
LAST-MODIFIED:20260308T175251Z
DESCRIPTION:4. Liga Herren Gruppe 1\nBegegnungs-Nr: 17\nHeim: bls Spiez II\nGast: Thun V\n\nAdresse: Hofachernweg 19 / Oberlandstr. 89\, 3700 Spiez\n
LOCATION:Hofachernweg 19 / Oberlandstr. 89\, 3700 Spiez
CATEGORIES:Saison 2025/26
END:VEVENT
BEGIN:VEVENT
DTSTAMP:20260424T005439Z
DTSTART;TZID=Europe/Berlin:20260224T194500
DTEND;TZID=Europe/Berlin:20260224T224500
SUMMARY:HE 4. Liga Gr. 1 bls Spiez II vs Belp III (16)
UID:0605c1ac-55ea-47ca-a3a0-fa92d84b15c8
STATUS:CONFIRMED
LAST-MODIFIED:20260302T144603Z
DESCRIPTION:4. Liga Herren Gruppe 1\nBegegnungs-Nr: 16\nHeim: bls Spiez II\nGast: Belp III\n\nAdresse: Hofachernweg 19 / Oberlandstr. 89\, 3700 Spiez\n
LOCATION:Hofachernweg 19 / Oberlandstr. 89\, 3700 Spiez
CATEGORIES:Saison 2025/26
END:VEVENT
BEGIN:VEVENT
DTSTAMP:20260424T005439Z
DTSTART;TZID=Europe/Berlin:20260120T194500
DTEND;TZID=Europe/Berlin:20260120T224500
SUMMARY:HE 4. Liga Gr. 1 bls Spiez II vs Wichtrach (8)
UID:e8091600-79d1-411b-b981-0d454179d52f
STATUS:CONFIRMED
LAST-MODIFIED:20260125T001528Z
DESCRIPTION:4. Liga Herren Gruppe 1\nBegegnungs-Nr: 8\nHeim: bls Spiez II\nGast: Wichtrach\n\nAdresse: Hofachernweg 19 / Oberlandstr. 89\, 3700 Spiez\n
LOCATION:Hofachernweg 19 / Oberlandstr. 89\, 3700 Spiez
CATEGORIES:Saison 2025/26
END:VEVENT
BEGIN:VEVENT
DTSTAMP:20260424T005439Z
DTSTART;TZID=Europe/Berlin:20251115T130000
DTEND;TZID=Europe/Berlin:20251115T160000
SUMMARY:HE 4. Liga Gr. 1 Thun V vs bls Spiez II (17)
UID:7fedd491-df41-45c0-ab87-41dd4ba1d807
STATUS:CONFIRMED
LAST-MODIFIED:20251122T090653Z
DESCRIPTION:4. Liga Herren Gruppe 1\nBegegnungs-Nr: 17\nHeim: Thun V\nGast: bls Spiez II\n\nAdresse: Hallerstrasse 28\, 3604 Thun\n
LOCATION:Hallerstrasse 28\, 3604 Thun
CATEGORIES:Saison 2025/26
END:VEVENT
BEGIN:VEVENT
DTSTAMP:20260424T005439Z
DTSTART;TZID=Europe/Berlin:20251029T193000
DTEND;TZID=Europe/Berlin:20251029T223000
SUMMARY:HE 4. Liga Gr. 1 Belp III vs bls Spiez II (16)
UID:a3b6acf4-9255-497f-b2fd-1b9e8f7dd4f9
STATUS:CONFIRMED
LAST-MODIFIED:20251029T220933Z
DESCRIPTION:4. Liga Herren Gruppe 1\nBegegnungs-Nr: 16\nHeim: Belp III\nGast: bls Spiez II\n\nAdresse: Neumattstrasse 39\, 3123 Belp\n
LOCATION:Neumattstrasse 39\, 3123 Belp
CATEGORIES:Saison 2025/26
END:VEVENT
BEGIN:VEVENT
DTSTAMP:20260424T005439Z
DTSTART;TZID=Europe/Berlin:20250912T200000
DTEND;TZID=Europe/Berlin:20250912T230000
SUMMARY:HE 4. Liga Gr. 1 Wichtrach vs bls Spiez II (8)
UID:42c5bece-121e-44d9-8182-5c454197dd14
STATUS:CONFIRMED
LAST-MODIFIED:20250918T140940Z
DESCRIPTION:4. Liga Herren Gruppe 1\nBegegnungs-Nr: 8\nHeim: Wichtrach\nGast: bls Spiez II\n\nAdresse: Hängertstrasse 4\, 3114 Wichtrach\n
LOCATION:Hängertstrasse 4\, 3114 Wichtrach
CATEGORIES:Saison 2025/26
END:VEVENT
BEGIN:VEVENT
DTSTAMP:20260424T005439Z
DTSTART;TZID=Europe/Berlin:20251212T194500
DTEND;TZID=Europe/Berlin:20251212T224500
SUMMARY:HE 4. Liga Gr. 1 Interlaken II vs bls Spiez II (26)
UID:ecfa50ea-3fd1-47b1-91b2-917d0a9b6b9e
STATUS:CONFIRMED
LAST-MODIFIED:20251216T120502Z
DESCRIPTION:4. Liga Herren Gruppe 1\nBegegnungs-Nr: 26\nHeim: Interlaken II\nGast: bls Spiez II\n\nAdresse: Burgweg 239R\, 3852 Ringgenberg\n
LOCATION:Burgweg 239R\, 3852 Ringgenberg
CATEGORIES:Saison 2025/26
END:VEVENT
BEGIN:VEVENT
DTSTAMP:20260424T005439Z
DTSTART;TZID=Europe/Berlin:20260309T193000
DTEND;TZID=Europe/Berlin:20260309T223000
SUMMARY:HE 4. Liga Gr. 1 Münsingen II vs bls Spiez II (22)
UID:331a583d-2dc2-4893-b855-13a070394514
STATUS:CONFIRMED
LAST-MODIFIED:20260315T230015Z
DESCRIPTION:4. Liga Herren Gruppe 1\nBegegnungs-Nr: 22\nHeim: Münsingen II\nGast: bls Spiez II\n\nAdresse: Turnhallenweg 8\, 3110 Münsingen\n
LOCATION:Turnhallenweg 8\, 3110 Münsingen
CATEGORIES:Saison 2025/26
END:VEVENT
BEGIN:VEVENT
DTSTAMP:20260424T005439Z
DTSTART;TZID=Europe/Berlin:20260130T194500
DTEND;TZID=Europe/Berlin:20260130T224500
SUMMARY:HE 4. Liga Gr. 1 Worb II vs bls Spiez II (12)
UID:6a024a43-3c79-4229-a623-050fbe211106
STATUS:CONFIRMED
LAST-MODIFIED:20260217T213136Z
DESCRIPTION:4. Liga Herren Gruppe 1\nBegegnungs-Nr: 12\nHeim: Worb II\nGast: bls Spiez II\n\nAdresse: Rosenweg 9\, 3075 Rüfenacht BE\n
LOCATION:Rosenweg 9\, 3075 Rüfenacht BE
CATEGORIES:Saison 2025/26
END:VEVENT
BEGIN:VEVENT
DTSTAMP:20260424T005439Z
DTSTART;TZID=Europe/Berlin:20260116T194500
DTEND;TZID=Europe/Berlin:20260116T224500
SUMMARY:HE 4. Liga Gr. 1 Ostermundigen VIII vs bls Spiez II (4)
UID:33a5957e-429e-4587-8f19-f3fb17e8a18c
STATUS:CONFIRMED
LAST-MODIFIED:20260125T001506Z
DESCRIPTION:4. Liga Herren Gruppe 1\nBegegnungs-Nr: 4\nHeim: Ostermundigen VIII\nGast: bls Spiez II\n\nAdresse: Dennigkofenweg 169\, 3072 Ostermundigen\n
LOCATION:Dennigkofenweg 169\, 3072 Ostermundigen
CATEGORIES:Saison 2025/26
END:VEVENT
END:VCALENDAR
