BEGIN:VCALENDAR
PRODID:-//nuDatenautomaten//framework iCal4j //DE
VERSION:2.0
CALSCALE:GREGORIAN
BEGIN:VTIMEZONE
TZID:Europe/Berlin
LAST-MODIFIED:20260306T231828Z
TZURL:https://www.tzurl.org/zoneinfo/Europe/Berlin
X-LIC-LOCATION:Europe/Berlin
X-PROLEPTIC-TZNAME:LMT
BEGIN:STANDARD
TZNAME:CET
TZOFFSETFROM:+005328
TZOFFSETTO:+0100
DTSTART:18930401T000000
END:STANDARD
BEGIN:DAYLIGHT
TZNAME:CEST
TZOFFSETFROM:+0100
TZOFFSETTO:+0200
DTSTART:19160430T230000
RDATE:19400401T020000
RDATE:19430329T020000
RDATE:19460414T020000
RDATE:19470406T030000
RDATE:19480418T020000
RDATE:19490410T020000
RDATE:19800406T020000
END:DAYLIGHT
BEGIN:STANDARD
TZNAME:CET
TZOFFSETFROM:+0200
TZOFFSETTO:+0100
DTSTART:19161001T010000
RDATE:19421102T030000
RDATE:19431004T030000
RDATE:19441002T030000
RDATE:19451118T030000
RDATE:19461007T030000
END:STANDARD
BEGIN:DAYLIGHT
TZNAME:CEST
TZOFFSETFROM:+0100
TZOFFSETTO:+0200
DTSTART:19170416T020000
RRULE:FREQ=YEARLY;UNTIL=19180415T010000Z;BYMONTH=4;BYDAY=3MO
END:DAYLIGHT
BEGIN:STANDARD
TZNAME:CET
TZOFFSETFROM:+0200
TZOFFSETTO:+0100
DTSTART:19170917T030000
RRULE:FREQ=YEARLY;UNTIL=19180916T010000Z;BYMONTH=9;BYDAY=3MO
END:STANDARD
BEGIN:DAYLIGHT
TZNAME:CEST
TZOFFSETFROM:+0100
TZOFFSETTO:+0200
DTSTART:19440403T020000
RRULE:FREQ=YEARLY;UNTIL=19450402T010000Z;BYMONTH=4;BYDAY=1MO
END:DAYLIGHT
BEGIN:DAYLIGHT
TZNAME:CEMT
TZOFFSETFROM:+0200
TZOFFSETTO:+0300
DTSTART:19450524T020000
RDATE:19470511T030000
END:DAYLIGHT
BEGIN:DAYLIGHT
TZNAME:CEST
TZOFFSETFROM:+0300
TZOFFSETTO:+0200
DTSTART:19450924T030000
RDATE:19470629T030000
END:DAYLIGHT
BEGIN:STANDARD
TZNAME:CET
TZOFFSETFROM:+0100
TZOFFSETTO:+0100
DTSTART:19460101T000000
RDATE:19800101T000000
END:STANDARD
BEGIN:STANDARD
TZNAME:CET
TZOFFSETFROM:+0200
TZOFFSETTO:+0100
DTSTART:19471005T030000
RRULE:FREQ=YEARLY;UNTIL=19491002T010000Z;BYMONTH=10;BYDAY=1SU
END:STANDARD
BEGIN:STANDARD
TZNAME:CET
TZOFFSETFROM:+0200
TZOFFSETTO:+0100
DTSTART:19800928T030000
RRULE:FREQ=YEARLY;UNTIL=19950924T010000Z;BYMONTH=9;BYDAY=-1SU
END:STANDARD
BEGIN:DAYLIGHT
TZNAME:CEST
TZOFFSETFROM:+0100
TZOFFSETTO:+0200
DTSTART:19810329T020000
RRULE:FREQ=YEARLY;BYMONTH=3;BYDAY=-1SU
END:DAYLIGHT
BEGIN:STANDARD
TZNAME:CET
TZOFFSETFROM:+0200
TZOFFSETTO:+0100
DTSTART:19961027T030000
RRULE:FREQ=YEARLY;BYMONTH=10;BYDAY=-1SU
END:STANDARD
END:VTIMEZONE
BEGIN:VEVENT
DTSTAMP:20260424T115140Z
DTSTART;TZID=Europe/Berlin:20250919T193000
DTEND;TZID=Europe/Berlin:20250919T223000
SUMMARY:ME L6 Gr 2\, Tours 1&2 Martigny VI vs Aigle II (0)
UID:05723f54-62a2-4e87-9c3b-ef4e07aa6507
STATUS:CONFIRMED
LAST-MODIFIED:20250919T220607Z
DESCRIPTION:6ème ligue Hommes Groupe 2\, Tours 1&2\nBegegnungs-Nr: 0\nHeim: Martigny VI\nGast: Aigle II\n\nAdresse: Rue des Ecoles 9\, 1920 Martigny\n
LOCATION:Rue des Ecoles 9\, 1920 Martigny
CATEGORIES:Saison 2025/26
END:VEVENT
BEGIN:VEVENT
DTSTAMP:20260424T115140Z
DTSTART;TZID=Europe/Berlin:20251010T193000
DTEND;TZID=Europe/Berlin:20251010T223000
SUMMARY:ME L6 Gr 2\, Tours 1&2 Martigny VI vs Montreux-Riviera II (0)
UID:8ac61785-c0f2-4360-995d-7327df284cab
STATUS:CONFIRMED
LAST-MODIFIED:20251011T112417Z
DESCRIPTION:6ème ligue Hommes Groupe 2\, Tours 1&2\nBegegnungs-Nr: 0\nHeim: Martigny VI\nGast: Montreux-Riviera II\n\nAdresse: Rue des Ecoles 9\, 1920 Martigny\n
LOCATION:Rue des Ecoles 9\, 1920 Martigny
CATEGORIES:Saison 2025/26
END:VEVENT
BEGIN:VEVENT
DTSTAMP:20260424T115140Z
DTSTART;TZID=Europe/Berlin:20251107T193000
DTEND;TZID=Europe/Berlin:20251107T223000
SUMMARY:ME L6 Gr 2\, Tours 1&2 Martigny VI vs Yvorne II (0)
UID:3633f519-6030-4815-b4af-41e8c93e073d
STATUS:CONFIRMED
LAST-MODIFIED:20251109T122816Z
DESCRIPTION:6ème ligue Hommes Groupe 2\, Tours 1&2\nBegegnungs-Nr: 0\nHeim: Martigny VI\nGast: Yvorne II\n\nAdresse: Rue des Ecoles 9\, 1920 Martigny\n
LOCATION:Rue des Ecoles 9\, 1920 Martigny
CATEGORIES:Saison 2025/26
END:VEVENT
BEGIN:VEVENT
DTSTAMP:20260424T115140Z
DTSTART;TZID=Europe/Berlin:20251205T193000
DTEND;TZID=Europe/Berlin:20251205T223000
SUMMARY:ME L6 Gr 2\, Tours 1&2 Martigny VI vs Aigle III (0)
UID:572b7df0-fba7-4e77-b213-501808197ce6
STATUS:CONFIRMED
LAST-MODIFIED:20251206T140415Z
DESCRIPTION:6ème ligue Hommes Groupe 2\, Tours 1&2\nBegegnungs-Nr: 0\nHeim: Martigny VI\nGast: Aigle III\n\nAdresse: Rue des Ecoles 9\, 1920 Martigny\n
LOCATION:Rue des Ecoles 9\, 1920 Martigny
CATEGORIES:Saison 2025/26
END:VEVENT
BEGIN:VEVENT
DTSTAMP:20260424T115140Z
DTSTART;TZID=Europe/Berlin:20250905T193000
DTEND;TZID=Europe/Berlin:20250905T223000
SUMMARY:ME L6 Gr 2\, Tours 1&2 Martigny VI vs Collombey/Muraz V (0)
UID:6b2620cf-6dae-41e2-b68b-84aa41d0f9c8
STATUS:CONFIRMED
LAST-MODIFIED:20250906T155127Z
DESCRIPTION:6ème ligue Hommes Groupe 2\, Tours 1&2\nBegegnungs-Nr: 0\nHeim: Martigny VI\nGast: Collombey/Muraz V\n\nAdresse: Rue des Ecoles 9\, 1920 Martigny\n
LOCATION:Rue des Ecoles 9\, 1920 Martigny
CATEGORIES:Saison 2025/26
END:VEVENT
BEGIN:VEVENT
DTSTAMP:20260424T115140Z
DTSTART;TZID=Europe/Berlin:20260116T193000
DTEND;TZID=Europe/Berlin:20260116T223000
SUMMARY:ME L6 Gr 1\, Tours 3&4 Martigny VI vs Stalden III (0)
UID:b4c0aeba-e56e-4491-8ae0-7f00addf166d
STATUS:CONFIRMED
LAST-MODIFIED:20260117T130903Z
DESCRIPTION:6ème ligue Hommes Groupe 1\, Tours 3&4\nBegegnungs-Nr: 0\nHeim: Martigny VI\nGast: Stalden III\n\nAdresse: Rue des Ecoles 9\, 1920 Martigny\n
LOCATION:Rue des Ecoles 9\, 1920 Martigny
CATEGORIES:Saison 2025/26
END:VEVENT
BEGIN:VEVENT
DTSTAMP:20260424T115140Z
DTSTART;TZID=Europe/Berlin:20260220T193000
DTEND;TZID=Europe/Berlin:20260220T223000
SUMMARY:ME L6 Gr 1\, Tours 3&4 Martigny VI vs Sierre VI (0)
UID:12daa5ac-4f29-4d95-af52-8d3f7d0b3642
STATUS:CONFIRMED
LAST-MODIFIED:20260222T210941Z
DESCRIPTION:6ème ligue Hommes Groupe 1\, Tours 3&4\nBegegnungs-Nr: 0\nHeim: Martigny VI\nGast: Sierre VI\n\nAdresse: Rue des Ecoles 9\, 1920 Martigny\n
LOCATION:Rue des Ecoles 9\, 1920 Martigny
CATEGORIES:Saison 2025/26
END:VEVENT
BEGIN:VEVENT
DTSTAMP:20260424T115140Z
DTSTART;TZID=Europe/Berlin:20260227T193000
DTEND;TZID=Europe/Berlin:20260227T223000
SUMMARY:ME L6 Gr 1\, Tours 3&4 Martigny VI vs Grône III (0)
UID:7315407d-d8b0-415b-a7f1-67f968e81801
STATUS:CONFIRMED
LAST-MODIFIED:20260228T130041Z
DESCRIPTION:6ème ligue Hommes Groupe 1\, Tours 3&4\nBegegnungs-Nr: 0\nHeim: Martigny VI\nGast: Grône III\n\nAdresse: Rue des Ecoles 9\, 1920 Martigny\n
LOCATION:Rue des Ecoles 9\, 1920 Martigny
CATEGORIES:Saison 2025/26
END:VEVENT
BEGIN:VEVENT
DTSTAMP:20260424T115140Z
DTSTART;TZID=Europe/Berlin:20260327T193000
DTEND;TZID=Europe/Berlin:20260327T223000
SUMMARY:ME L6 Gr 1\, Tours 3&4 Martigny VI vs Brig-Glis II (0)
UID:f1b8d680-1ab2-4f92-ac2f-63d1ab7e86af
STATUS:CONFIRMED
LAST-MODIFIED:20260330T184721Z
DESCRIPTION:6ème ligue Hommes Groupe 1\, Tours 3&4\nBegegnungs-Nr: 0\nHeim: Martigny VI\nGast: Brig-Glis II\n\nAdresse: Rue des Ecoles 9\, 1920 Martigny\n
LOCATION:Rue des Ecoles 9\, 1920 Martigny
CATEGORIES:Saison 2025/26
END:VEVENT
BEGIN:VEVENT
DTSTAMP:20260424T115140Z
DTSTART;TZID=Europe/Berlin:20260417T193000
DTEND;TZID=Europe/Berlin:20260417T223000
SUMMARY:ME L6 Gr 1\, Tours 3&4 Martigny VI vs Sion V (0)
UID:0665b828-d029-4ff3-a253-1741565c9d9c
STATUS:CONFIRMED
LAST-MODIFIED:20260420T150209Z
DESCRIPTION:6ème ligue Hommes Groupe 1\, Tours 3&4\nBegegnungs-Nr: 0\nHeim: Martigny VI\nGast: Sion V\n\nAdresse: Rue des Ecoles 9\, 1920 Martigny\n
LOCATION:Rue des Ecoles 9\, 1920 Martigny
CATEGORIES:Saison 2025/26
END:VEVENT
BEGIN:VEVENT
DTSTAMP:20260424T115140Z
DTSTART;TZID=Europe/Berlin:20251003T200000
DTEND;TZID=Europe/Berlin:20251003T230000
SUMMARY:ME L6 Gr 2\, Tours 1&2 Aigle III vs Martigny VI (0)
UID:1e190bea-9d67-444d-844f-af03f27634ce
STATUS:CONFIRMED
LAST-MODIFIED:20251007T221215Z
DESCRIPTION:6ème ligue Hommes Groupe 2\, Tours 1&2\nBegegnungs-Nr: 0\nHeim: Aigle III\nGast: Martigny VI\n\nAdresse: Rue du Collège 12\, 1860 Aigle\n
LOCATION:Rue du Collège 12\, 1860 Aigle
CATEGORIES:Saison 2025/26
END:VEVENT
BEGIN:VEVENT
DTSTAMP:20260424T115140Z
DTSTART;TZID=Europe/Berlin:20251027T191500
DTEND;TZID=Europe/Berlin:20251027T221500
SUMMARY:ME L6 Gr 2\, Tours 1&2 Collombey/Muraz V vs Martigny VI (0)
UID:04afd183-fe6a-4b70-9914-e6797cdea7b8
STATUS:CONFIRMED
LAST-MODIFIED:20251028T113428Z
DESCRIPTION:6ème ligue Hommes Groupe 2\, Tours 1&2\nBegegnungs-Nr: 0\nHeim: Collombey/Muraz V\nGast: Martigny VI\n\nAdresse: Route du Montagnier 81\, 1868 Collombey\n
LOCATION:Route du Montagnier 81\, 1868 Collombey
CATEGORIES:Saison 2025/26
END:VEVENT
BEGIN:VEVENT
DTSTAMP:20260424T115140Z
DTSTART;TZID=Europe/Berlin:20251119T200000
DTEND;TZID=Europe/Berlin:20251119T230000
SUMMARY:ME L6 Gr 2\, Tours 1&2 Aigle II vs Martigny VI (0)
UID:2e4ac373-4cea-45c8-8577-5cfe7d21f7e0
STATUS:CONFIRMED
LAST-MODIFIED:20251120T094702Z
DESCRIPTION:6ème ligue Hommes Groupe 2\, Tours 1&2\nBegegnungs-Nr: 0\nHeim: Aigle II\nGast: Martigny VI\n\nAdresse: Rue du Collège 12\, 1860 Aigle\n
LOCATION:Rue du Collège 12\, 1860 Aigle
CATEGORIES:Saison 2025/26
END:VEVENT
BEGIN:VEVENT
DTSTAMP:20260424T115140Z
DTSTART;TZID=Europe/Berlin:20251211T200000
DTEND;TZID=Europe/Berlin:20251211T230000
SUMMARY:ME L6 Gr 2\, Tours 1&2 Montreux-Riviera II vs Martigny VI (0)
UID:a9db8394-d684-405b-b115-cf7cb90f2d7f
STATUS:CONFIRMED
LAST-MODIFIED:20251213T095145Z
DESCRIPTION:6ème ligue Hommes Groupe 2\, Tours 1&2\nBegegnungs-Nr: 0\nHeim: Montreux-Riviera II\nGast: Martigny VI\n\nAdresse: Rue de la Gare 33\, 1820 Montreux\n
LOCATION:Rue de la Gare 33\, 1820 Montreux
CATEGORIES:Saison 2025/26
END:VEVENT
BEGIN:VEVENT
DTSTAMP:20260424T115140Z
DTSTART;TZID=Europe/Berlin:20250827T194500
DTEND;TZID=Europe/Berlin:20250827T224500
SUMMARY:ME L6 Gr 2\, Tours 1&2 Yvorne II vs Martigny VI (0)
UID:dc3aeba8-33e0-4c21-bd33-ab747c10bb54
STATUS:CONFIRMED
LAST-MODIFIED:20250829T204003Z
DESCRIPTION:6ème ligue Hommes Groupe 2\, Tours 1&2\nBegegnungs-Nr: 0\nHeim: Yvorne II\nGast: Martigny VI\n\nAdresse: Les Maisons Neuves 38\, 1853 Yvorne\n
LOCATION:Les Maisons Neuves 38\, 1853 Yvorne
CATEGORIES:Saison 2025/26
END:VEVENT
BEGIN:VEVENT
DTSTAMP:20260424T115140Z
DTSTART;TZID=Europe/Berlin:20260119T193000
DTEND;TZID=Europe/Berlin:20260119T223000
SUMMARY:ME L6 Gr 1\, Tours 3&4 Brig-Glis II vs Martigny VI (0)
UID:1b53658d-c13c-4653-b746-d4d863469a1c
STATUS:CONFIRMED
LAST-MODIFIED:20260119T233508Z
DESCRIPTION:6ème ligue Hommes Groupe 1\, Tours 3&4\nBegegnungs-Nr: 0\nHeim: Brig-Glis II\nGast: Martigny VI\n\nAdresse: Alte Simplonstrasse 53\, 3900 Brig\n
LOCATION:Alte Simplonstrasse 53\, 3900 Brig
CATEGORIES:Saison 2025/26
END:VEVENT
BEGIN:VEVENT
DTSTAMP:20260424T115140Z
DTSTART;TZID=Europe/Berlin:20260206T190000
DTEND;TZID=Europe/Berlin:20260206T220000
SUMMARY:ME L6 Gr 1\, Tours 3&4 Sion V vs Martigny VI (0)
UID:2c2ff733-36f6-4144-85b7-c8b5c8956917
STATUS:CONFIRMED
LAST-MODIFIED:20260210T202904Z
DESCRIPTION:6ème ligue Hommes Groupe 1\, Tours 3&4\nBegegnungs-Nr: 0\nHeim: Sion V\nGast: Martigny VI\n\nAdresse: Rue du Chanoine-Berchtold 17\, 1950 Sion\n
LOCATION:Rue du Chanoine-Berchtold 17\, 1950 Sion
CATEGORIES:Saison 2025/26
END:VEVENT
BEGIN:VEVENT
DTSTAMP:20260424T115140Z
DTSTART;TZID=Europe/Berlin:20260302T200000
DTEND;TZID=Europe/Berlin:20260302T230000
SUMMARY:ME L6 Gr 1\, Tours 3&4 Stalden III vs Martigny VI (0)
UID:30362d99-dfdd-4022-803c-b5fa7ec0e7c5
STATUS:CONFIRMED
LAST-MODIFIED:20260303T223921Z
DESCRIPTION:6ème ligue Hommes Groupe 1\, Tours 3&4\nBegegnungs-Nr: 0\nHeim: Stalden III\nGast: Martigny VI\n\nAdresse: -\, 3922 Stalden\n
LOCATION:-\, 3922 Stalden
CATEGORIES:Saison 2025/26
END:VEVENT
BEGIN:VEVENT
DTSTAMP:20260424T115140Z
DTSTART;TZID=Europe/Berlin:20260424T194500
DTEND;TZID=Europe/Berlin:20260424T224500
SUMMARY:ME L6 Gr 1\, Tours 3&4 Sierre VI vs Martigny VI (0)
UID:a98abb14-df2e-44cf-affa-9f09068f05ff
STATUS:CONFIRMED
DESCRIPTION:6ème ligue Hommes Groupe 1\, Tours 3&4\nBegegnungs-Nr: 0\nHeim: Sierre VI\nGast: Martigny VI\n\nAdresse: Rte des Liddes 6\, 3960 Sierre\n
LOCATION:Rte des Liddes 6\, 3960 Sierre
CATEGORIES:Saison 2025/26
END:VEVENT
BEGIN:VEVENT
DTSTAMP:20260424T115140Z
DTSTART;TZID=Europe/Berlin:20260501T200000
DTEND;TZID=Europe/Berlin:20260501T230000
SUMMARY:ME L6 Gr 1\, Tours 3&4 Grône III vs Martigny VI (0)
UID:bbdf85f2-646f-40b0-9e6b-c0a4d0e82e39
STATUS:CONFIRMED
DESCRIPTION:6ème ligue Hommes Groupe 1\, Tours 3&4\nBegegnungs-Nr: 0\nHeim: Grône III\nGast: Martigny VI\n\nAdresse:  Rue Centrale\,  \, Rue de la Piscine\, \, 3979 Grône\n
LOCATION: Rue Centrale\,  \, Rue de la Piscine\, \, 3979 Grône
CATEGORIES:Saison 2025/26
END:VEVENT
END:VCALENDAR
