BEGIN:VCALENDAR
PRODID:-//nuDatenautomaten//framework iCal4j //DE
VERSION:2.0
CALSCALE:GREGORIAN
BEGIN:VTIMEZONE
TZID:Europe/Berlin
LAST-MODIFIED:20260306T231828Z
TZURL:https://www.tzurl.org/zoneinfo/Europe/Berlin
X-LIC-LOCATION:Europe/Berlin
X-PROLEPTIC-TZNAME:LMT
BEGIN:STANDARD
TZNAME:CET
TZOFFSETFROM:+005328
TZOFFSETTO:+0100
DTSTART:18930401T000000
END:STANDARD
BEGIN:DAYLIGHT
TZNAME:CEST
TZOFFSETFROM:+0100
TZOFFSETTO:+0200
DTSTART:19160430T230000
RDATE:19400401T020000
RDATE:19430329T020000
RDATE:19460414T020000
RDATE:19470406T030000
RDATE:19480418T020000
RDATE:19490410T020000
RDATE:19800406T020000
END:DAYLIGHT
BEGIN:STANDARD
TZNAME:CET
TZOFFSETFROM:+0200
TZOFFSETTO:+0100
DTSTART:19161001T010000
RDATE:19421102T030000
RDATE:19431004T030000
RDATE:19441002T030000
RDATE:19451118T030000
RDATE:19461007T030000
END:STANDARD
BEGIN:DAYLIGHT
TZNAME:CEST
TZOFFSETFROM:+0100
TZOFFSETTO:+0200
DTSTART:19170416T020000
RRULE:FREQ=YEARLY;UNTIL=19180415T010000Z;BYMONTH=4;BYDAY=3MO
END:DAYLIGHT
BEGIN:STANDARD
TZNAME:CET
TZOFFSETFROM:+0200
TZOFFSETTO:+0100
DTSTART:19170917T030000
RRULE:FREQ=YEARLY;UNTIL=19180916T010000Z;BYMONTH=9;BYDAY=3MO
END:STANDARD
BEGIN:DAYLIGHT
TZNAME:CEST
TZOFFSETFROM:+0100
TZOFFSETTO:+0200
DTSTART:19440403T020000
RRULE:FREQ=YEARLY;UNTIL=19450402T010000Z;BYMONTH=4;BYDAY=1MO
END:DAYLIGHT
BEGIN:DAYLIGHT
TZNAME:CEMT
TZOFFSETFROM:+0200
TZOFFSETTO:+0300
DTSTART:19450524T020000
RDATE:19470511T030000
END:DAYLIGHT
BEGIN:DAYLIGHT
TZNAME:CEST
TZOFFSETFROM:+0300
TZOFFSETTO:+0200
DTSTART:19450924T030000
RDATE:19470629T030000
END:DAYLIGHT
BEGIN:STANDARD
TZNAME:CET
TZOFFSETFROM:+0100
TZOFFSETTO:+0100
DTSTART:19460101T000000
RDATE:19800101T000000
END:STANDARD
BEGIN:STANDARD
TZNAME:CET
TZOFFSETFROM:+0200
TZOFFSETTO:+0100
DTSTART:19471005T030000
RRULE:FREQ=YEARLY;UNTIL=19491002T010000Z;BYMONTH=10;BYDAY=1SU
END:STANDARD
BEGIN:STANDARD
TZNAME:CET
TZOFFSETFROM:+0200
TZOFFSETTO:+0100
DTSTART:19800928T030000
RRULE:FREQ=YEARLY;UNTIL=19950924T010000Z;BYMONTH=9;BYDAY=-1SU
END:STANDARD
BEGIN:DAYLIGHT
TZNAME:CEST
TZOFFSETFROM:+0100
TZOFFSETTO:+0200
DTSTART:19810329T020000
RRULE:FREQ=YEARLY;BYMONTH=3;BYDAY=-1SU
END:DAYLIGHT
BEGIN:STANDARD
TZNAME:CET
TZOFFSETFROM:+0200
TZOFFSETTO:+0100
DTSTART:19961027T030000
RRULE:FREQ=YEARLY;BYMONTH=10;BYDAY=-1SU
END:STANDARD
END:VTIMEZONE
BEGIN:VEVENT
DTSTAMP:20260424T165459Z
DTSTART;TZID=Europe/Berlin:20260115T200000
DTEND;TZID=Europe/Berlin:20260115T230000
SUMMARY:HE 3. Liga Gr. 2 Basel VII vs Rio-Star Muttenz V (0)
UID:ae73a77c-680e-4a03-be85-432b1fec81f0
STATUS:CONFIRMED
LAST-MODIFIED:20260129T074941Z
DESCRIPTION:3. Liga Herren Gruppe 2\nBegegnungs-Nr: 0\nHeim: Basel VII\nGast: Rio-Star Muttenz V\n\nAdresse: Schwarzwaldallee 107\, 4058 Basel\n
LOCATION:Schwarzwaldallee 107\, 4058 Basel
CATEGORIES:Saison 2025/26
END:VEVENT
BEGIN:VEVENT
DTSTAMP:20260424T165459Z
DTSTART;TZID=Europe/Berlin:20260213T200000
DTEND;TZID=Europe/Berlin:20260213T230000
SUMMARY:HE 3. Liga Gr. 2 Basel VII vs Liebrüti (0)
UID:2943aef0-0371-472e-852b-d7c0c28799ef
STATUS:CONFIRMED
LAST-MODIFIED:20260218T071239Z
DESCRIPTION:3. Liga Herren Gruppe 2\nBegegnungs-Nr: 0\nHeim: Basel VII\nGast: Liebrüti\n\nAdresse: Schwarzwaldallee 107\, 4058 Basel\n
LOCATION:Schwarzwaldallee 107\, 4058 Basel
CATEGORIES:Saison 2025/26
END:VEVENT
BEGIN:VEVENT
DTSTAMP:20260424T165459Z
DTSTART;TZID=Europe/Berlin:20260312T200000
DTEND;TZID=Europe/Berlin:20260312T230000
SUMMARY:HE 3. Liga Gr. 2 Basel VII vs Sisseln (0)
UID:06910b4a-e9cf-43dd-8cc1-58142784feb4
STATUS:CONFIRMED
LAST-MODIFIED:20260313T125056Z
DESCRIPTION:3. Liga Herren Gruppe 2\nBegegnungs-Nr: 0\nHeim: Basel VII\nGast: Sisseln\n\nAdresse: Schwarzwaldallee 107\, 4058 Basel\n
LOCATION:Schwarzwaldallee 107\, 4058 Basel
CATEGORIES:Saison 2025/26
END:VEVENT
BEGIN:VEVENT
DTSTAMP:20260424T165459Z
DTSTART;TZID=Europe/Berlin:20250821T200000
DTEND;TZID=Europe/Berlin:20250821T230000
SUMMARY:HE 3. Liga Gr. 2 Basel VII vs Gelterkinden (0)
UID:a4b04e09-d2f8-4224-be77-4ec8414ad0c5
STATUS:CONFIRMED
LAST-MODIFIED:20250825T065401Z
DESCRIPTION:3. Liga Herren Gruppe 2\nBegegnungs-Nr: 0\nHeim: Basel VII\nGast: Gelterkinden\n\nAdresse: Schwarzwaldallee 107\, 4058 Basel\n
LOCATION:Schwarzwaldallee 107\, 4058 Basel
CATEGORIES:Saison 2025/26
END:VEVENT
BEGIN:VEVENT
DTSTAMP:20260424T165459Z
DTSTART;TZID=Europe/Berlin:20250911T200000
DTEND;TZID=Europe/Berlin:20250911T230000
SUMMARY:HE 3. Liga Gr. 2 Basel VII vs Möhlin (0)
UID:4612ded7-3e79-47c2-be2c-468b23a6cbd7
STATUS:CONFIRMED
LAST-MODIFIED:20250912T144208Z
DESCRIPTION:3. Liga Herren Gruppe 2\nBegegnungs-Nr: 0\nHeim: Basel VII\nGast: Möhlin\n\nAdresse: Schwarzwaldallee 107\, 4058 Basel\n
LOCATION:Schwarzwaldallee 107\, 4058 Basel
CATEGORIES:Saison 2025/26
END:VEVENT
BEGIN:VEVENT
DTSTAMP:20260424T165459Z
DTSTART;TZID=Europe/Berlin:20251023T200000
DTEND;TZID=Europe/Berlin:20251023T230000
SUMMARY:HE 3. Liga Gr. 2 Basel VII vs Pratteln (0)
UID:d2a3af97-d9b6-44d0-931b-7b8d09048ee2
STATUS:CONFIRMED
LAST-MODIFIED:20251029T100233Z
DESCRIPTION:3. Liga Herren Gruppe 2\nBegegnungs-Nr: 0\nHeim: Basel VII\nGast: Pratteln\n\nAdresse: Schwarzwaldallee 107\, 4058 Basel\n
LOCATION:Schwarzwaldallee 107\, 4058 Basel
CATEGORIES:Saison 2025/26
END:VEVENT
BEGIN:VEVENT
DTSTAMP:20260424T165459Z
DTSTART;TZID=Europe/Berlin:20251125T200000
DTEND;TZID=Europe/Berlin:20251125T230000
SUMMARY:HE 3. Liga Gr. 2 Basel VII vs Waldenburg (0)
UID:f456db53-ab59-4ab5-8be0-11fbadc945b8
STATUS:CONFIRMED
LAST-MODIFIED:20251127T135342Z
DESCRIPTION:3. Liga Herren Gruppe 2\nBegegnungs-Nr: 0\nHeim: Basel VII\nGast: Waldenburg\n\nAdresse: Schwarzwaldallee 107\, 4058 Basel\n
LOCATION:Schwarzwaldallee 107\, 4058 Basel
CATEGORIES:Saison 2025/26
END:VEVENT
BEGIN:VEVENT
DTSTAMP:20260424T165459Z
DTSTART;TZID=Europe/Berlin:20251215T201500
DTEND;TZID=Europe/Berlin:20251215T231500
SUMMARY:HE 3. Liga Gr. 2 Gelterkinden vs Basel VII (0)
UID:dc3f6f79-2eff-45cc-80ed-b14aa1cd7917
STATUS:CONFIRMED
LAST-MODIFIED:20251217T080222Z
DESCRIPTION:3. Liga Herren Gruppe 2\nBegegnungs-Nr: 0\nHeim: Gelterkinden\nGast: Basel VII\n\nAdresse: Turnhallenstrasse 18\, 4460 Gelterkinden\n
LOCATION:Turnhallenstrasse 18\, 4460 Gelterkinden
CATEGORIES:Saison 2025/26
END:VEVENT
BEGIN:VEVENT
DTSTAMP:20260424T165459Z
DTSTART;TZID=Europe/Berlin:20260304T193000
DTEND;TZID=Europe/Berlin:20260304T223000
SUMMARY:HE 3. Liga Gr. 2 Pratteln vs Basel VII (0)
UID:65100cbf-a233-4662-aa91-82f04700cb31
STATUS:CONFIRMED
LAST-MODIFIED:20260313T125030Z
DESCRIPTION:3. Liga Herren Gruppe 2\nBegegnungs-Nr: 0\nHeim: Pratteln\nGast: Basel VII\n\nAdresse: Erliweg 16\, 4133 Pratteln\n
LOCATION:Erliweg 16\, 4133 Pratteln
CATEGORIES:Saison 2025/26
END:VEVENT
BEGIN:VEVENT
DTSTAMP:20260424T165459Z
DTSTART;TZID=Europe/Berlin:20250904T193000
DTEND;TZID=Europe/Berlin:20250904T223000
SUMMARY:HE 3. Liga Gr. 2 Rio-Star Muttenz V vs Basel VII (0)
UID:54471ba7-6a15-41d1-8938-e70a794f72c1
STATUS:CONFIRMED
LAST-MODIFIED:20250911T111015Z
DESCRIPTION:3. Liga Herren Gruppe 2\nBegegnungs-Nr: 0\nHeim: Rio-Star Muttenz V\nGast: Basel VII\n\nAdresse: Gründenstrasse 32\, 4132 Muttenz\n
LOCATION:Gründenstrasse 32\, 4132 Muttenz
CATEGORIES:Saison 2025/26
END:VEVENT
BEGIN:VEVENT
DTSTAMP:20260424T165459Z
DTSTART;TZID=Europe/Berlin:20260130T200000
DTEND;TZID=Europe/Berlin:20260130T230000
SUMMARY:HE 3. Liga Gr. 2 Möhlin vs Basel VII (0)
UID:e7e626da-c9ad-429f-8ad1-c2deb13fa6c2
STATUS:CONFIRMED
LAST-MODIFIED:20260203T141331Z
DESCRIPTION:3. Liga Herren Gruppe 2\nBegegnungs-Nr: 0\nHeim: Möhlin\nGast: Basel VII\n\nAdresse: Schulhausweg\, 4313 Möhlin\n
LOCATION:Schulhausweg\, 4313 Möhlin
CATEGORIES:Saison 2025/26
END:VEVENT
BEGIN:VEVENT
DTSTAMP:20260424T165459Z
DTSTART;TZID=Europe/Berlin:20260323T200000
DTEND;TZID=Europe/Berlin:20260323T230000
SUMMARY:HE 3. Liga Gr. 2 Waldenburg vs Basel VII (0)
UID:870be7bf-5a79-4d45-bccc-ede7cc1d2acf
STATUS:CONFIRMED
LAST-MODIFIED:20260409T114626Z
DESCRIPTION:3. Liga Herren Gruppe 2\nBegegnungs-Nr: 0\nHeim: Waldenburg\nGast: Basel VII\n\nAdresse: Hauptstrasse 30\, 4437 Waldenburg\n
LOCATION:Hauptstrasse 30\, 4437 Waldenburg
CATEGORIES:Saison 2025/26
END:VEVENT
BEGIN:VEVENT
DTSTAMP:20260424T165459Z
DTSTART;TZID=Europe/Berlin:20251015T193000
DTEND;TZID=Europe/Berlin:20251015T223000
SUMMARY:HE 3. Liga Gr. 2 Liebrüti vs Basel VII (0)
UID:a2a35d4e-fef9-4f4d-adb1-ac371d3fcf8e
STATUS:CONFIRMED
LAST-MODIFIED:20251016T145628Z
DESCRIPTION:3. Liga Herren Gruppe 2\nBegegnungs-Nr: 0\nHeim: Liebrüti\nGast: Basel VII\n\nAdresse: Schwarzackerstr. 59\, 4303 Kaiseraugst\n
LOCATION:Schwarzackerstr. 59\, 4303 Kaiseraugst
CATEGORIES:Saison 2025/26
END:VEVENT
BEGIN:VEVENT
DTSTAMP:20260424T165459Z
DTSTART;TZID=Europe/Berlin:20251111T200000
DTEND;TZID=Europe/Berlin:20251111T230000
SUMMARY:HE 3. Liga Gr. 2 Sisseln vs Basel VII (0)
UID:fd794119-2de6-4a9c-8639-ff7e2c6ccfa6
STATUS:CONFIRMED
LAST-MODIFIED:20251114T140547Z
DESCRIPTION:3. Liga Herren Gruppe 2\nBegegnungs-Nr: 0\nHeim: Sisseln\nGast: Basel VII\n\nAdresse: Schulstrasse\, 4334 Sisseln\n
LOCATION:Schulstrasse\, 4334 Sisseln
CATEGORIES:Saison 2025/26
END:VEVENT
END:VCALENDAR
