BEGIN:VCALENDAR
PRODID:-//nuDatenautomaten//framework iCal4j //DE
VERSION:2.0
CALSCALE:GREGORIAN
BEGIN:VTIMEZONE
TZID:Europe/Berlin
LAST-MODIFIED:20260306T231828Z
TZURL:https://www.tzurl.org/zoneinfo/Europe/Berlin
X-LIC-LOCATION:Europe/Berlin
X-PROLEPTIC-TZNAME:LMT
BEGIN:STANDARD
TZNAME:CET
TZOFFSETFROM:+005328
TZOFFSETTO:+0100
DTSTART:18930401T000000
END:STANDARD
BEGIN:DAYLIGHT
TZNAME:CEST
TZOFFSETFROM:+0100
TZOFFSETTO:+0200
DTSTART:19160430T230000
RDATE:19400401T020000
RDATE:19430329T020000
RDATE:19460414T020000
RDATE:19470406T030000
RDATE:19480418T020000
RDATE:19490410T020000
RDATE:19800406T020000
END:DAYLIGHT
BEGIN:STANDARD
TZNAME:CET
TZOFFSETFROM:+0200
TZOFFSETTO:+0100
DTSTART:19161001T010000
RDATE:19421102T030000
RDATE:19431004T030000
RDATE:19441002T030000
RDATE:19451118T030000
RDATE:19461007T030000
END:STANDARD
BEGIN:DAYLIGHT
TZNAME:CEST
TZOFFSETFROM:+0100
TZOFFSETTO:+0200
DTSTART:19170416T020000
RRULE:FREQ=YEARLY;UNTIL=19180415T010000Z;BYMONTH=4;BYDAY=3MO
END:DAYLIGHT
BEGIN:STANDARD
TZNAME:CET
TZOFFSETFROM:+0200
TZOFFSETTO:+0100
DTSTART:19170917T030000
RRULE:FREQ=YEARLY;UNTIL=19180916T010000Z;BYMONTH=9;BYDAY=3MO
END:STANDARD
BEGIN:DAYLIGHT
TZNAME:CEST
TZOFFSETFROM:+0100
TZOFFSETTO:+0200
DTSTART:19440403T020000
RRULE:FREQ=YEARLY;UNTIL=19450402T010000Z;BYMONTH=4;BYDAY=1MO
END:DAYLIGHT
BEGIN:DAYLIGHT
TZNAME:CEMT
TZOFFSETFROM:+0200
TZOFFSETTO:+0300
DTSTART:19450524T020000
RDATE:19470511T030000
END:DAYLIGHT
BEGIN:DAYLIGHT
TZNAME:CEST
TZOFFSETFROM:+0300
TZOFFSETTO:+0200
DTSTART:19450924T030000
RDATE:19470629T030000
END:DAYLIGHT
BEGIN:STANDARD
TZNAME:CET
TZOFFSETFROM:+0100
TZOFFSETTO:+0100
DTSTART:19460101T000000
RDATE:19800101T000000
END:STANDARD
BEGIN:STANDARD
TZNAME:CET
TZOFFSETFROM:+0200
TZOFFSETTO:+0100
DTSTART:19471005T030000
RRULE:FREQ=YEARLY;UNTIL=19491002T010000Z;BYMONTH=10;BYDAY=1SU
END:STANDARD
BEGIN:STANDARD
TZNAME:CET
TZOFFSETFROM:+0200
TZOFFSETTO:+0100
DTSTART:19800928T030000
RRULE:FREQ=YEARLY;UNTIL=19950924T010000Z;BYMONTH=9;BYDAY=-1SU
END:STANDARD
BEGIN:DAYLIGHT
TZNAME:CEST
TZOFFSETFROM:+0100
TZOFFSETTO:+0200
DTSTART:19810329T020000
RRULE:FREQ=YEARLY;BYMONTH=3;BYDAY=-1SU
END:DAYLIGHT
BEGIN:STANDARD
TZNAME:CET
TZOFFSETFROM:+0200
TZOFFSETTO:+0100
DTSTART:19961027T030000
RRULE:FREQ=YEARLY;BYMONTH=10;BYDAY=-1SU
END:STANDARD
END:VTIMEZONE
BEGIN:VEVENT
DTSTAMP:20260424T135050Z
DTSTART;TZID=Europe/Berlin:20251122T130000
DTEND;TZID=Europe/Berlin:20251122T160000
SUMMARY:HE 6. Liga Gr. 4 Birrfeld IV vs Brugg IV (0)
UID:8809b03f-18ee-437c-b560-fe555056be21
STATUS:CONFIRMED
LAST-MODIFIED:20251124T082736Z
DESCRIPTION:6. Liga Herren Gruppe 4\nBegegnungs-Nr: 0\nHeim: Birrfeld IV\nGast: Brugg IV\n\nAdresse: Zentralstrasse 30\, 5242 Birr\n
LOCATION:Zentralstrasse 30\, 5242 Birr
CATEGORIES:Saison 2025/26
END:VEVENT
BEGIN:VEVENT
DTSTAMP:20260424T135050Z
DTSTART;TZID=Europe/Berlin:20250823T130000
DTEND;TZID=Europe/Berlin:20250823T160000
SUMMARY:HE 6. Liga Gr. 4 Birrfeld IV vs Birrfeld V (0)
UID:419f5d06-5eb4-4533-b38d-c6e3b824964c
STATUS:CONFIRMED
LAST-MODIFIED:20250825T071529Z
DESCRIPTION:6. Liga Herren Gruppe 4\nBegegnungs-Nr: 0\nHeim: Birrfeld IV\nGast: Birrfeld V\n\nAdresse: Rugghölzli 2\, 5453 Busslingen (Remetschwil)\n
LOCATION:Rugghölzli 2\, 5453 Busslingen (Remetschwil)
CATEGORIES:Saison 2025/26
END:VEVENT
BEGIN:VEVENT
DTSTAMP:20260424T135050Z
DTSTART;TZID=Europe/Berlin:20250927T130000
DTEND;TZID=Europe/Berlin:20250927T160000
SUMMARY:HE 6. Liga Gr. 4 Birrfeld IV vs Wohlen II (0)
UID:5466202d-d50c-48fb-9501-13384972cba0
STATUS:CONFIRMED
LAST-MODIFIED:20250930T084817Z
DESCRIPTION:6. Liga Herren Gruppe 4\nBegegnungs-Nr: 0\nHeim: Birrfeld IV\nGast: Wohlen II\n\nAdresse: Zentralstrasse 30\, 5242 Birr\n
LOCATION:Zentralstrasse 30\, 5242 Birr
CATEGORIES:Saison 2025/26
END:VEVENT
BEGIN:VEVENT
DTSTAMP:20260424T135050Z
DTSTART;TZID=Europe/Berlin:20260328T130000
DTEND;TZID=Europe/Berlin:20260328T160000
SUMMARY:HE 6. Liga Gr. 4 Birrfeld IV vs Baden-Wettingen VIII (0)
UID:cf851b69-adaa-4894-b633-3c3366d1d1f9
STATUS:CONFIRMED
LAST-MODIFIED:20260416T095257Z
DESCRIPTION:6. Liga Herren Gruppe 4\nBegegnungs-Nr: 0\nHeim: Birrfeld IV\nGast: Baden-Wettingen VIII\n\nAdresse: Zentralstrasse 30\, 5242 Birr\n
LOCATION:Zentralstrasse 30\, 5242 Birr
CATEGORIES:Saison 2025/26
END:VEVENT
BEGIN:VEVENT
DTSTAMP:20260424T135050Z
DTSTART;TZID=Europe/Berlin:20260228T130000
DTEND;TZID=Europe/Berlin:20260228T160000
SUMMARY:HE 6. Liga Gr. 4 Birrfeld IV vs Mellingen III (0)
UID:2782050a-8cbd-4b41-b7ab-4c2e1cac5dc1
STATUS:CONFIRMED
LAST-MODIFIED:20260302T112417Z
DESCRIPTION:6. Liga Herren Gruppe 4\nBegegnungs-Nr: 0\nHeim: Birrfeld IV\nGast: Mellingen III\n\nAdresse: Zentralstrasse 30\, 5242 Birr\n
LOCATION:Zentralstrasse 30\, 5242 Birr
CATEGORIES:Saison 2025/26
END:VEVENT
BEGIN:VEVENT
DTSTAMP:20260424T135050Z
DTSTART;TZID=Europe/Berlin:20260221T130000
DTEND;TZID=Europe/Berlin:20260221T160000
SUMMARY:HE 6. Liga Gr. 4 Birrfeld IV vs Muri III (0)
UID:5ec41a4e-c886-4a1a-9151-791aabb548cf
STATUS:CONFIRMED
LAST-MODIFIED:20260224T074703Z
DESCRIPTION:6. Liga Herren Gruppe 4\nBegegnungs-Nr: 0\nHeim: Birrfeld IV\nGast: Muri III\n\nAdresse: Zentralstrasse 30\, 5242 Birr\n
LOCATION:Zentralstrasse 30\, 5242 Birr
CATEGORIES:Saison 2025/26
END:VEVENT
BEGIN:VEVENT
DTSTAMP:20260424T135050Z
DTSTART;TZID=Europe/Berlin:20260110T130000
DTEND;TZID=Europe/Berlin:20260110T160000
SUMMARY:HE 6. Liga Gr. 4 Birrfeld IV vs Zofingen VI (0)
UID:2360ddae-6a17-4917-94c6-3c502562a877
STATUS:CONFIRMED
LAST-MODIFIED:20260115T095213Z
DESCRIPTION:6. Liga Herren Gruppe 4\nBegegnungs-Nr: 0\nHeim: Birrfeld IV\nGast: Zofingen VI\n\nAdresse: Zentralstrasse 30\, 5242 Birr\n
LOCATION:Zentralstrasse 30\, 5242 Birr
CATEGORIES:Saison 2025/26
END:VEVENT
BEGIN:VEVENT
DTSTAMP:20260424T135050Z
DTSTART;TZID=Europe/Berlin:20251204T200000
DTEND;TZID=Europe/Berlin:20251204T230000
SUMMARY:HE 6. Liga Gr. 4 Baden-Wettingen VIII vs Birrfeld IV (0)
UID:a9bb900e-3824-46f5-9421-365b1caff68c
STATUS:CONFIRMED
LAST-MODIFIED:20251205T123445Z
DESCRIPTION:6. Liga Herren Gruppe 4\nBegegnungs-Nr: 0\nHeim: Baden-Wettingen VIII\nGast: Birrfeld IV\n\nAdresse: Schulstrasse 14\, 5430 Wettingen\n
LOCATION:Schulstrasse 14\, 5430 Wettingen
CATEGORIES:Saison 2025/26
END:VEVENT
BEGIN:VEVENT
DTSTAMP:20260424T135050Z
DTSTART;TZID=Europe/Berlin:20250905T194500
DTEND;TZID=Europe/Berlin:20250905T224500
SUMMARY:HE 6. Liga Gr. 4 Zofingen VI vs Birrfeld IV (0)
UID:270b9fcb-8cfc-4a34-bfaa-80c00bbc4105
STATUS:CONFIRMED
LAST-MODIFIED:20250911T112449Z
DESCRIPTION:6. Liga Herren Gruppe 4\nBegegnungs-Nr: 0\nHeim: Zofingen VI\nGast: Birrfeld IV\n\nAdresse: Strengelbacherstrasse 14\, 4800 Zofingen\n
LOCATION:Strengelbacherstrasse 14\, 4800 Zofingen
CATEGORIES:Saison 2025/26
END:VEVENT
BEGIN:VEVENT
DTSTAMP:20260424T135050Z
DTSTART;TZID=Europe/Berlin:20251023T200000
DTEND;TZID=Europe/Berlin:20251023T230000
SUMMARY:HE 6. Liga Gr. 4 Mellingen III vs Birrfeld IV (0)
UID:db762417-e882-4fb9-8dc7-ec69a635e564
STATUS:CONFIRMED
LAST-MODIFIED:20251029T100615Z
DESCRIPTION:6. Liga Herren Gruppe 4\nBegegnungs-Nr: 0\nHeim: Mellingen III\nGast: Birrfeld IV\n\nAdresse: Bahnhofstrasse 22\, 5507 Mellingen\n
LOCATION:Bahnhofstrasse 22\, 5507 Mellingen
CATEGORIES:Saison 2025/26
END:VEVENT
BEGIN:VEVENT
DTSTAMP:20260424T135050Z
DTSTART;TZID=Europe/Berlin:20251016T200000
DTEND;TZID=Europe/Berlin:20251016T230000
SUMMARY:HE 6. Liga Gr. 4 Muri III vs Birrfeld IV (0)
UID:1a7efdaa-2819-4636-9058-ebc7cd20d894
STATUS:CONFIRMED
LAST-MODIFIED:20251029T095253Z
DESCRIPTION:6. Liga Herren Gruppe 4\nBegegnungs-Nr: 0\nHeim: Muri III\nGast: Birrfeld IV\n\nAdresse: Badweiherstrasse\, 5630 Muri AG\n
LOCATION:Badweiherstrasse\, 5630 Muri AG
CATEGORIES:Saison 2025/26
END:VEVENT
BEGIN:VEVENT
DTSTAMP:20260424T135050Z
DTSTART;TZID=Europe/Berlin:20260310T194500
DTEND;TZID=Europe/Berlin:20260310T224500
SUMMARY:HE 6. Liga Gr. 4 Brugg IV vs Birrfeld IV (0)
UID:938c5214-ef05-45de-af32-e6507a88b0af
STATUS:CONFIRMED
LAST-MODIFIED:20260313T130919Z
DESCRIPTION:6. Liga Herren Gruppe 4\nBegegnungs-Nr: 0\nHeim: Brugg IV\nGast: Birrfeld IV\n\nAdresse: Sommerhaldenstrasse 29\, 5200 Brugg/Lauffohr\n
LOCATION:Sommerhaldenstrasse 29\, 5200 Brugg/Lauffohr
CATEGORIES:Saison 2025/26
END:VEVENT
BEGIN:VEVENT
DTSTAMP:20260424T135050Z
DTSTART;TZID=Europe/Berlin:20260116T194500
DTEND;TZID=Europe/Berlin:20260116T224500
SUMMARY:HE 6. Liga Gr. 4 Wohlen II vs Birrfeld IV (0)
UID:3059832d-0ad2-449a-a730-6efbfda27b28
STATUS:CONFIRMED
LAST-MODIFIED:20260130T084932Z
DESCRIPTION:6. Liga Herren Gruppe 4\nBegegnungs-Nr: 0\nHeim: Wohlen II\nGast: Birrfeld IV\n\nAdresse: Hofmattenweg 17\, 5610 Wohlen\, bei verschlossener Tür Klingel Halle 1 betätigen (links neben Türen)\n
LOCATION:Hofmattenweg 17\, 5610 Wohlen\, bei verschlossener Tür Klingel Halle 1 betätigen (links neben Türen)
CATEGORIES:Saison 2025/26
END:VEVENT
BEGIN:VEVENT
DTSTAMP:20260424T135050Z
DTSTART;TZID=Europe/Berlin:20251217T174500
DTEND;TZID=Europe/Berlin:20251217T204500
SUMMARY:HE 6. Liga Gr. 4 Birrfeld V vs Birrfeld IV (0)
UID:388b3661-4b27-4c2a-86cf-10be4c6d2d8d
STATUS:CONFIRMED
LAST-MODIFIED:20251218T122736Z
DESCRIPTION:6. Liga Herren Gruppe 4\nBegegnungs-Nr: 0\nHeim: Birrfeld V\nGast: Birrfeld IV\n\nAdresse: Zentralstrasse 30\, 5242 Birr\n
LOCATION:Zentralstrasse 30\, 5242 Birr
CATEGORIES:Saison 2025/26
END:VEVENT
END:VCALENDAR
