BEGIN:VCALENDAR
PRODID:-//nuDatenautomaten//framework iCal4j //DE
VERSION:2.0
CALSCALE:GREGORIAN
BEGIN:VTIMEZONE
TZID:Europe/Berlin
LAST-MODIFIED:20260306T231828Z
TZURL:https://www.tzurl.org/zoneinfo/Europe/Berlin
X-LIC-LOCATION:Europe/Berlin
X-PROLEPTIC-TZNAME:LMT
BEGIN:STANDARD
TZNAME:CET
TZOFFSETFROM:+005328
TZOFFSETTO:+0100
DTSTART:18930401T000000
END:STANDARD
BEGIN:DAYLIGHT
TZNAME:CEST
TZOFFSETFROM:+0100
TZOFFSETTO:+0200
DTSTART:19160430T230000
RDATE:19400401T020000
RDATE:19430329T020000
RDATE:19460414T020000
RDATE:19470406T030000
RDATE:19480418T020000
RDATE:19490410T020000
RDATE:19800406T020000
END:DAYLIGHT
BEGIN:STANDARD
TZNAME:CET
TZOFFSETFROM:+0200
TZOFFSETTO:+0100
DTSTART:19161001T010000
RDATE:19421102T030000
RDATE:19431004T030000
RDATE:19441002T030000
RDATE:19451118T030000
RDATE:19461007T030000
END:STANDARD
BEGIN:DAYLIGHT
TZNAME:CEST
TZOFFSETFROM:+0100
TZOFFSETTO:+0200
DTSTART:19170416T020000
RRULE:FREQ=YEARLY;UNTIL=19180415T010000Z;BYMONTH=4;BYDAY=3MO
END:DAYLIGHT
BEGIN:STANDARD
TZNAME:CET
TZOFFSETFROM:+0200
TZOFFSETTO:+0100
DTSTART:19170917T030000
RRULE:FREQ=YEARLY;UNTIL=19180916T010000Z;BYMONTH=9;BYDAY=3MO
END:STANDARD
BEGIN:DAYLIGHT
TZNAME:CEST
TZOFFSETFROM:+0100
TZOFFSETTO:+0200
DTSTART:19440403T020000
RRULE:FREQ=YEARLY;UNTIL=19450402T010000Z;BYMONTH=4;BYDAY=1MO
END:DAYLIGHT
BEGIN:DAYLIGHT
TZNAME:CEMT
TZOFFSETFROM:+0200
TZOFFSETTO:+0300
DTSTART:19450524T020000
RDATE:19470511T030000
END:DAYLIGHT
BEGIN:DAYLIGHT
TZNAME:CEST
TZOFFSETFROM:+0300
TZOFFSETTO:+0200
DTSTART:19450924T030000
RDATE:19470629T030000
END:DAYLIGHT
BEGIN:STANDARD
TZNAME:CET
TZOFFSETFROM:+0100
TZOFFSETTO:+0100
DTSTART:19460101T000000
RDATE:19800101T000000
END:STANDARD
BEGIN:STANDARD
TZNAME:CET
TZOFFSETFROM:+0200
TZOFFSETTO:+0100
DTSTART:19471005T030000
RRULE:FREQ=YEARLY;UNTIL=19491002T010000Z;BYMONTH=10;BYDAY=1SU
END:STANDARD
BEGIN:STANDARD
TZNAME:CET
TZOFFSETFROM:+0200
TZOFFSETTO:+0100
DTSTART:19800928T030000
RRULE:FREQ=YEARLY;UNTIL=19950924T010000Z;BYMONTH=9;BYDAY=-1SU
END:STANDARD
BEGIN:DAYLIGHT
TZNAME:CEST
TZOFFSETFROM:+0100
TZOFFSETTO:+0200
DTSTART:19810329T020000
RRULE:FREQ=YEARLY;BYMONTH=3;BYDAY=-1SU
END:DAYLIGHT
BEGIN:STANDARD
TZNAME:CET
TZOFFSETFROM:+0200
TZOFFSETTO:+0100
DTSTART:19961027T030000
RRULE:FREQ=YEARLY;BYMONTH=10;BYDAY=-1SU
END:STANDARD
END:VTIMEZONE
BEGIN:VEVENT
DTSTAMP:20260424T084020Z
DTSTART;TZID=Europe/Berlin:20251119T194500
DTEND;TZID=Europe/Berlin:20251119T224500
SUMMARY:HE 4. Liga Gr. 2 Stettlen vs Thun IV (20)
UID:f280d9ad-60b3-43da-ab23-fba06888757a
STATUS:CONFIRMED
LAST-MODIFIED:20251122T091021Z
DESCRIPTION:4. Liga Herren Gruppe 2\nBegegnungs-Nr: 20\nHeim: Stettlen\nGast: Thun IV\n\nAdresse: Bernstrasse 45\, 3066 Stettlen\n
LOCATION:Bernstrasse 45\, 3066 Stettlen
CATEGORIES:Saison 2025/26
END:VEVENT
BEGIN:VEVENT
DTSTAMP:20260424T084020Z
DTSTART;TZID=Europe/Berlin:20251029T194500
DTEND;TZID=Europe/Berlin:20251029T224500
SUMMARY:HE 4. Liga Gr. 2 Stettlen vs Langnau III (14)
UID:218c79e5-28e3-49b4-b868-85969e28ac49
STATUS:CONFIRMED
LAST-MODIFIED:20251111T072718Z
DESCRIPTION:4. Liga Herren Gruppe 2\nBegegnungs-Nr: 14\nHeim: Stettlen\nGast: Langnau III\n\nAdresse: Bernstrasse 45\, 3066 Stettlen\n
LOCATION:Bernstrasse 45\, 3066 Stettlen
CATEGORIES:Saison 2025/26
END:VEVENT
BEGIN:VEVENT
DTSTAMP:20260424T084020Z
DTSTART;TZID=Europe/Berlin:20250917T194500
DTEND;TZID=Europe/Berlin:20250917T224500
SUMMARY:HE 4. Liga Gr. 2 Stettlen vs Tiefenau (8)
UID:d1f28cc3-c031-4509-b035-7c6d2e19a2a2
STATUS:CONFIRMED
LAST-MODIFIED:20250918T140832Z
DESCRIPTION:4. Liga Herren Gruppe 2\nBegegnungs-Nr: 8\nHeim: Stettlen\nGast: Tiefenau\n\nAdresse: Bernstrasse 45\, 3066 Stettlen\n
LOCATION:Bernstrasse 45\, 3066 Stettlen
CATEGORIES:Saison 2025/26
END:VEVENT
BEGIN:VEVENT
DTSTAMP:20260424T084020Z
DTSTART;TZID=Europe/Berlin:20260325T194500
DTEND;TZID=Europe/Berlin:20260325T224500
SUMMARY:HE 4. Liga Gr. 2 Stettlen vs Bern VII (27)
UID:1331fc14-5cfd-4e4b-b22e-2be2580b1ffc
STATUS:CONFIRMED
LAST-MODIFIED:20260409T123001Z
DESCRIPTION:4. Liga Herren Gruppe 2\nBegegnungs-Nr: 27\nHeim: Stettlen\nGast: Bern VII\n\nAdresse: Bernstrasse 45\, 3066 Stettlen\n
LOCATION:Bernstrasse 45\, 3066 Stettlen
CATEGORIES:Saison 2025/26
END:VEVENT
BEGIN:VEVENT
DTSTAMP:20260424T084020Z
DTSTART;TZID=Europe/Berlin:20260311T194500
DTEND;TZID=Europe/Berlin:20260311T224500
SUMMARY:HE 4. Liga Gr. 2 Stettlen vs Münsingen III (24)
UID:df695ee2-18ba-4217-afda-30ad1f7d566a
STATUS:CONFIRMED
LAST-MODIFIED:20260315T230118Z
DESCRIPTION:4. Liga Herren Gruppe 2\nBegegnungs-Nr: 24\nHeim: Stettlen\nGast: Münsingen III\n\nAdresse: Bernstrasse 45\, 3066 Stettlen\n
LOCATION:Bernstrasse 45\, 3066 Stettlen
CATEGORIES:Saison 2025/26
END:VEVENT
BEGIN:VEVENT
DTSTAMP:20260424T084020Z
DTSTART;TZID=Europe/Berlin:20260211T194500
DTEND;TZID=Europe/Berlin:20260211T224500
SUMMARY:HE 4. Liga Gr. 2 Stettlen vs Ostermundigen VII (9)
UID:3530f5ac-cb30-4044-bce2-5b0835846e9a
STATUS:CONFIRMED
LAST-MODIFIED:20260217T215004Z
DESCRIPTION:4. Liga Herren Gruppe 2\nBegegnungs-Nr: 9\nHeim: Stettlen\nGast: Ostermundigen VII\n\nAdresse: Bernstrasse 45\, 3066 Stettlen\n
LOCATION:Bernstrasse 45\, 3066 Stettlen
CATEGORIES:Saison 2025/26
END:VEVENT
BEGIN:VEVENT
DTSTAMP:20260424T084020Z
DTSTART;TZID=Europe/Berlin:20260114T194500
DTEND;TZID=Europe/Berlin:20260114T224500
SUMMARY:HE 4. Liga Gr. 2 Stettlen vs Wohlensee III (3)
UID:1d105471-02bc-4af0-858e-2e3c86540f3e
STATUS:CONFIRMED
LAST-MODIFIED:20260125T001636Z
DESCRIPTION:4. Liga Herren Gruppe 2\nBegegnungs-Nr: 3\nHeim: Stettlen\nGast: Wohlensee III\n\nAdresse: Bernstrasse 45\, 3066 Stettlen\n
LOCATION:Bernstrasse 45\, 3066 Stettlen
CATEGORIES:Saison 2025/26
END:VEVENT
BEGIN:VEVENT
DTSTAMP:20260424T084020Z
DTSTART;TZID=Europe/Berlin:20250903T194500
DTEND;TZID=Europe/Berlin:20250903T224500
SUMMARY:HE 4. Liga Gr. 2 Wohlensee III vs Stettlen (3)
UID:94edd201-6778-42d6-a39a-84e1f39e9602
STATUS:CONFIRMED
LAST-MODIFIED:20250907T200105Z
DESCRIPTION:4. Liga Herren Gruppe 2\nBegegnungs-Nr: 3\nHeim: Wohlensee III\nGast: Stettlen\n\nAdresse: Kappelenring 36 a\, 3032 Hinterkappelen\n
LOCATION:Kappelenring 36 a\, 3032 Hinterkappelen
CATEGORIES:Saison 2025/26
END:VEVENT
BEGIN:VEVENT
DTSTAMP:20260424T084020Z
DTSTART;TZID=Europe/Berlin:20251210T193000
DTEND;TZID=Europe/Berlin:20251210T223000
SUMMARY:HE 4. Liga Gr. 2 Bern VII vs Stettlen (27)
UID:eb18b51f-489e-4d59-ab9d-f35a39d4ac2e
STATUS:CONFIRMED
LAST-MODIFIED:20251216T120546Z
DESCRIPTION:4. Liga Herren Gruppe 2\nBegegnungs-Nr: 27\nHeim: Bern VII\nGast: Stettlen\n\nAdresse: Papiermühlestrasse 81\, 3014 Bern\n
LOCATION:Papiermühlestrasse 81\, 3014 Bern
CATEGORIES:Saison 2025/26
END:VEVENT
BEGIN:VEVENT
DTSTAMP:20260424T084020Z
DTSTART;TZID=Europe/Berlin:20251127T200000
DTEND;TZID=Europe/Berlin:20251127T230000
SUMMARY:HE 4. Liga Gr. 2 Münsingen III vs Stettlen (24)
UID:d2c0bc47-d67b-45dd-b6df-5162259c8828
STATUS:CONFIRMED
LAST-MODIFIED:20251207T172842Z
DESCRIPTION:4. Liga Herren Gruppe 2\nBegegnungs-Nr: 24\nHeim: Münsingen III\nGast: Stettlen\n\nAdresse: Turnhallenweg 8\, 3110 Münsingen\n
LOCATION:Turnhallenweg 8\, 3110 Münsingen
CATEGORIES:Saison 2025/26
END:VEVENT
BEGIN:VEVENT
DTSTAMP:20260424T084020Z
DTSTART;TZID=Europe/Berlin:20251022T194500
DTEND;TZID=Europe/Berlin:20251022T224500
SUMMARY:HE 4. Liga Gr. 2 Ostermundigen VII vs Stettlen (9)
UID:ae7f8567-bd28-4a6e-83dc-baa1303d1a91
STATUS:CONFIRMED
LAST-MODIFIED:20251029T220953Z
DESCRIPTION:4. Liga Herren Gruppe 2\nBegegnungs-Nr: 9\nHeim: Ostermundigen VII\nGast: Stettlen\n\nAdresse: Dennigkofenweg 169\, 3072 Ostermundigen\n
LOCATION:Dennigkofenweg 169\, 3072 Ostermundigen
CATEGORIES:Saison 2025/26
END:VEVENT
BEGIN:VEVENT
DTSTAMP:20260424T084020Z
DTSTART;TZID=Europe/Berlin:20260302T000000
DTEND;TZID=Europe/Berlin:20260302T030000
SUMMARY:HE 4. Liga Gr. 2 Thun IV vs Stettlen (20)
UID:1ff31870-2112-4fca-a845-cc7ae4778109
STATUS:CONFIRMED
LAST-MODIFIED:20260302T144655Z
DESCRIPTION:4. Liga Herren Gruppe 2\nBegegnungs-Nr: 20\nHeim: Thun IV\nGast: Stettlen\n
LOCATION:
CATEGORIES:Saison 2025/26
END:VEVENT
BEGIN:VEVENT
DTSTAMP:20260424T084020Z
DTSTART;TZID=Europe/Berlin:20260221T140000
DTEND;TZID=Europe/Berlin:20260221T170000
SUMMARY:HE 4. Liga Gr. 2 Langnau III vs Stettlen (14)
UID:03b63df8-5ac2-4d90-8759-84c296117fbe
STATUS:CONFIRMED
LAST-MODIFIED:20260224T075355Z
DESCRIPTION:4. Liga Herren Gruppe 2\nBegegnungs-Nr: 14\nHeim: Langnau III\nGast: Stettlen\n\nAdresse: Bleicheweg 11\, 3550 Langnau\n
LOCATION:Bleicheweg 11\, 3550 Langnau
CATEGORIES:Saison 2025/26
END:VEVENT
BEGIN:VEVENT
DTSTAMP:20260424T084020Z
DTSTART;TZID=Europe/Berlin:20260129T194500
DTEND;TZID=Europe/Berlin:20260129T224500
SUMMARY:HE 4. Liga Gr. 2 Tiefenau vs Stettlen (8)
UID:1e539a62-105a-4e13-a81d-e49b05005ce6
STATUS:CONFIRMED
LAST-MODIFIED:20260217T213253Z
DESCRIPTION:4. Liga Herren Gruppe 2\nBegegnungs-Nr: 8\nHeim: Tiefenau\nGast: Stettlen\n\nAdresse: Studerstrasse 56\, 3004 Bern\n
LOCATION:Studerstrasse 56\, 3004 Bern
CATEGORIES:Saison 2025/26
END:VEVENT
END:VCALENDAR
