BEGIN:VCALENDAR
PRODID:-//nuDatenautomaten//framework iCal4j //DE
VERSION:2.0
CALSCALE:GREGORIAN
BEGIN:VTIMEZONE
TZID:Europe/Berlin
LAST-MODIFIED:20260306T231828Z
TZURL:https://www.tzurl.org/zoneinfo/Europe/Berlin
X-LIC-LOCATION:Europe/Berlin
X-PROLEPTIC-TZNAME:LMT
BEGIN:STANDARD
TZNAME:CET
TZOFFSETFROM:+005328
TZOFFSETTO:+0100
DTSTART:18930401T000000
END:STANDARD
BEGIN:DAYLIGHT
TZNAME:CEST
TZOFFSETFROM:+0100
TZOFFSETTO:+0200
DTSTART:19160430T230000
RDATE:19400401T020000
RDATE:19430329T020000
RDATE:19460414T020000
RDATE:19470406T030000
RDATE:19480418T020000
RDATE:19490410T020000
RDATE:19800406T020000
END:DAYLIGHT
BEGIN:STANDARD
TZNAME:CET
TZOFFSETFROM:+0200
TZOFFSETTO:+0100
DTSTART:19161001T010000
RDATE:19421102T030000
RDATE:19431004T030000
RDATE:19441002T030000
RDATE:19451118T030000
RDATE:19461007T030000
END:STANDARD
BEGIN:DAYLIGHT
TZNAME:CEST
TZOFFSETFROM:+0100
TZOFFSETTO:+0200
DTSTART:19170416T020000
RRULE:FREQ=YEARLY;UNTIL=19180415T010000Z;BYMONTH=4;BYDAY=3MO
END:DAYLIGHT
BEGIN:STANDARD
TZNAME:CET
TZOFFSETFROM:+0200
TZOFFSETTO:+0100
DTSTART:19170917T030000
RRULE:FREQ=YEARLY;UNTIL=19180916T010000Z;BYMONTH=9;BYDAY=3MO
END:STANDARD
BEGIN:DAYLIGHT
TZNAME:CEST
TZOFFSETFROM:+0100
TZOFFSETTO:+0200
DTSTART:19440403T020000
RRULE:FREQ=YEARLY;UNTIL=19450402T010000Z;BYMONTH=4;BYDAY=1MO
END:DAYLIGHT
BEGIN:DAYLIGHT
TZNAME:CEMT
TZOFFSETFROM:+0200
TZOFFSETTO:+0300
DTSTART:19450524T020000
RDATE:19470511T030000
END:DAYLIGHT
BEGIN:DAYLIGHT
TZNAME:CEST
TZOFFSETFROM:+0300
TZOFFSETTO:+0200
DTSTART:19450924T030000
RDATE:19470629T030000
END:DAYLIGHT
BEGIN:STANDARD
TZNAME:CET
TZOFFSETFROM:+0100
TZOFFSETTO:+0100
DTSTART:19460101T000000
RDATE:19800101T000000
END:STANDARD
BEGIN:STANDARD
TZNAME:CET
TZOFFSETFROM:+0200
TZOFFSETTO:+0100
DTSTART:19471005T030000
RRULE:FREQ=YEARLY;UNTIL=19491002T010000Z;BYMONTH=10;BYDAY=1SU
END:STANDARD
BEGIN:STANDARD
TZNAME:CET
TZOFFSETFROM:+0200
TZOFFSETTO:+0100
DTSTART:19800928T030000
RRULE:FREQ=YEARLY;UNTIL=19950924T010000Z;BYMONTH=9;BYDAY=-1SU
END:STANDARD
BEGIN:DAYLIGHT
TZNAME:CEST
TZOFFSETFROM:+0100
TZOFFSETTO:+0200
DTSTART:19810329T020000
RRULE:FREQ=YEARLY;BYMONTH=3;BYDAY=-1SU
END:DAYLIGHT
BEGIN:STANDARD
TZNAME:CET
TZOFFSETFROM:+0200
TZOFFSETTO:+0100
DTSTART:19961027T030000
RRULE:FREQ=YEARLY;BYMONTH=10;BYDAY=-1SU
END:STANDARD
END:VTIMEZONE
BEGIN:VEVENT
DTSTAMP:20260424T084015Z
DTSTART;TZID=Europe/Berlin:20251216T200000
DTEND;TZID=Europe/Berlin:20251216T230000
SUMMARY:HE 3. Liga Gr. 3 Lyss vs Wynigen (26)
UID:b5f5c859-3f83-4165-ba94-04ed1c44c9fb
STATUS:CONFIRMED
LAST-MODIFIED:20251217T100737Z
DESCRIPTION:3. Liga Herren Gruppe 3\nBegegnungs-Nr: 26\nHeim: Lyss\nGast: Wynigen\n\nAdresse: Stegmattweg 15-17\, 3250 Lyss\n
LOCATION:Stegmattweg 15-17\, 3250 Lyss
CATEGORIES:Saison 2025/26
END:VEVENT
BEGIN:VEVENT
DTSTAMP:20260424T084015Z
DTSTART;TZID=Europe/Berlin:20251128T200000
DTEND;TZID=Europe/Berlin:20251128T230000
SUMMARY:HE 3. Liga Gr. 3 Lyss vs Herzogenbuchsee III (21)
UID:11932258-b397-47fe-84f1-768ce80ac096
STATUS:CONFIRMED
LAST-MODIFIED:20251206T233809Z
DESCRIPTION:3. Liga Herren Gruppe 3\nBegegnungs-Nr: 21\nHeim: Lyss\nGast: Herzogenbuchsee III\n\nAdresse: Stegmattweg 15-17\, 3250 Lyss\n
LOCATION:Stegmattweg 15-17\, 3250 Lyss
CATEGORIES:Saison 2025/26
END:VEVENT
BEGIN:VEVENT
DTSTAMP:20260424T084015Z
DTSTART;TZID=Europe/Berlin:20251014T200000
DTEND;TZID=Europe/Berlin:20251014T230000
SUMMARY:HE 3. Liga Gr. 3 Lyss vs Burgdorf VI (11)
UID:2c469c0b-1012-486e-a03c-50b935ef379b
STATUS:CONFIRMED
LAST-MODIFIED:20251016T191433Z
DESCRIPTION:3. Liga Herren Gruppe 3\nBegegnungs-Nr: 11\nHeim: Lyss\nGast: Burgdorf VI\n\nAdresse: Stegmattweg 15-17\, 3250 Lyss\n
LOCATION:Stegmattweg 15-17\, 3250 Lyss
CATEGORIES:Saison 2025/26
END:VEVENT
BEGIN:VEVENT
DTSTAMP:20260424T084015Z
DTSTART;TZID=Europe/Berlin:20250826T200000
DTEND;TZID=Europe/Berlin:20250826T230000
SUMMARY:HE 3. Liga Gr. 3 Lyss vs Langenthal (3)
UID:5e6c188a-60f9-43ca-8fda-d8dc103afe2e
STATUS:CONFIRMED
LAST-MODIFIED:20250828T192416Z
DESCRIPTION:3. Liga Herren Gruppe 3\nBegegnungs-Nr: 3\nHeim: Lyss\nGast: Langenthal\n\nAdresse: Stegmattweg 15-17\, 3250 Lyss\n
LOCATION:Stegmattweg 15-17\, 3250 Lyss
CATEGORIES:Saison 2025/26
END:VEVENT
BEGIN:VEVENT
DTSTAMP:20260424T084015Z
DTSTART;TZID=Europe/Berlin:20260305T200000
DTEND;TZID=Europe/Berlin:20260305T230000
SUMMARY:HE 3. Liga Gr. 3 Lyss vs Port VI (18)
UID:b1d75eec-557b-4a09-b522-7de949af94a0
STATUS:CONFIRMED
LAST-MODIFIED:20260308T173859Z
DESCRIPTION:3. Liga Herren Gruppe 3\nBegegnungs-Nr: 18\nHeim: Lyss\nGast: Port VI\n\nAdresse: Stegmattweg 15-17\, 3250 Lyss\n
LOCATION:Stegmattweg 15-17\, 3250 Lyss
CATEGORIES:Saison 2025/26
END:VEVENT
BEGIN:VEVENT
DTSTAMP:20260424T084015Z
DTSTART;TZID=Europe/Berlin:20260217T200000
DTEND;TZID=Europe/Berlin:20260217T230000
SUMMARY:HE 3. Liga Gr. 3 Lyss vs Aarberg III (15)
UID:9a874770-7125-49fc-a027-367798e99bae
STATUS:CONFIRMED
LAST-MODIFIED:20260218T140237Z
DESCRIPTION:3. Liga Herren Gruppe 3\nBegegnungs-Nr: 15\nHeim: Lyss\nGast: Aarberg III\n\nAdresse: Stegmattweg 15-17\, 3250 Lyss\n
LOCATION:Stegmattweg 15-17\, 3250 Lyss
CATEGORIES:Saison 2025/26
END:VEVENT
BEGIN:VEVENT
DTSTAMP:20260424T084015Z
DTSTART;TZID=Europe/Berlin:20260123T200000
DTEND;TZID=Europe/Berlin:20260123T230000
SUMMARY:HE 3. Liga Gr. 3 Lyss vs Regio Moossee (7)
UID:0031fda4-85d9-4c41-921c-0fc460957bc0
STATUS:CONFIRMED
LAST-MODIFIED:20260125T214055Z
DESCRIPTION:3. Liga Herren Gruppe 3\nBegegnungs-Nr: 7\nHeim: Lyss\nGast: Regio Moossee\n\nAdresse: Stegmattweg 15-17\, 3250 Lyss\n
LOCATION:Stegmattweg 15-17\, 3250 Lyss
CATEGORIES:Saison 2025/26
END:VEVENT
BEGIN:VEVENT
DTSTAMP:20260424T084015Z
DTSTART;TZID=Europe/Berlin:20260501T000000
DTEND;TZID=Europe/Berlin:20260501T030000
SUMMARY:HE 3. Liga Final Lyss vs Ostermundigen V (2)
UID:f20c2ed0-98ee-4a7f-90b1-042f4810ddca
STATUS:CONFIRMED
DESCRIPTION:3. Liga Herren Final\nBegegnungs-Nr: 2\nHeim: Lyss\nGast: Ostermundigen V\n
LOCATION:
CATEGORIES:Saison 2025/26
END:VEVENT
BEGIN:VEVENT
DTSTAMP:20260424T084015Z
DTSTART;TZID=Europe/Berlin:20251114T194500
DTEND;TZID=Europe/Berlin:20251114T224500
SUMMARY:HE 3. Liga Gr. 3 Port VI vs Lyss (18)
UID:a47357cc-d9f8-4224-a594-addbe6b6fbfd
STATUS:CONFIRMED
LAST-MODIFIED:20251115T171849Z
DESCRIPTION:3. Liga Herren Gruppe 3\nBegegnungs-Nr: 18\nHeim: Port VI\nGast: Lyss\n\nAdresse: Allmendstrasse 23\, 2562 Port\n
LOCATION:Allmendstrasse 23\, 2562 Port
CATEGORIES:Saison 2025/26
END:VEVENT
BEGIN:VEVENT
DTSTAMP:20260424T084015Z
DTSTART;TZID=Europe/Berlin:20251022T201500
DTEND;TZID=Europe/Berlin:20251022T231500
SUMMARY:HE 3. Liga Gr. 3 Aarberg III vs Lyss (15)
UID:6805ee68-4537-4138-9a88-b782ed601931
STATUS:CONFIRMED
LAST-MODIFIED:20251029T220856Z
DESCRIPTION:3. Liga Herren Gruppe 3\nBegegnungs-Nr: 15\nHeim: Aarberg III\nGast: Lyss\n\nAdresse: Nidaustrasse 7\, 3270 Aarberg\n
LOCATION:Nidaustrasse 7\, 3270 Aarberg
CATEGORIES:Saison 2025/26
END:VEVENT
BEGIN:VEVENT
DTSTAMP:20260424T084015Z
DTSTART;TZID=Europe/Berlin:20250923T194500
DTEND;TZID=Europe/Berlin:20250923T224500
SUMMARY:HE 3. Liga Gr. 3 Regio Moossee vs Lyss (7)
UID:852b3b10-e383-40c4-b151-507d488ef3ae
STATUS:CONFIRMED
LAST-MODIFIED:20251003T173049Z
DESCRIPTION:3. Liga Herren Gruppe 3\nBegegnungs-Nr: 7\nHeim: Regio Moossee\nGast: Lyss\n\nAdresse: Schulhausstrasse 23-25\, 3302 Moosseedorf\n
LOCATION:Schulhausstrasse 23-25\, 3302 Moosseedorf
CATEGORIES:Saison 2025/26
END:VEVENT
BEGIN:VEVENT
DTSTAMP:20260424T084015Z
DTSTART;TZID=Europe/Berlin:20260323T201500
DTEND;TZID=Europe/Berlin:20260323T231500
SUMMARY:HE 3. Liga Gr. 3 Wynigen vs Lyss (26)
UID:2259bab6-fc2d-450c-b273-d6e69d1e3acd
STATUS:CONFIRMED
LAST-MODIFIED:20260409T115132Z
DESCRIPTION:3. Liga Herren Gruppe 3\nBegegnungs-Nr: 26\nHeim: Wynigen\nGast: Lyss\n\nAdresse: -\, 3472 Wynigen\n
LOCATION:-\, 3472 Wynigen
CATEGORIES:Saison 2025/26
END:VEVENT
BEGIN:VEVENT
DTSTAMP:20260424T084015Z
DTSTART;TZID=Europe/Berlin:20260313T201500
DTEND;TZID=Europe/Berlin:20260313T231500
SUMMARY:HE 3. Liga Gr. 3 Herzogenbuchsee III vs Lyss (21)
UID:fcb6b797-8ca7-479b-b3dc-5af6339a96d3
STATUS:CONFIRMED
LAST-MODIFIED:20260315T225940Z
DESCRIPTION:3. Liga Herren Gruppe 3\nBegegnungs-Nr: 21\nHeim: Herzogenbuchsee III\nGast: Lyss\n\nAdresse: Ringstrasse 10\, 3360 Herzogenbuchsee\n
LOCATION:Ringstrasse 10\, 3360 Herzogenbuchsee
CATEGORIES:Saison 2025/26
END:VEVENT
BEGIN:VEVENT
DTSTAMP:20260424T084015Z
DTSTART;TZID=Europe/Berlin:20260206T193000
DTEND;TZID=Europe/Berlin:20260206T223000
SUMMARY:HE 3. Liga Gr. 3 Burgdorf VI vs Lyss (11)
UID:3218ff41-6d6a-4f81-a7ff-84535ce46980
STATUS:CONFIRMED
LAST-MODIFIED:20260217T212839Z
DESCRIPTION:3. Liga Herren Gruppe 3\nBegegnungs-Nr: 11\nHeim: Burgdorf VI\nGast: Lyss\n\nAdresse: Pestalozzistrasse 69\, 3400 Burgdorf\n
LOCATION:Pestalozzistrasse 69\, 3400 Burgdorf
CATEGORIES:Saison 2025/26
END:VEVENT
BEGIN:VEVENT
DTSTAMP:20260424T084015Z
DTSTART;TZID=Europe/Berlin:20260112T200000
DTEND;TZID=Europe/Berlin:20260112T230000
SUMMARY:HE 3. Liga Gr. 3 Langenthal vs Lyss (3)
UID:d99622a7-04e9-4dde-addb-4d5d895a3ef3
STATUS:CONFIRMED
LAST-MODIFIED:20260125T001158Z
DESCRIPTION:3. Liga Herren Gruppe 3\nBegegnungs-Nr: 3\nHeim: Langenthal\nGast: Lyss\n\nAdresse: Weststrasse 29\, 4900 Langenthal\n
LOCATION:Weststrasse 29\, 4900 Langenthal
CATEGORIES:Saison 2025/26
END:VEVENT
BEGIN:VEVENT
DTSTAMP:20260424T084015Z
DTSTART;TZID=Europe/Berlin:20260531T000000
DTEND;TZID=Europe/Berlin:20260531T030000
SUMMARY:HE 3. Liga Final Aarberg II vs Lyss (5)
UID:1a3330e5-009b-49af-b4ca-3b18b88382fc
STATUS:CONFIRMED
DESCRIPTION:3. Liga Herren Final\nBegegnungs-Nr: 5\nHeim: Aarberg II\nGast: Lyss\n
LOCATION:
CATEGORIES:Saison 2025/26
END:VEVENT
BEGIN:VEVENT
DTSTAMP:20260424T084015Z
DTSTART;TZID=Europe/Berlin:20260515T000000
DTEND;TZID=Europe/Berlin:20260515T030000
SUMMARY:HE 3. Liga Final Brügg vs Lyss (4)
UID:42105958-42ae-44c9-a61c-8359b1ece6c6
STATUS:CONFIRMED
DESCRIPTION:3. Liga Herren Final\nBegegnungs-Nr: 4\nHeim: Brügg\nGast: Lyss\n
LOCATION:
CATEGORIES:Saison 2025/26
END:VEVENT
END:VCALENDAR
