BEGIN:VCALENDAR
PRODID:-//nuDatenautomaten//framework iCal4j //DE
VERSION:2.0
CALSCALE:GREGORIAN
BEGIN:VTIMEZONE
TZID:Europe/Berlin
LAST-MODIFIED:20260306T231828Z
TZURL:https://www.tzurl.org/zoneinfo/Europe/Berlin
X-LIC-LOCATION:Europe/Berlin
X-PROLEPTIC-TZNAME:LMT
BEGIN:STANDARD
TZNAME:CET
TZOFFSETFROM:+005328
TZOFFSETTO:+0100
DTSTART:18930401T000000
END:STANDARD
BEGIN:DAYLIGHT
TZNAME:CEST
TZOFFSETFROM:+0100
TZOFFSETTO:+0200
DTSTART:19160430T230000
RDATE:19400401T020000
RDATE:19430329T020000
RDATE:19460414T020000
RDATE:19470406T030000
RDATE:19480418T020000
RDATE:19490410T020000
RDATE:19800406T020000
END:DAYLIGHT
BEGIN:STANDARD
TZNAME:CET
TZOFFSETFROM:+0200
TZOFFSETTO:+0100
DTSTART:19161001T010000
RDATE:19421102T030000
RDATE:19431004T030000
RDATE:19441002T030000
RDATE:19451118T030000
RDATE:19461007T030000
END:STANDARD
BEGIN:DAYLIGHT
TZNAME:CEST
TZOFFSETFROM:+0100
TZOFFSETTO:+0200
DTSTART:19170416T020000
RRULE:FREQ=YEARLY;UNTIL=19180415T010000Z;BYMONTH=4;BYDAY=3MO
END:DAYLIGHT
BEGIN:STANDARD
TZNAME:CET
TZOFFSETFROM:+0200
TZOFFSETTO:+0100
DTSTART:19170917T030000
RRULE:FREQ=YEARLY;UNTIL=19180916T010000Z;BYMONTH=9;BYDAY=3MO
END:STANDARD
BEGIN:DAYLIGHT
TZNAME:CEST
TZOFFSETFROM:+0100
TZOFFSETTO:+0200
DTSTART:19440403T020000
RRULE:FREQ=YEARLY;UNTIL=19450402T010000Z;BYMONTH=4;BYDAY=1MO
END:DAYLIGHT
BEGIN:DAYLIGHT
TZNAME:CEMT
TZOFFSETFROM:+0200
TZOFFSETTO:+0300
DTSTART:19450524T020000
RDATE:19470511T030000
END:DAYLIGHT
BEGIN:DAYLIGHT
TZNAME:CEST
TZOFFSETFROM:+0300
TZOFFSETTO:+0200
DTSTART:19450924T030000
RDATE:19470629T030000
END:DAYLIGHT
BEGIN:STANDARD
TZNAME:CET
TZOFFSETFROM:+0100
TZOFFSETTO:+0100
DTSTART:19460101T000000
RDATE:19800101T000000
END:STANDARD
BEGIN:STANDARD
TZNAME:CET
TZOFFSETFROM:+0200
TZOFFSETTO:+0100
DTSTART:19471005T030000
RRULE:FREQ=YEARLY;UNTIL=19491002T010000Z;BYMONTH=10;BYDAY=1SU
END:STANDARD
BEGIN:STANDARD
TZNAME:CET
TZOFFSETFROM:+0200
TZOFFSETTO:+0100
DTSTART:19800928T030000
RRULE:FREQ=YEARLY;UNTIL=19950924T010000Z;BYMONTH=9;BYDAY=-1SU
END:STANDARD
BEGIN:DAYLIGHT
TZNAME:CEST
TZOFFSETFROM:+0100
TZOFFSETTO:+0200
DTSTART:19810329T020000
RRULE:FREQ=YEARLY;BYMONTH=3;BYDAY=-1SU
END:DAYLIGHT
BEGIN:STANDARD
TZNAME:CET
TZOFFSETFROM:+0200
TZOFFSETTO:+0100
DTSTART:19961027T030000
RRULE:FREQ=YEARLY;BYMONTH=10;BYDAY=-1SU
END:STANDARD
END:VTIMEZONE
BEGIN:VEVENT
DTSTAMP:20260424T181716Z
DTSTART;TZID=Europe/Berlin:20260320T201500
DTEND;TZID=Europe/Berlin:20260320T231500
SUMMARY:HE 4. Liga Gr. 4 Buchs Zürich II vs Embrachertal II (0)
UID:2ca01f0c-c83a-4fa1-8e66-7628eef36ea5
STATUS:CONFIRMED
LAST-MODIFIED:20260326T151934Z
DESCRIPTION:4. Liga Herren Gruppe 4\nBegegnungs-Nr: 0\nHeim: Buchs Zürich II\nGast: Embrachertal II\n\nAdresse: Drisglerstrasse 3\, 8107 Buchs ZH\n
LOCATION:Drisglerstrasse 3\, 8107 Buchs ZH
CATEGORIES:Saison 2025/26
END:VEVENT
BEGIN:VEVENT
DTSTAMP:20260424T181716Z
DTSTART;TZID=Europe/Berlin:20260327T201500
DTEND;TZID=Europe/Berlin:20260327T231500
SUMMARY:HE 4. Liga Gr. 4 Buchs Zürich II vs Urdorf II (0)
UID:c2a48133-72cf-405a-b8f8-683cf3d7137e
STATUS:CONFIRMED
LAST-MODIFIED:20260401T123436Z
DESCRIPTION:4. Liga Herren Gruppe 4\nBegegnungs-Nr: 0\nHeim: Buchs Zürich II\nGast: Urdorf II\n\nAdresse: Drisglerstrasse 3\, 8107 Buchs ZH\n
LOCATION:Drisglerstrasse 3\, 8107 Buchs ZH
CATEGORIES:Saison 2025/26
END:VEVENT
BEGIN:VEVENT
DTSTAMP:20260424T181716Z
DTSTART;TZID=Europe/Berlin:20250829T201500
DTEND;TZID=Europe/Berlin:20250829T231500
SUMMARY:HE 4. Liga Gr. 4 Buchs Zürich II vs Zürich-Affoltern VI (0)
UID:59b947a4-4347-408b-97b3-e53372479425
STATUS:CONFIRMED
LAST-MODIFIED:20251115T102808Z
DESCRIPTION:4. Liga Herren Gruppe 4\nBegegnungs-Nr: 0\nHeim: Buchs Zürich II\nGast: Zürich-Affoltern VI\n\nAdresse: Drisglerstrasse 3\, 8107 Buchs ZH\n
LOCATION:Drisglerstrasse 3\, 8107 Buchs ZH
CATEGORIES:Saison 2025/26
END:VEVENT
BEGIN:VEVENT
DTSTAMP:20260424T181716Z
DTSTART;TZID=Europe/Berlin:20250919T201500
DTEND;TZID=Europe/Berlin:20250919T231500
SUMMARY:HE 4. Liga Gr. 4 Buchs Zürich II vs Bülach IV (0)
UID:82f608e7-bbd1-41f6-a648-00dbfa4bb223
STATUS:CONFIRMED
LAST-MODIFIED:20251115T102808Z
DESCRIPTION:4. Liga Herren Gruppe 4\nBegegnungs-Nr: 0\nHeim: Buchs Zürich II\nGast: Bülach IV\n\nAdresse: Drisglerstrasse 3\, 8107 Buchs ZH\n
LOCATION:Drisglerstrasse 3\, 8107 Buchs ZH
CATEGORIES:Saison 2025/26
END:VEVENT
BEGIN:VEVENT
DTSTAMP:20260424T181716Z
DTSTART;TZID=Europe/Berlin:20251031T201500
DTEND;TZID=Europe/Berlin:20251031T231500
SUMMARY:HE 4. Liga Gr. 4 Buchs Zürich II vs Niederhasli V (0)
UID:f892014d-f607-4f8c-9616-03b057ed0145
STATUS:CONFIRMED
LAST-MODIFIED:20251115T102809Z
DESCRIPTION:4. Liga Herren Gruppe 4\nBegegnungs-Nr: 0\nHeim: Buchs Zürich II\nGast: Niederhasli V\n\nAdresse: Drisglerstrasse 3\, 8107 Buchs ZH\n
LOCATION:Drisglerstrasse 3\, 8107 Buchs ZH
CATEGORIES:Saison 2025/26
END:VEVENT
BEGIN:VEVENT
DTSTAMP:20260424T181716Z
DTSTART;TZID=Europe/Berlin:20251205T201500
DTEND;TZID=Europe/Berlin:20251205T231500
SUMMARY:HE 4. Liga Gr. 4 Buchs Zürich II vs Dietikon-Weiningen II (0)
UID:13a3c0e6-1bd1-4136-9152-261a0cc2be7a
STATUS:CONFIRMED
LAST-MODIFIED:20251210T083934Z
DESCRIPTION:4. Liga Herren Gruppe 4\nBegegnungs-Nr: 0\nHeim: Buchs Zürich II\nGast: Dietikon-Weiningen II\n\nAdresse: Drisglerstrasse 3\, 8107 Buchs ZH\n
LOCATION:Drisglerstrasse 3\, 8107 Buchs ZH
CATEGORIES:Saison 2025/26
END:VEVENT
BEGIN:VEVENT
DTSTAMP:20260424T181716Z
DTSTART;TZID=Europe/Berlin:20260123T201500
DTEND;TZID=Europe/Berlin:20260123T231500
SUMMARY:HE 4. Liga Gr. 4 Buchs Zürich II vs Kloten II (0)
UID:d0429e95-0737-4482-a579-29d300be5ee5
STATUS:CONFIRMED
LAST-MODIFIED:20260127T145735Z
DESCRIPTION:4. Liga Herren Gruppe 4\nBegegnungs-Nr: 0\nHeim: Buchs Zürich II\nGast: Kloten II\n\nAdresse: Drisglerstrasse 3\, 8107 Buchs ZH\n
LOCATION:Drisglerstrasse 3\, 8107 Buchs ZH
CATEGORIES:Saison 2025/26
END:VEVENT
BEGIN:VEVENT
DTSTAMP:20260424T181716Z
DTSTART;TZID=Europe/Berlin:20260313T193000
DTEND;TZID=Europe/Berlin:20260313T223000
SUMMARY:HE 4. Liga Gr. 4 Niederhasli V vs Buchs Zürich II (0)
UID:1ae9540e-f89c-49aa-b01a-fda7741b3f50
STATUS:CONFIRMED
LAST-MODIFIED:20260317T134628Z
DESCRIPTION:4. Liga Herren Gruppe 4\nBegegnungs-Nr: 0\nHeim: Niederhasli V\nGast: Buchs Zürich II\n\nAdresse: Dorfstrasse 22\, 8155 Niederhasli\n
LOCATION:Dorfstrasse 22\, 8155 Niederhasli
CATEGORIES:Saison 2025/26
END:VEVENT
BEGIN:VEVENT
DTSTAMP:20260424T181716Z
DTSTART;TZID=Europe/Berlin:20260417T200000
DTEND;TZID=Europe/Berlin:20260417T230000
SUMMARY:HE 4. Liga Gr. 4 Dietikon-Weiningen II vs Buchs Zürich II (0)
UID:ce7b2bf5-a985-4dfa-bca4-904c5591efd2
STATUS:CONFIRMED
LAST-MODIFIED:20260420T122949Z
DESCRIPTION:4. Liga Herren Gruppe 4\nBegegnungs-Nr: 0\nHeim: Dietikon-Weiningen II\nGast: Buchs Zürich II\n\nAdresse: Bohnackerstrasse 5\, 8953 Dietikon\n
LOCATION:Bohnackerstrasse 5\, 8953 Dietikon
CATEGORIES:Saison 2025/26
END:VEVENT
BEGIN:VEVENT
DTSTAMP:20260424T181716Z
DTSTART;TZID=Europe/Berlin:20250903T193000
DTEND;TZID=Europe/Berlin:20250903T223000
SUMMARY:HE 4. Liga Gr. 4 Kloten II vs Buchs Zürich II (0)
UID:6db1c796-3572-464e-aa9f-1a0852372a50
STATUS:CONFIRMED
LAST-MODIFIED:20251115T102808Z
DESCRIPTION:4. Liga Herren Gruppe 4\nBegegnungs-Nr: 0\nHeim: Kloten II\nGast: Buchs Zürich II\n\nAdresse: Schluefweg 10\, 8302 Kloten\n
LOCATION:Schluefweg 10\, 8302 Kloten
CATEGORIES:Saison 2025/26
END:VEVENT
BEGIN:VEVENT
DTSTAMP:20260424T181716Z
DTSTART;TZID=Europe/Berlin:20250925T200000
DTEND;TZID=Europe/Berlin:20250925T230000
SUMMARY:HE 4. Liga Gr. 4 Embrachertal II vs Buchs Zürich II (0)
UID:e97f4daf-a8af-4064-97e1-31a5d32e5226
STATUS:CONFIRMED
LAST-MODIFIED:20251115T102809Z
DESCRIPTION:4. Liga Herren Gruppe 4\nBegegnungs-Nr: 0\nHeim: Embrachertal II\nGast: Buchs Zürich II\n\nAdresse: Schützenhausstrasse 20\, 8424 Embrach\n
LOCATION:Schützenhausstrasse 20\, 8424 Embrach
CATEGORIES:Saison 2025/26
END:VEVENT
BEGIN:VEVENT
DTSTAMP:20260424T181716Z
DTSTART;TZID=Europe/Berlin:20251107T201500
DTEND;TZID=Europe/Berlin:20251107T231500
SUMMARY:HE 4. Liga Gr. 4 Urdorf II vs Buchs Zürich II (0)
UID:cc6faa85-4e6b-4d94-b73f-ca7e016f89ff
STATUS:CONFIRMED
LAST-MODIFIED:20251115T102809Z
DESCRIPTION:4. Liga Herren Gruppe 4\nBegegnungs-Nr: 0\nHeim: Urdorf II\nGast: Buchs Zürich II\n\nAdresse: Weihermattstrasse 50\, 8902 Urdorf\n
LOCATION:Weihermattstrasse 50\, 8902 Urdorf
CATEGORIES:Saison 2025/26
END:VEVENT
BEGIN:VEVENT
DTSTAMP:20260424T181716Z
DTSTART;TZID=Europe/Berlin:20260107T194500
DTEND;TZID=Europe/Berlin:20260107T224500
SUMMARY:HE 4. Liga Gr. 4 Zürich-Affoltern VI vs Buchs Zürich II (0)
UID:6a27469f-d9b0-4bbb-a94d-e88fe28198b5
STATUS:CONFIRMED
LAST-MODIFIED:20260112T091737Z
DESCRIPTION:4. Liga Herren Gruppe 4\nBegegnungs-Nr: 0\nHeim: Zürich-Affoltern VI\nGast: Buchs Zürich II\n\nAdresse: Fronwaldstr.115\, 8046 Zürich\n
LOCATION:Fronwaldstr.115\, 8046 Zürich
CATEGORIES:Saison 2025/26
END:VEVENT
BEGIN:VEVENT
DTSTAMP:20260424T181716Z
DTSTART;TZID=Europe/Berlin:20260130T193000
DTEND;TZID=Europe/Berlin:20260130T223000
SUMMARY:HE 4. Liga Gr. 4 Bülach IV vs Buchs Zürich II (0)
UID:2b4b520c-b875-45c0-99e1-179bf7a22167
STATUS:CONFIRMED
LAST-MODIFIED:20260204T085054Z
DESCRIPTION:4. Liga Herren Gruppe 4\nBegegnungs-Nr: 0\nHeim: Bülach IV\nGast: Buchs Zürich II\n\nAdresse: Schwerzgruebstrasse 28\, 8180 Bülach\n
LOCATION:Schwerzgruebstrasse 28\, 8180 Bülach
CATEGORIES:Saison 2025/26
END:VEVENT
END:VCALENDAR
