BEGIN:VCALENDAR
PRODID:-//nuDatenautomaten//framework iCal4j //DE
VERSION:2.0
CALSCALE:GREGORIAN
BEGIN:VTIMEZONE
TZID:Europe/Berlin
LAST-MODIFIED:20260306T231828Z
TZURL:https://www.tzurl.org/zoneinfo/Europe/Berlin
X-LIC-LOCATION:Europe/Berlin
X-PROLEPTIC-TZNAME:LMT
BEGIN:STANDARD
TZNAME:CET
TZOFFSETFROM:+005328
TZOFFSETTO:+0100
DTSTART:18930401T000000
END:STANDARD
BEGIN:DAYLIGHT
TZNAME:CEST
TZOFFSETFROM:+0100
TZOFFSETTO:+0200
DTSTART:19160430T230000
RDATE:19400401T020000
RDATE:19430329T020000
RDATE:19460414T020000
RDATE:19470406T030000
RDATE:19480418T020000
RDATE:19490410T020000
RDATE:19800406T020000
END:DAYLIGHT
BEGIN:STANDARD
TZNAME:CET
TZOFFSETFROM:+0200
TZOFFSETTO:+0100
DTSTART:19161001T010000
RDATE:19421102T030000
RDATE:19431004T030000
RDATE:19441002T030000
RDATE:19451118T030000
RDATE:19461007T030000
END:STANDARD
BEGIN:DAYLIGHT
TZNAME:CEST
TZOFFSETFROM:+0100
TZOFFSETTO:+0200
DTSTART:19170416T020000
RRULE:FREQ=YEARLY;UNTIL=19180415T010000Z;BYMONTH=4;BYDAY=3MO
END:DAYLIGHT
BEGIN:STANDARD
TZNAME:CET
TZOFFSETFROM:+0200
TZOFFSETTO:+0100
DTSTART:19170917T030000
RRULE:FREQ=YEARLY;UNTIL=19180916T010000Z;BYMONTH=9;BYDAY=3MO
END:STANDARD
BEGIN:DAYLIGHT
TZNAME:CEST
TZOFFSETFROM:+0100
TZOFFSETTO:+0200
DTSTART:19440403T020000
RRULE:FREQ=YEARLY;UNTIL=19450402T010000Z;BYMONTH=4;BYDAY=1MO
END:DAYLIGHT
BEGIN:DAYLIGHT
TZNAME:CEMT
TZOFFSETFROM:+0200
TZOFFSETTO:+0300
DTSTART:19450524T020000
RDATE:19470511T030000
END:DAYLIGHT
BEGIN:DAYLIGHT
TZNAME:CEST
TZOFFSETFROM:+0300
TZOFFSETTO:+0200
DTSTART:19450924T030000
RDATE:19470629T030000
END:DAYLIGHT
BEGIN:STANDARD
TZNAME:CET
TZOFFSETFROM:+0100
TZOFFSETTO:+0100
DTSTART:19460101T000000
RDATE:19800101T000000
END:STANDARD
BEGIN:STANDARD
TZNAME:CET
TZOFFSETFROM:+0200
TZOFFSETTO:+0100
DTSTART:19471005T030000
RRULE:FREQ=YEARLY;UNTIL=19491002T010000Z;BYMONTH=10;BYDAY=1SU
END:STANDARD
BEGIN:STANDARD
TZNAME:CET
TZOFFSETFROM:+0200
TZOFFSETTO:+0100
DTSTART:19800928T030000
RRULE:FREQ=YEARLY;UNTIL=19950924T010000Z;BYMONTH=9;BYDAY=-1SU
END:STANDARD
BEGIN:DAYLIGHT
TZNAME:CEST
TZOFFSETFROM:+0100
TZOFFSETTO:+0200
DTSTART:19810329T020000
RRULE:FREQ=YEARLY;BYMONTH=3;BYDAY=-1SU
END:DAYLIGHT
BEGIN:STANDARD
TZNAME:CET
TZOFFSETFROM:+0200
TZOFFSETTO:+0100
DTSTART:19961027T030000
RRULE:FREQ=YEARLY;BYMONTH=10;BYDAY=-1SU
END:STANDARD
END:VTIMEZONE
BEGIN:VEVENT
DTSTAMP:20260424T114904Z
DTSTART;TZID=Europe/Berlin:20250904T193000
DTEND;TZID=Europe/Berlin:20250904T223000
SUMMARY:ME L6 Gr 8\, Tours 1&2 Nyon II vs Gland V (0)
UID:3a3195c1-1144-4956-8945-2363192cb6f2
STATUS:CONFIRMED
LAST-MODIFIED:20250904T215654Z
DESCRIPTION:6ème ligue Hommes Groupe 8\, Tours 1&2\nBegegnungs-Nr: 0\nHeim: Nyon II\nGast: Gland V\n\nAdresse: Rte des Tattes-d'Oie 97\, 1260 Nyon\n
LOCATION:Rte des Tattes-d'Oie 97\, 1260 Nyon
CATEGORIES:Saison 2025/26
END:VEVENT
BEGIN:VEVENT
DTSTAMP:20260424T114904Z
DTSTART;TZID=Europe/Berlin:20250918T193000
DTEND;TZID=Europe/Berlin:20250918T223000
SUMMARY:ME L6 Gr 8\, Tours 1&2 Nyon II vs Rolle III (0)
UID:288f5bf2-bc92-42ae-bba6-079120595ef3
STATUS:CONFIRMED
LAST-MODIFIED:20250919T205319Z
DESCRIPTION:6ème ligue Hommes Groupe 8\, Tours 1&2\nBegegnungs-Nr: 0\nHeim: Nyon II\nGast: Rolle III\n\nAdresse: Rte des Tattes-d'Oie 97\, 1260 Nyon\n
LOCATION:Rte des Tattes-d'Oie 97\, 1260 Nyon
CATEGORIES:Saison 2025/26
END:VEVENT
BEGIN:VEVENT
DTSTAMP:20260424T114904Z
DTSTART;TZID=Europe/Berlin:20251106T193000
DTEND;TZID=Europe/Berlin:20251106T223000
SUMMARY:ME L6 Gr 8\, Tours 1&2 Nyon II vs Bougy II (0)
UID:4ac098a3-96e3-4796-8fae-6f2d4f4bf644
STATUS:CONFIRMED
LAST-MODIFIED:20251109T130841Z
DESCRIPTION:6ème ligue Hommes Groupe 8\, Tours 1&2\nBegegnungs-Nr: 0\nHeim: Nyon II\nGast: Bougy II\n\nAdresse: Rte des Tattes-d'Oie 97\, 1260 Nyon\n
LOCATION:Rte des Tattes-d'Oie 97\, 1260 Nyon
CATEGORIES:Saison 2025/26
END:VEVENT
BEGIN:VEVENT
DTSTAMP:20260424T114904Z
DTSTART;TZID=Europe/Berlin:20251127T193000
DTEND;TZID=Europe/Berlin:20251127T223000
SUMMARY:ME L6 Gr 8\, Tours 1&2 Nyon II vs Bougy (0)
UID:bbd04744-5062-4001-a6a3-aee3991de26a
STATUS:CONFIRMED
LAST-MODIFIED:20251128T204140Z
DESCRIPTION:6ème ligue Hommes Groupe 8\, Tours 1&2\nBegegnungs-Nr: 0\nHeim: Nyon II\nGast: Bougy\n\nAdresse: Rte des Tattes-d'Oie 97\, 1260 Nyon\n
LOCATION:Rte des Tattes-d'Oie 97\, 1260 Nyon
CATEGORIES:Saison 2025/26
END:VEVENT
BEGIN:VEVENT
DTSTAMP:20260424T114904Z
DTSTART;TZID=Europe/Berlin:20251211T193000
DTEND;TZID=Europe/Berlin:20251211T223000
SUMMARY:ME L6 Gr 8\, Tours 1&2 Nyon II vs Rolle II (0)
UID:abb38310-b3c0-4f61-a9ca-400b3d683f9c
STATUS:CONFIRMED
LAST-MODIFIED:20251214T162226Z
DESCRIPTION:6ème ligue Hommes Groupe 8\, Tours 1&2\nBegegnungs-Nr: 0\nHeim: Nyon II\nGast: Rolle II\n\nAdresse: Rte des Tattes-d'Oie 97\, 1260 Nyon\n
LOCATION:Rte des Tattes-d'Oie 97\, 1260 Nyon
CATEGORIES:Saison 2025/26
END:VEVENT
BEGIN:VEVENT
DTSTAMP:20260424T114904Z
DTSTART;TZID=Europe/Berlin:20260430T193000
DTEND;TZID=Europe/Berlin:20260430T223000
SUMMARY:ME L6 Gr 9\, Tours 3&4 Nyon II vs Rolle II (0)
UID:90bbeeca-df82-4be2-a8ed-8c1c33d5436b
STATUS:CONFIRMED
DESCRIPTION:6ème ligue Hommes Groupe 9\,Tours 3&4\nBegegnungs-Nr: 0\nHeim: Nyon II\nGast: Rolle II\n\nAdresse: Rte des Tattes-d'Oie 97\, 1260 Nyon\n
LOCATION:Rte des Tattes-d'Oie 97\, 1260 Nyon
CATEGORIES:Saison 2025/26
END:VEVENT
BEGIN:VEVENT
DTSTAMP:20260424T114904Z
DTSTART;TZID=Europe/Berlin:20260423T193000
DTEND;TZID=Europe/Berlin:20260423T223000
SUMMARY:ME L6 Gr 9\, Tours 3&4 Nyon II vs Rolle III (0)
UID:b3393315-67ff-4601-b163-2862b2a42bc8
STATUS:CONFIRMED
DESCRIPTION:6ème ligue Hommes Groupe 9\,Tours 3&4\nBegegnungs-Nr: 0\nHeim: Nyon II\nGast: Rolle III\n\nAdresse: Rte des Tattes-d'Oie 97\, 1260 Nyon\n
LOCATION:Rte des Tattes-d'Oie 97\, 1260 Nyon
CATEGORIES:Saison 2025/26
END:VEVENT
BEGIN:VEVENT
DTSTAMP:20260424T114904Z
DTSTART;TZID=Europe/Berlin:20260312T193000
DTEND;TZID=Europe/Berlin:20260312T223000
SUMMARY:ME L6 Gr 9\, Tours 3&4 Nyon II vs Gland V (0)
UID:601c4650-9cc7-42b5-8dd2-e412d6b63127
STATUS:CONFIRMED
LAST-MODIFIED:20260313T232256Z
DESCRIPTION:6ème ligue Hommes Groupe 9\,Tours 3&4\nBegegnungs-Nr: 0\nHeim: Nyon II\nGast: Gland V\n\nAdresse: Rte des Tattes-d'Oie 97\, 1260 Nyon\n
LOCATION:Rte des Tattes-d'Oie 97\, 1260 Nyon
CATEGORIES:Saison 2025/26
END:VEVENT
BEGIN:VEVENT
DTSTAMP:20260424T114904Z
DTSTART;TZID=Europe/Berlin:20260205T193000
DTEND;TZID=Europe/Berlin:20260205T223000
SUMMARY:ME L6 Gr 9\, Tours 3&4 Nyon II vs Trams-Renens III (0)
UID:0465b05d-c7f8-4498-8898-f9f67e5d428a
STATUS:CONFIRMED
LAST-MODIFIED:20260206T184121Z
DESCRIPTION:6ème ligue Hommes Groupe 9\,Tours 3&4\nBegegnungs-Nr: 0\nHeim: Nyon II\nGast: Trams-Renens III\n\nAdresse: Rte des Tattes-d'Oie 97\, 1260 Nyon\n
LOCATION:Rte des Tattes-d'Oie 97\, 1260 Nyon
CATEGORIES:Saison 2025/26
END:VEVENT
BEGIN:VEVENT
DTSTAMP:20260424T114904Z
DTSTART;TZID=Europe/Berlin:20260122T193000
DTEND;TZID=Europe/Berlin:20260122T223000
SUMMARY:ME L6 Gr 9\, Tours 3&4 Nyon II vs Bougy II (0)
UID:be152a8e-9361-4f68-8638-7a49a90f372d
STATUS:CONFIRMED
LAST-MODIFIED:20260125T171748Z
DESCRIPTION:6ème ligue Hommes Groupe 9\,Tours 3&4\nBegegnungs-Nr: 0\nHeim: Nyon II\nGast: Bougy II\n\nAdresse: Rte des Tattes-d'Oie 97\, 1260 Nyon\n
LOCATION:Rte des Tattes-d'Oie 97\, 1260 Nyon
CATEGORIES:Saison 2025/26
END:VEVENT
BEGIN:VEVENT
DTSTAMP:20260424T114904Z
DTSTART;TZID=Europe/Berlin:20250908T193000
DTEND;TZID=Europe/Berlin:20250908T223000
SUMMARY:ME L6 Gr 8\, Tours 1&2 Bougy II vs Nyon II (0)
UID:6dd0d6b4-a0bc-442f-a3d9-1aeb02536d4e
STATUS:CONFIRMED
LAST-MODIFIED:20250910T231310Z
DESCRIPTION:6ème ligue Hommes Groupe 8\, Tours 1&2\nBegegnungs-Nr: 0\nHeim: Bougy II\nGast: Nyon II\n\nAdresse: Grand-Rue 11\, 1172 Bougy-Villars\n
LOCATION:Grand-Rue 11\, 1172 Bougy-Villars
CATEGORIES:Saison 2025/26
END:VEVENT
BEGIN:VEVENT
DTSTAMP:20260424T114904Z
DTSTART;TZID=Europe/Berlin:20251001T193000
DTEND;TZID=Europe/Berlin:20251001T223000
SUMMARY:ME L6 Gr 8\, Tours 1&2 Bougy vs Nyon II (0)
UID:37bcf032-7190-4b5b-bb41-74337f2358ae
STATUS:CONFIRMED
LAST-MODIFIED:20251005T181849Z
DESCRIPTION:6ème ligue Hommes Groupe 8\, Tours 1&2\nBegegnungs-Nr: 0\nHeim: Bougy\nGast: Nyon II\n\nAdresse: Grand-Rue 11\, 1172 Bougy-Villars\n
LOCATION:Grand-Rue 11\, 1172 Bougy-Villars
CATEGORIES:Saison 2025/26
END:VEVENT
BEGIN:VEVENT
DTSTAMP:20260424T114904Z
DTSTART;TZID=Europe/Berlin:20251008T200000
DTEND;TZID=Europe/Berlin:20251008T230000
SUMMARY:ME L6 Gr 8\, Tours 1&2 Rolle II vs Nyon II (0)
UID:018707ae-b511-4595-ac4d-e5b05a7f71af
STATUS:CONFIRMED
LAST-MODIFIED:20251009T103136Z
DESCRIPTION:6ème ligue Hommes Groupe 8\, Tours 1&2\nBegegnungs-Nr: 0\nHeim: Rolle II\nGast: Nyon II\n\nAdresse: Route des Quatre-Communes 7\, 1180 Rolle\n
LOCATION:Route des Quatre-Communes 7\, 1180 Rolle
CATEGORIES:Saison 2025/26
END:VEVENT
BEGIN:VEVENT
DTSTAMP:20260424T114904Z
DTSTART;TZID=Europe/Berlin:20251031T193000
DTEND;TZID=Europe/Berlin:20251031T223000
SUMMARY:ME L6 Gr 8\, Tours 1&2 Gland V vs Nyon II (0)
UID:f01c4b8a-1290-40dd-9944-695fe84deac7
STATUS:CONFIRMED
LAST-MODIFIED:20251103T123835Z
DESCRIPTION:6ème ligue Hommes Groupe 8\, Tours 1&2\nBegegnungs-Nr: 0\nHeim: Gland V\nGast: Nyon II\n\nAdresse: Chemin de la Perroude 1\, 1196 Gland\n
LOCATION:Chemin de la Perroude 1\, 1196 Gland
CATEGORIES:Saison 2025/26
END:VEVENT
BEGIN:VEVENT
DTSTAMP:20260424T114904Z
DTSTART;TZID=Europe/Berlin:20251120T201500
DTEND;TZID=Europe/Berlin:20251120T231500
SUMMARY:ME L6 Gr 8\, Tours 1&2 Rolle III vs Nyon II (0)
UID:4b35b8d7-e0ae-4f57-a117-3db32351204c
STATUS:CONFIRMED
LAST-MODIFIED:20251121T140655Z
DESCRIPTION:6ème ligue Hommes Groupe 8\, Tours 1&2\nBegegnungs-Nr: 0\nHeim: Rolle III\nGast: Nyon II\n\nAdresse: Route des Quatre-Communes 7\, 1180 Rolle\n
LOCATION:Route des Quatre-Communes 7\, 1180 Rolle
CATEGORIES:Saison 2025/26
END:VEVENT
BEGIN:VEVENT
DTSTAMP:20260424T114904Z
DTSTART;TZID=Europe/Berlin:20260327T193000
DTEND;TZID=Europe/Berlin:20260327T223000
SUMMARY:ME L6 Gr 9\, Tours 3&4 Trams-Renens III vs Nyon II (0)
UID:b4c5514a-0da8-4da8-817b-af29fe9579da
STATUS:CONFIRMED
LAST-MODIFIED:20260330T184817Z
DESCRIPTION:6ème ligue Hommes Groupe 9\,Tours 3&4\nBegegnungs-Nr: 0\nHeim: Trams-Renens III\nGast: Nyon II\n\nAdresse: Av Saugiaz\, 1020 Renens\n
LOCATION:Av Saugiaz\, 1020 Renens
CATEGORIES:Saison 2025/26
END:VEVENT
BEGIN:VEVENT
DTSTAMP:20260424T114904Z
DTSTART;TZID=Europe/Berlin:20260316T193000
DTEND;TZID=Europe/Berlin:20260316T223000
SUMMARY:ME L6 Gr 9\, Tours 3&4 Bougy II vs Nyon II (0)
UID:5af37a5e-12e1-4596-b241-39df5fdeb3e3
STATUS:CONFIRMED
LAST-MODIFIED:20260317T025701Z
DESCRIPTION:6ème ligue Hommes Groupe 9\,Tours 3&4\nBegegnungs-Nr: 0\nHeim: Bougy II\nGast: Nyon II\n\nAdresse: Grand-Rue 11\, 1172 Bougy-Villars\n
LOCATION:Grand-Rue 11\, 1172 Bougy-Villars
CATEGORIES:Saison 2025/26
END:VEVENT
BEGIN:VEVENT
DTSTAMP:20260424T114904Z
DTSTART;TZID=Europe/Berlin:20260225T200000
DTEND;TZID=Europe/Berlin:20260225T230000
SUMMARY:ME L6 Gr 9\, Tours 3&4 Rolle II vs Nyon II (0)
UID:bf38aa97-9768-40f9-ae8c-193417a6b474
STATUS:CONFIRMED
LAST-MODIFIED:20260301T135206Z
DESCRIPTION:6ème ligue Hommes Groupe 9\,Tours 3&4\nBegegnungs-Nr: 0\nHeim: Rolle II\nGast: Nyon II\n\nAdresse: Route des Quatre-Communes 7\, 1180 Rolle\n
LOCATION:Route des Quatre-Communes 7\, 1180 Rolle
CATEGORIES:Saison 2025/26
END:VEVENT
BEGIN:VEVENT
DTSTAMP:20260424T114904Z
DTSTART;TZID=Europe/Berlin:20260212T201500
DTEND;TZID=Europe/Berlin:20260212T231500
SUMMARY:ME L6 Gr 9\, Tours 3&4 Rolle III vs Nyon II (0)
UID:d10eb12d-f3a0-4c19-ab22-ccf799292a41
STATUS:CONFIRMED
LAST-MODIFIED:20260214T170813Z
DESCRIPTION:6ème ligue Hommes Groupe 9\,Tours 3&4\nBegegnungs-Nr: 0\nHeim: Rolle III\nGast: Nyon II\n\nAdresse: Route des Quatre-Communes 7\, 1180 Rolle\n
LOCATION:Route des Quatre-Communes 7\, 1180 Rolle
CATEGORIES:Saison 2025/26
END:VEVENT
BEGIN:VEVENT
DTSTAMP:20260424T114904Z
DTSTART;TZID=Europe/Berlin:20260116T193000
DTEND;TZID=Europe/Berlin:20260116T223000
SUMMARY:ME L6 Gr 9\, Tours 3&4 Gland V vs Nyon II (0)
UID:0d207afa-4239-415e-9c55-158504944163
STATUS:CONFIRMED
LAST-MODIFIED:20260117T131202Z
DESCRIPTION:6ème ligue Hommes Groupe 9\,Tours 3&4\nBegegnungs-Nr: 0\nHeim: Gland V\nGast: Nyon II\n\nAdresse: Chemin de la Perroude 1\, 1196 Gland\n
LOCATION:Chemin de la Perroude 1\, 1196 Gland
CATEGORIES:Saison 2025/26
END:VEVENT
END:VCALENDAR
