BEGIN:VCALENDAR
PRODID:-//nuDatenautomaten//framework iCal4j //DE
VERSION:2.0
CALSCALE:GREGORIAN
BEGIN:VTIMEZONE
TZID:Europe/Berlin
LAST-MODIFIED:20260306T231828Z
TZURL:https://www.tzurl.org/zoneinfo/Europe/Berlin
X-LIC-LOCATION:Europe/Berlin
X-PROLEPTIC-TZNAME:LMT
BEGIN:STANDARD
TZNAME:CET
TZOFFSETFROM:+005328
TZOFFSETTO:+0100
DTSTART:18930401T000000
END:STANDARD
BEGIN:DAYLIGHT
TZNAME:CEST
TZOFFSETFROM:+0100
TZOFFSETTO:+0200
DTSTART:19160430T230000
RDATE:19400401T020000
RDATE:19430329T020000
RDATE:19460414T020000
RDATE:19470406T030000
RDATE:19480418T020000
RDATE:19490410T020000
RDATE:19800406T020000
END:DAYLIGHT
BEGIN:STANDARD
TZNAME:CET
TZOFFSETFROM:+0200
TZOFFSETTO:+0100
DTSTART:19161001T010000
RDATE:19421102T030000
RDATE:19431004T030000
RDATE:19441002T030000
RDATE:19451118T030000
RDATE:19461007T030000
END:STANDARD
BEGIN:DAYLIGHT
TZNAME:CEST
TZOFFSETFROM:+0100
TZOFFSETTO:+0200
DTSTART:19170416T020000
RRULE:FREQ=YEARLY;UNTIL=19180415T010000Z;BYMONTH=4;BYDAY=3MO
END:DAYLIGHT
BEGIN:STANDARD
TZNAME:CET
TZOFFSETFROM:+0200
TZOFFSETTO:+0100
DTSTART:19170917T030000
RRULE:FREQ=YEARLY;UNTIL=19180916T010000Z;BYMONTH=9;BYDAY=3MO
END:STANDARD
BEGIN:DAYLIGHT
TZNAME:CEST
TZOFFSETFROM:+0100
TZOFFSETTO:+0200
DTSTART:19440403T020000
RRULE:FREQ=YEARLY;UNTIL=19450402T010000Z;BYMONTH=4;BYDAY=1MO
END:DAYLIGHT
BEGIN:DAYLIGHT
TZNAME:CEMT
TZOFFSETFROM:+0200
TZOFFSETTO:+0300
DTSTART:19450524T020000
RDATE:19470511T030000
END:DAYLIGHT
BEGIN:DAYLIGHT
TZNAME:CEST
TZOFFSETFROM:+0300
TZOFFSETTO:+0200
DTSTART:19450924T030000
RDATE:19470629T030000
END:DAYLIGHT
BEGIN:STANDARD
TZNAME:CET
TZOFFSETFROM:+0100
TZOFFSETTO:+0100
DTSTART:19460101T000000
RDATE:19800101T000000
END:STANDARD
BEGIN:STANDARD
TZNAME:CET
TZOFFSETFROM:+0200
TZOFFSETTO:+0100
DTSTART:19471005T030000
RRULE:FREQ=YEARLY;UNTIL=19491002T010000Z;BYMONTH=10;BYDAY=1SU
END:STANDARD
BEGIN:STANDARD
TZNAME:CET
TZOFFSETFROM:+0200
TZOFFSETTO:+0100
DTSTART:19800928T030000
RRULE:FREQ=YEARLY;UNTIL=19950924T010000Z;BYMONTH=9;BYDAY=-1SU
END:STANDARD
BEGIN:DAYLIGHT
TZNAME:CEST
TZOFFSETFROM:+0100
TZOFFSETTO:+0200
DTSTART:19810329T020000
RRULE:FREQ=YEARLY;BYMONTH=3;BYDAY=-1SU
END:DAYLIGHT
BEGIN:STANDARD
TZNAME:CET
TZOFFSETFROM:+0200
TZOFFSETTO:+0100
DTSTART:19961027T030000
RRULE:FREQ=YEARLY;BYMONTH=10;BYDAY=-1SU
END:STANDARD
END:VTIMEZONE
BEGIN:VEVENT
DTSTAMP:20260424T115052Z
DTSTART;TZID=Europe/Berlin:20251107T200000
DTEND;TZID=Europe/Berlin:20251107T230000
SUMMARY:ME L5 Gr 1\, Tours 1&2 Grône II vs Brig-Glis II (0)
UID:e9e9476a-6545-4002-af32-eccd6399954e
STATUS:CONFIRMED
LAST-MODIFIED:20251109T122342Z
DESCRIPTION:5ème ligue Hommes Groupe 1\, Tours 1&2\nBegegnungs-Nr: 0\nHeim: Grône II\nGast: Brig-Glis II\n\nAdresse:  Rue Centrale\,  \, Rue de la Piscine\, \, 3979 Grône\n
LOCATION: Rue Centrale\,  \, Rue de la Piscine\, \, 3979 Grône
CATEGORIES:Saison 2025/26
END:VEVENT
BEGIN:VEVENT
DTSTAMP:20260424T115052Z
DTSTART;TZID=Europe/Berlin:20251121T200000
DTEND;TZID=Europe/Berlin:20251121T230000
SUMMARY:ME L5 Gr 1\, Tours 1&2 Grône II vs Martigny IV (0)
UID:38b12a06-483d-40d5-a9b5-aab3909f8c0e
STATUS:CONFIRMED
LAST-MODIFIED:20251122T095805Z
DESCRIPTION:5ème ligue Hommes Groupe 1\, Tours 1&2\nBegegnungs-Nr: 0\nHeim: Grône II\nGast: Martigny IV\n\nAdresse:  Rue Centrale\,  \, Rue de la Piscine\, \, 3979 Grône\n
LOCATION: Rue Centrale\,  \, Rue de la Piscine\, \, 3979 Grône
CATEGORIES:Saison 2025/26
END:VEVENT
BEGIN:VEVENT
DTSTAMP:20260424T115052Z
DTSTART;TZID=Europe/Berlin:20250905T200000
DTEND;TZID=Europe/Berlin:20250905T230000
SUMMARY:ME L5 Gr 1\, Tours 1&2 Grône II vs Sion IV (0)
UID:627cc080-ad83-4925-be2b-03d065d6c210
STATUS:CONFIRMED
LAST-MODIFIED:20250906T154339Z
DESCRIPTION:5ème ligue Hommes Groupe 1\, Tours 1&2\nBegegnungs-Nr: 0\nHeim: Grône II\nGast: Sion IV\n\nAdresse:  Rue Centrale\,  \, Rue de la Piscine\, \, 3979 Grône\n
LOCATION: Rue Centrale\,  \, Rue de la Piscine\, \, 3979 Grône
CATEGORIES:Saison 2025/26
END:VEVENT
BEGIN:VEVENT
DTSTAMP:20260424T115052Z
DTSTART;TZID=Europe/Berlin:20251003T200000
DTEND;TZID=Europe/Berlin:20251003T230000
SUMMARY:ME L5 Gr 1\, Tours 1&2 Grône II vs Sierre V (0)
UID:fbccd77d-9e9a-4462-8a2d-aa6af78b1e78
STATUS:CONFIRMED
LAST-MODIFIED:20251004T061541Z
DESCRIPTION:5ème ligue Hommes Groupe 1\, Tours 1&2\nBegegnungs-Nr: 0\nHeim: Grône II\nGast: Sierre V\n\nAdresse:  Rue Centrale\,  \, Rue de la Piscine\, \, 3979 Grône\n
LOCATION: Rue Centrale\,  \, Rue de la Piscine\, \, 3979 Grône
CATEGORIES:Saison 2025/26
END:VEVENT
BEGIN:VEVENT
DTSTAMP:20260424T115052Z
DTSTART;TZID=Europe/Berlin:20251010T200000
DTEND;TZID=Europe/Berlin:20251010T230000
SUMMARY:ME L5 Gr 1\, Tours 1&2 Grône II vs Gampel-Steg III (0)
UID:a34520ea-9242-40c5-8871-08d0fdeb1f58
STATUS:CONFIRMED
LAST-MODIFIED:20251011T112323Z
DESCRIPTION:5ème ligue Hommes Groupe 1\, Tours 1&2\nBegegnungs-Nr: 0\nHeim: Grône II\nGast: Gampel-Steg III\n\nAdresse:  Rue Centrale\,  \, Rue de la Piscine\, \, 3979 Grône\n
LOCATION: Rue Centrale\,  \, Rue de la Piscine\, \, 3979 Grône
CATEGORIES:Saison 2025/26
END:VEVENT
BEGIN:VEVENT
DTSTAMP:20260424T115052Z
DTSTART;TZID=Europe/Berlin:20260116T200000
DTEND;TZID=Europe/Berlin:20260116T230000
SUMMARY:ME L5 Gr 1\, Tours 3&4 Grône II vs Sierre V (0)
UID:e7926aa8-8c4b-403b-8ee2-12c89f935980
STATUS:CONFIRMED
LAST-MODIFIED:20260117T181211Z
DESCRIPTION:5ème ligue Hommes Groupe 1\, Tours 3&4\nBegegnungs-Nr: 0\nHeim: Grône II\nGast: Sierre V\n\nAdresse:  Rue Centrale\,  \, Rue de la Piscine\, \, 3979 Grône\n
LOCATION: Rue Centrale\,  \, Rue de la Piscine\, \, 3979 Grône
CATEGORIES:Saison 2025/26
END:VEVENT
BEGIN:VEVENT
DTSTAMP:20260424T115052Z
DTSTART;TZID=Europe/Berlin:20260206T200000
DTEND;TZID=Europe/Berlin:20260206T230000
SUMMARY:ME L5 Gr 1\, Tours 3&4 Grône II vs Gampel-Steg III (0)
UID:bcc9583f-20aa-49e8-80bf-7cb5f0776dfa
STATUS:CONFIRMED
LAST-MODIFIED:20260207T152924Z
DESCRIPTION:5ème ligue Hommes Groupe 1\, Tours 3&4\nBegegnungs-Nr: 0\nHeim: Grône II\nGast: Gampel-Steg III\n\nAdresse:  Rue Centrale\,  \, Rue de la Piscine\, \, 3979 Grône\n
LOCATION: Rue Centrale\,  \, Rue de la Piscine\, \, 3979 Grône
CATEGORIES:Saison 2025/26
END:VEVENT
BEGIN:VEVENT
DTSTAMP:20260424T115052Z
DTSTART;TZID=Europe/Berlin:20260227T200000
DTEND;TZID=Europe/Berlin:20260227T230000
SUMMARY:ME L5 Gr 1\, Tours 3&4 Grône II vs Sion IV (0)
UID:3b5d3d85-95ec-4aad-ace4-48bf1587a6bc
STATUS:CONFIRMED
LAST-MODIFIED:20260228T130029Z
DESCRIPTION:5ème ligue Hommes Groupe 1\, Tours 3&4\nBegegnungs-Nr: 0\nHeim: Grône II\nGast: Sion IV\n\nAdresse:  Rue Centrale\,  \, Rue de la Piscine\, \, 3979 Grône\n
LOCATION: Rue Centrale\,  \, Rue de la Piscine\, \, 3979 Grône
CATEGORIES:Saison 2025/26
END:VEVENT
BEGIN:VEVENT
DTSTAMP:20260424T115052Z
DTSTART;TZID=Europe/Berlin:20260320T200000
DTEND;TZID=Europe/Berlin:20260320T230000
SUMMARY:ME L5 Gr 1\, Tours 3&4 Grône II vs Martigny V (0)
UID:1e7d3fac-0855-4153-bbf5-d96c20dfa231
STATUS:CONFIRMED
LAST-MODIFIED:20260327T193617Z
DESCRIPTION:5ème ligue Hommes Groupe 1\, Tours 3&4\nBegegnungs-Nr: 0\nHeim: Grône II\nGast: Martigny V\n\nAdresse:  Rue Centrale\,  \, Rue de la Piscine\, \, 3979 Grône\n
LOCATION: Rue Centrale\,  \, Rue de la Piscine\, \, 3979 Grône
CATEGORIES:Saison 2025/26
END:VEVENT
BEGIN:VEVENT
DTSTAMP:20260424T115052Z
DTSTART;TZID=Europe/Berlin:20260424T200000
DTEND;TZID=Europe/Berlin:20260424T230000
SUMMARY:ME L5 Gr 1\, Tours 3&4 Grône II vs Sion III (0)
UID:6858aee4-bf91-4833-952e-fd284293e3d1
STATUS:CONFIRMED
DESCRIPTION:5ème ligue Hommes Groupe 1\, Tours 3&4\nBegegnungs-Nr: 0\nHeim: Grône II\nGast: Sion III\n\nAdresse:  Rue Centrale\,  \, Rue de la Piscine\, \, 3979 Grône\n
LOCATION: Rue Centrale\,  \, Rue de la Piscine\, \, 3979 Grône
CATEGORIES:Saison 2025/26
END:VEVENT
BEGIN:VEVENT
DTSTAMP:20260424T115052Z
DTSTART;TZID=Europe/Berlin:20251125T194500
DTEND;TZID=Europe/Berlin:20251125T224500
SUMMARY:ME L5 Gr 1\, Tours 1&2 Sierre V vs Grône II (0)
UID:d7575a8c-d3b6-4212-8103-671f0a60a9c5
STATUS:CONFIRMED
LAST-MODIFIED:20251126T124815Z
DESCRIPTION:5ème ligue Hommes Groupe 1\, Tours 1&2\nBegegnungs-Nr: 0\nHeim: Sierre V\nGast: Grône II\n\nAdresse: Rte des Liddes 6\, 3960 Sierre\n
LOCATION:Rte des Liddes 6\, 3960 Sierre
CATEGORIES:Saison 2025/26
END:VEVENT
BEGIN:VEVENT
DTSTAMP:20260424T115052Z
DTSTART;TZID=Europe/Berlin:20251209T193000
DTEND;TZID=Europe/Berlin:20251209T223000
SUMMARY:ME L5 Gr 1\, Tours 1&2 Gampel-Steg III vs Grône II (0)
UID:460fded6-9d82-444e-b8e8-96942edd4f9a
STATUS:CONFIRMED
LAST-MODIFIED:20251210T075735Z
DESCRIPTION:5ème ligue Hommes Groupe 1\, Tours 1&2\nBegegnungs-Nr: 0\nHeim: Gampel-Steg III\nGast: Grône II\n\nAdresse: Bachofen\, 3949 Hohtenn\n
LOCATION:Bachofen\, 3949 Hohtenn
CATEGORIES:Saison 2025/26
END:VEVENT
BEGIN:VEVENT
DTSTAMP:20260424T115052Z
DTSTART;TZID=Europe/Berlin:20250908T193000
DTEND;TZID=Europe/Berlin:20250908T223000
SUMMARY:ME L5 Gr 1\, Tours 1&2 Brig-Glis II vs Grône II (0)
UID:820688e7-4bb3-473a-8e57-9bde262505de
STATUS:CONFIRMED
LAST-MODIFIED:20250910T230657Z
DESCRIPTION:5ème ligue Hommes Groupe 1\, Tours 1&2\nBegegnungs-Nr: 0\nHeim: Brig-Glis II\nGast: Grône II\n\nAdresse: Alte Simplonstrasse 53\, 3900 Brig\n
LOCATION:Alte Simplonstrasse 53\, 3900 Brig
CATEGORIES:Saison 2025/26
END:VEVENT
BEGIN:VEVENT
DTSTAMP:20260424T115052Z
DTSTART;TZID=Europe/Berlin:20250918T200000
DTEND;TZID=Europe/Berlin:20250918T230000
SUMMARY:ME L5 Gr 1\, Tours 1&2 Martigny IV vs Grône II (0)
UID:6f90dd49-904f-4132-a484-33bc89b3af65
STATUS:CONFIRMED
LAST-MODIFIED:20250921T112707Z
DESCRIPTION:5ème ligue Hommes Groupe 1\, Tours 1&2\nBegegnungs-Nr: 0\nHeim: Martigny IV\nGast: Grône II\n\nAdresse: Rue des Ecoles 9\, 1920 Martigny\n
LOCATION:Rue des Ecoles 9\, 1920 Martigny
CATEGORIES:Saison 2025/26
END:VEVENT
BEGIN:VEVENT
DTSTAMP:20260424T115052Z
DTSTART;TZID=Europe/Berlin:20251029T190000
DTEND;TZID=Europe/Berlin:20251029T220000
SUMMARY:ME L5 Gr 1\, Tours 1&2 Sion IV vs Grône II (0)
UID:e2a1e8ec-9f80-4175-b61d-88f7a8f59b93
STATUS:CONFIRMED
LAST-MODIFIED:20251030T105838Z
DESCRIPTION:5ème ligue Hommes Groupe 1\, Tours 1&2\nBegegnungs-Nr: 0\nHeim: Sion IV\nGast: Grône II\n\nAdresse: Rue du Chanoine-Berchtold 17\, 1950 Sion\n
LOCATION:Rue du Chanoine-Berchtold 17\, 1950 Sion
CATEGORIES:Saison 2025/26
END:VEVENT
BEGIN:VEVENT
DTSTAMP:20260424T115052Z
DTSTART;TZID=Europe/Berlin:20260123T193000
DTEND;TZID=Europe/Berlin:20260123T223000
SUMMARY:ME L5 Gr 1\, Tours 3&4 Martigny V vs Grône II (0)
UID:7553568a-b820-4e8f-bbab-d65baf9d3bce
STATUS:CONFIRMED
LAST-MODIFIED:20260125T002525Z
DESCRIPTION:5ème ligue Hommes Groupe 1\, Tours 3&4\nBegegnungs-Nr: 0\nHeim: Martigny V\nGast: Grône II\n\nAdresse: Rue des Ecoles 9\, 1920 Martigny\n
LOCATION:Rue des Ecoles 9\, 1920 Martigny
CATEGORIES:Saison 2025/26
END:VEVENT
BEGIN:VEVENT
DTSTAMP:20260424T115052Z
DTSTART;TZID=Europe/Berlin:20260211T193000
DTEND;TZID=Europe/Berlin:20260211T223000
SUMMARY:ME L5 Gr 1\, Tours 3&4 Sion III vs Grône II (0)
UID:a067bdaa-cfd7-4ae7-a4c3-0b6acfd8b987
STATUS:CONFIRMED
LAST-MODIFIED:20260212T113100Z
DESCRIPTION:5ème ligue Hommes Groupe 1\, Tours 3&4\nBegegnungs-Nr: 0\nHeim: Sion III\nGast: Grône II\n\nAdresse: Rue du Chanoine-Berchtold 17\, 1950 Sion\n
LOCATION:Rue du Chanoine-Berchtold 17\, 1950 Sion
CATEGORIES:Saison 2025/26
END:VEVENT
BEGIN:VEVENT
DTSTAMP:20260424T115052Z
DTSTART;TZID=Europe/Berlin:20260309T194500
DTEND;TZID=Europe/Berlin:20260309T224500
SUMMARY:ME L5 Gr 1\, Tours 3&4 Sierre V vs Grône II (0)
UID:146afc64-01db-4d53-997f-d426f6c5519f
STATUS:CONFIRMED
LAST-MODIFIED:20260310T105619Z
DESCRIPTION:5ème ligue Hommes Groupe 1\, Tours 3&4\nBegegnungs-Nr: 0\nHeim: Sierre V\nGast: Grône II\n\nAdresse: Rte des Liddes 6\, 3960 Sierre\n
LOCATION:Rte des Liddes 6\, 3960 Sierre
CATEGORIES:Saison 2025/26
END:VEVENT
BEGIN:VEVENT
DTSTAMP:20260424T115052Z
DTSTART;TZID=Europe/Berlin:20260331T193000
DTEND;TZID=Europe/Berlin:20260331T223000
SUMMARY:ME L5 Gr 1\, Tours 3&4 Gampel-Steg III vs Grône II (0)
UID:26739bd1-493f-426c-8e8f-f2d2aa0bf33a
STATUS:CONFIRMED
LAST-MODIFIED:20260407T130552Z
DESCRIPTION:5ème ligue Hommes Groupe 1\, Tours 3&4\nBegegnungs-Nr: 0\nHeim: Gampel-Steg III\nGast: Grône II\n\nAdresse: Bachofen\, 3949 Hohtenn\n
LOCATION:Bachofen\, 3949 Hohtenn
CATEGORIES:Saison 2025/26
END:VEVENT
BEGIN:VEVENT
DTSTAMP:20260424T115052Z
DTSTART;TZID=Europe/Berlin:20260429T190000
DTEND;TZID=Europe/Berlin:20260429T220000
SUMMARY:ME L5 Gr 1\, Tours 3&4 Sion IV vs Grône II (0)
UID:b6db2eac-67c0-4874-bc1a-84a3901d9e81
STATUS:CONFIRMED
DESCRIPTION:5ème ligue Hommes Groupe 1\, Tours 3&4\nBegegnungs-Nr: 0\nHeim: Sion IV\nGast: Grône II\n\nAdresse: Rue du Chanoine-Berchtold 17\, 1950 Sion\n
LOCATION:Rue du Chanoine-Berchtold 17\, 1950 Sion
CATEGORIES:Saison 2025/26
END:VEVENT
END:VCALENDAR
