BEGIN:VCALENDAR
PRODID:-//nuDatenautomaten//framework iCal4j //DE
VERSION:2.0
CALSCALE:GREGORIAN
BEGIN:VTIMEZONE
TZID:Europe/Berlin
LAST-MODIFIED:20260306T231828Z
TZURL:https://www.tzurl.org/zoneinfo/Europe/Berlin
X-LIC-LOCATION:Europe/Berlin
X-PROLEPTIC-TZNAME:LMT
BEGIN:STANDARD
TZNAME:CET
TZOFFSETFROM:+005328
TZOFFSETTO:+0100
DTSTART:18930401T000000
END:STANDARD
BEGIN:DAYLIGHT
TZNAME:CEST
TZOFFSETFROM:+0100
TZOFFSETTO:+0200
DTSTART:19160430T230000
RDATE:19400401T020000
RDATE:19430329T020000
RDATE:19460414T020000
RDATE:19470406T030000
RDATE:19480418T020000
RDATE:19490410T020000
RDATE:19800406T020000
END:DAYLIGHT
BEGIN:STANDARD
TZNAME:CET
TZOFFSETFROM:+0200
TZOFFSETTO:+0100
DTSTART:19161001T010000
RDATE:19421102T030000
RDATE:19431004T030000
RDATE:19441002T030000
RDATE:19451118T030000
RDATE:19461007T030000
END:STANDARD
BEGIN:DAYLIGHT
TZNAME:CEST
TZOFFSETFROM:+0100
TZOFFSETTO:+0200
DTSTART:19170416T020000
RRULE:FREQ=YEARLY;UNTIL=19180415T010000Z;BYMONTH=4;BYDAY=3MO
END:DAYLIGHT
BEGIN:STANDARD
TZNAME:CET
TZOFFSETFROM:+0200
TZOFFSETTO:+0100
DTSTART:19170917T030000
RRULE:FREQ=YEARLY;UNTIL=19180916T010000Z;BYMONTH=9;BYDAY=3MO
END:STANDARD
BEGIN:DAYLIGHT
TZNAME:CEST
TZOFFSETFROM:+0100
TZOFFSETTO:+0200
DTSTART:19440403T020000
RRULE:FREQ=YEARLY;UNTIL=19450402T010000Z;BYMONTH=4;BYDAY=1MO
END:DAYLIGHT
BEGIN:DAYLIGHT
TZNAME:CEMT
TZOFFSETFROM:+0200
TZOFFSETTO:+0300
DTSTART:19450524T020000
RDATE:19470511T030000
END:DAYLIGHT
BEGIN:DAYLIGHT
TZNAME:CEST
TZOFFSETFROM:+0300
TZOFFSETTO:+0200
DTSTART:19450924T030000
RDATE:19470629T030000
END:DAYLIGHT
BEGIN:STANDARD
TZNAME:CET
TZOFFSETFROM:+0100
TZOFFSETTO:+0100
DTSTART:19460101T000000
RDATE:19800101T000000
END:STANDARD
BEGIN:STANDARD
TZNAME:CET
TZOFFSETFROM:+0200
TZOFFSETTO:+0100
DTSTART:19471005T030000
RRULE:FREQ=YEARLY;UNTIL=19491002T010000Z;BYMONTH=10;BYDAY=1SU
END:STANDARD
BEGIN:STANDARD
TZNAME:CET
TZOFFSETFROM:+0200
TZOFFSETTO:+0100
DTSTART:19800928T030000
RRULE:FREQ=YEARLY;UNTIL=19950924T010000Z;BYMONTH=9;BYDAY=-1SU
END:STANDARD
BEGIN:DAYLIGHT
TZNAME:CEST
TZOFFSETFROM:+0100
TZOFFSETTO:+0200
DTSTART:19810329T020000
RRULE:FREQ=YEARLY;BYMONTH=3;BYDAY=-1SU
END:DAYLIGHT
BEGIN:STANDARD
TZNAME:CET
TZOFFSETFROM:+0200
TZOFFSETTO:+0100
DTSTART:19961027T030000
RRULE:FREQ=YEARLY;BYMONTH=10;BYDAY=-1SU
END:STANDARD
END:VTIMEZONE
BEGIN:VEVENT
DTSTAMP:20260424T191156Z
DTSTART;TZID=Europe/Berlin:20250910T193000
DTEND;TZID=Europe/Berlin:20250910T223000
SUMMARY:L5G2P1 Omega V vs Delémont VIII (0)
UID:0f6c2116-c929-4792-9b54-a51d8cb76a08
STATUS:CONFIRMED
LAST-MODIFIED:20250911T095904Z
DESCRIPTION:Ligue 5\, groupe 2 phase 1\nBegegnungs-Nr: 0\nHeim: Omega V\nGast: Delémont VIII\n\nAdresse: Tennisweg 1\, 2504 Biel-Bienne\n
LOCATION:Tennisweg 1\, 2504 Biel-Bienne
CATEGORIES:Saison 2025/26
END:VEVENT
BEGIN:VEVENT
DTSTAMP:20260424T191156Z
DTSTART;TZID=Europe/Berlin:20251001T193000
DTEND;TZID=Europe/Berlin:20251001T223000
SUMMARY:L5G2P1 Omega V vs Hauterive II (0)
UID:eaf3dc27-3a62-4710-b47b-270d3921069f
STATUS:CONFIRMED
LAST-MODIFIED:20251006T150545Z
DESCRIPTION:Ligue 5\, groupe 2 phase 1\nBegegnungs-Nr: 0\nHeim: Omega V\nGast: Hauterive II\n\nAdresse: Tennisweg 1\, 2504 Biel-Bienne\n
LOCATION:Tennisweg 1\, 2504 Biel-Bienne
CATEGORIES:Saison 2025/26
END:VEVENT
BEGIN:VEVENT
DTSTAMP:20260424T191156Z
DTSTART;TZID=Europe/Berlin:20251203T193000
DTEND;TZID=Europe/Berlin:20251203T223000
SUMMARY:L5G2P1 Omega V vs Delémont VI (0)
UID:a1408228-3ec3-4971-b2a9-9572f02c36de
STATUS:CONFIRMED
LAST-MODIFIED:20251209T075539Z
DESCRIPTION:Ligue 5\, groupe 2 phase 1\nBegegnungs-Nr: 0\nHeim: Omega V\nGast: Delémont VI\n\nAdresse: Tennisweg 1\, 2504 Biel-Bienne\n
LOCATION:Tennisweg 1\, 2504 Biel-Bienne
CATEGORIES:Saison 2025/26
END:VEVENT
BEGIN:VEVENT
DTSTAMP:20260424T191156Z
DTSTART;TZID=Europe/Berlin:20251217T193000
DTEND;TZID=Europe/Berlin:20251217T223000
SUMMARY:L5G2P1 Omega V vs Porrentruy II (0)
UID:7dc50e8e-f3ea-4dc7-9f48-a311b727e589
STATUS:CONFIRMED
LAST-MODIFIED:20251218T062354Z
DESCRIPTION:Ligue 5\, groupe 2 phase 1\nBegegnungs-Nr: 0\nHeim: Omega V\nGast: Porrentruy II\n\nAdresse: Tennisweg 1\, 2504 Biel-Bienne\n
LOCATION:Tennisweg 1\, 2504 Biel-Bienne
CATEGORIES:Saison 2025/26
END:VEVENT
BEGIN:VEVENT
DTSTAMP:20260424T191156Z
DTSTART;TZID=Europe/Berlin:20260121T193000
DTEND;TZID=Europe/Berlin:20260121T223000
SUMMARY:L5G2P2 Omega V vs Delémont VII (0)
UID:59fffcbb-16dc-4f2f-ac9d-052920483f8a
STATUS:CONFIRMED
LAST-MODIFIED:20260126T180656Z
DESCRIPTION:Ligue 5\, groupe 2 phase 2\nBegegnungs-Nr: 0\nHeim: Omega V\nGast: Delémont VII\n\nAdresse: Tennisweg 1\, 2504 Biel-Bienne\n
LOCATION:Tennisweg 1\, 2504 Biel-Bienne
CATEGORIES:Saison 2025/26
END:VEVENT
BEGIN:VEVENT
DTSTAMP:20260424T191156Z
DTSTART;TZID=Europe/Berlin:20260204T193000
DTEND;TZID=Europe/Berlin:20260204T223000
SUMMARY:L5G2P2 Omega V vs La Chaux-de-Fonds IV (0)
UID:3d2ff608-f467-4de5-9c3d-84dff40b9d48
STATUS:CONFIRMED
LAST-MODIFIED:20260216T162248Z
DESCRIPTION:Ligue 5\, groupe 2 phase 2\nBegegnungs-Nr: 0\nHeim: Omega V\nGast: La Chaux-de-Fonds IV\n\nAdresse: Tennisweg 1\, 2504 Biel-Bienne\n
LOCATION:Tennisweg 1\, 2504 Biel-Bienne
CATEGORIES:Saison 2025/26
END:VEVENT
BEGIN:VEVENT
DTSTAMP:20260424T191156Z
DTSTART;TZID=Europe/Berlin:20250701T000000
DTEND;TZID=Europe/Berlin:20250701T030000
SUMMARY:L5G2P2 Omega V vs spielfrei (0)
UID:2b82ec79-0afd-42c5-baed-1e2c07a415f6
STATUS:CONFIRMED
DESCRIPTION:Ligue 5\, groupe 2 phase 2\nBegegnungs-Nr: 0\nHeim: Omega V\nGast: spielfrei\n\nAdresse: Tennisweg 1\, 2504 Biel-Bienne\n
LOCATION:Tennisweg 1\, 2504 Biel-Bienne
CATEGORIES:Saison 2025/26
END:VEVENT
BEGIN:VEVENT
DTSTAMP:20260424T191156Z
DTSTART;TZID=Europe/Berlin:20260429T193000
DTEND;TZID=Europe/Berlin:20260429T223000
SUMMARY:L5G2P2 Omega V vs Porrentruy III (0)
UID:153da02d-528d-4e8f-9c02-85e8041a2b57
STATUS:CONFIRMED
DESCRIPTION:Ligue 5\, groupe 2 phase 2\nBegegnungs-Nr: 0\nHeim: Omega V\nGast: Porrentruy III\n\nAdresse: Tennisweg 1\, 2504 Biel-Bienne\n
LOCATION:Tennisweg 1\, 2504 Biel-Bienne
CATEGORIES:Saison 2025/26
END:VEVENT
BEGIN:VEVENT
DTSTAMP:20260424T191156Z
DTSTART;TZID=Europe/Berlin:20260513T193000
DTEND;TZID=Europe/Berlin:20260513T223000
SUMMARY:L5G2P2 Omega V vs Hauterive II (0)
UID:b7f0a40c-9df3-4459-811e-ece8071b3b52
STATUS:CONFIRMED
DESCRIPTION:Ligue 5\, groupe 2 phase 2\nBegegnungs-Nr: 0\nHeim: Omega V\nGast: Hauterive II\n\nAdresse: Tennisweg 1\, 2504 Biel-Bienne\n
LOCATION:Tennisweg 1\, 2504 Biel-Bienne
CATEGORIES:Saison 2025/26
END:VEVENT
BEGIN:VEVENT
DTSTAMP:20260424T191156Z
DTSTART;TZID=Europe/Berlin:20251023T193000
DTEND;TZID=Europe/Berlin:20251023T223000
SUMMARY:L5G2P1 Porrentruy II vs Omega V (0)
UID:5c5ed0fc-baa8-4ac1-aa1a-c3b3a183e7fe
STATUS:CONFIRMED
LAST-MODIFIED:20251027T182613Z
DESCRIPTION:Ligue 5\, groupe 2 phase 1\nBegegnungs-Nr: 0\nHeim: Porrentruy II\nGast: Omega V\n\nAdresse: Rue du Banné 14\, 2900 Porrentruy\n
LOCATION:Rue du Banné 14\, 2900 Porrentruy
CATEGORIES:Saison 2025/26
END:VEVENT
BEGIN:VEVENT
DTSTAMP:20260424T191156Z
DTSTART;TZID=Europe/Berlin:20251007T193000
DTEND;TZID=Europe/Berlin:20251007T223000
SUMMARY:L5G2P1 Delémont VI vs Omega V (0)
UID:fdcb7d8e-c02d-4ad3-88be-00784f765b5a
STATUS:CONFIRMED
LAST-MODIFIED:20251009T103655Z
DESCRIPTION:Ligue 5\, groupe 2 phase 1\nBegegnungs-Nr: 0\nHeim: Delémont VI\nGast: Omega V\n\nAdresse: Rue de la Blancherie 4\, 2800 Delémont\n
LOCATION:Rue de la Blancherie 4\, 2800 Delémont
CATEGORIES:Saison 2025/26
END:VEVENT
BEGIN:VEVENT
DTSTAMP:20260424T191156Z
DTSTART;TZID=Europe/Berlin:20251031T201500
DTEND;TZID=Europe/Berlin:20251031T231500
SUMMARY:L5G2P1 Delémont VIII vs Omega V (0)
UID:d6b8603a-4e8e-4849-8104-0d37ff8cb0c1
STATUS:CONFIRMED
LAST-MODIFIED:20251104T072726Z
DESCRIPTION:Ligue 5\, groupe 2 phase 1\nBegegnungs-Nr: 0\nHeim: Delémont VIII\nGast: Omega V\n\nAdresse: Rue de la Blancherie 4\, 2800 Delémont\n
LOCATION:Rue de la Blancherie 4\, 2800 Delémont
CATEGORIES:Saison 2025/26
END:VEVENT
BEGIN:VEVENT
DTSTAMP:20260424T191156Z
DTSTART;TZID=Europe/Berlin:20251128T193000
DTEND;TZID=Europe/Berlin:20251128T223000
SUMMARY:L5G2P1 Hauterive II vs Omega V (0)
UID:52699ea3-6908-449c-a3f5-7cf7ada67eb4
STATUS:CONFIRMED
LAST-MODIFIED:20251129T112159Z
DESCRIPTION:Ligue 5\, groupe 2 phase 1\nBegegnungs-Nr: 0\nHeim: Hauterive II\nGast: Omega V\n\nAdresse: Rue des Longschamps 10\, 2068 Hauterive NE\n
LOCATION:Rue des Longschamps 10\, 2068 Hauterive NE
CATEGORIES:Saison 2025/26
END:VEVENT
BEGIN:VEVENT
DTSTAMP:20260424T191156Z
DTSTART;TZID=Europe/Berlin:20250701T000000
DTEND;TZID=Europe/Berlin:20250701T030000
SUMMARY:L5G2P2 spielfrei vs Omega V (0)
UID:6489347f-7c95-4f7e-aeab-2be8c3742cfc
STATUS:CONFIRMED
DESCRIPTION:Ligue 5\, groupe 2 phase 2\nBegegnungs-Nr: 0\nHeim: spielfrei\nGast: Omega V\n
LOCATION:
CATEGORIES:Saison 2025/26
END:VEVENT
BEGIN:VEVENT
DTSTAMP:20260424T191156Z
DTSTART;TZID=Europe/Berlin:20260312T201500
DTEND;TZID=Europe/Berlin:20260312T231500
SUMMARY:L5G2P2 Porrentruy III vs Omega V (0)
UID:22b5f580-a088-46ab-b67c-28ceaeb13f5f
STATUS:CONFIRMED
LAST-MODIFIED:20260313T133158Z
DESCRIPTION:Ligue 5\, groupe 2 phase 2\nBegegnungs-Nr: 0\nHeim: Porrentruy III\nGast: Omega V\n\nAdresse: Rue du Banné 14\, 2900 Porrentruy\n
LOCATION:Rue du Banné 14\, 2900 Porrentruy
CATEGORIES:Saison 2025/26
END:VEVENT
BEGIN:VEVENT
DTSTAMP:20260424T191156Z
DTSTART;TZID=Europe/Berlin:20260306T193000
DTEND;TZID=Europe/Berlin:20260306T223000
SUMMARY:L5G2P2 Hauterive II vs Omega V (0)
UID:476b2f28-9c70-4b4a-8bb5-98f11eef6039
STATUS:CONFIRMED
LAST-MODIFIED:20260312T051605Z
DESCRIPTION:Ligue 5\, groupe 2 phase 2\nBegegnungs-Nr: 0\nHeim: Hauterive II\nGast: Omega V\n\nAdresse: Rue des Longschamps 10\, 2068 Hauterive NE\n
LOCATION:Rue des Longschamps 10\, 2068 Hauterive NE
CATEGORIES:Saison 2025/26
END:VEVENT
BEGIN:VEVENT
DTSTAMP:20260424T191156Z
DTSTART;TZID=Europe/Berlin:20260331T201500
DTEND;TZID=Europe/Berlin:20260331T231500
SUMMARY:L5G2P2 Delémont VII vs Omega V (0)
UID:50b6c425-06b5-479b-8bde-ec53f05d8bc4
STATUS:CONFIRMED
LAST-MODIFIED:20260408T070705Z
DESCRIPTION:Ligue 5\, groupe 2 phase 2\nBegegnungs-Nr: 0\nHeim: Delémont VII\nGast: Omega V\n\nAdresse: Rue de la Blancherie 4\, 2800 Delémont\n
LOCATION:Rue de la Blancherie 4\, 2800 Delémont
CATEGORIES:Saison 2025/26
END:VEVENT
BEGIN:VEVENT
DTSTAMP:20260424T191156Z
DTSTART;TZID=Europe/Berlin:20260424T193000
DTEND;TZID=Europe/Berlin:20260424T223000
SUMMARY:L5G2P2 La Chaux-de-Fonds IV vs Omega V (0)
UID:3df3b975-6205-41e5-9b7d-584bce048043
STATUS:CONFIRMED
LAST-MODIFIED:20251222T172904Z
DESCRIPTION:Ligue 5\, groupe 2 phase 2\nBegegnungs-Nr: 0\nHeim: La Chaux-de-Fonds IV\nGast: Omega V\n\nAdresse: Rue du Docteur-Kern 14\, 2300 La Chaux-de-Fonds\n
LOCATION:Rue du Docteur-Kern 14\, 2300 La Chaux-de-Fonds
CATEGORIES:Saison 2025/26
END:VEVENT
END:VCALENDAR
