BEGIN:VCALENDAR
PRODID:-//nuDatenautomaten//framework iCal4j //DE
VERSION:2.0
CALSCALE:GREGORIAN
BEGIN:VTIMEZONE
TZID:Europe/Berlin
LAST-MODIFIED:20260306T231828Z
TZURL:https://www.tzurl.org/zoneinfo/Europe/Berlin
X-LIC-LOCATION:Europe/Berlin
X-PROLEPTIC-TZNAME:LMT
BEGIN:STANDARD
TZNAME:CET
TZOFFSETFROM:+005328
TZOFFSETTO:+0100
DTSTART:18930401T000000
END:STANDARD
BEGIN:DAYLIGHT
TZNAME:CEST
TZOFFSETFROM:+0100
TZOFFSETTO:+0200
DTSTART:19160430T230000
RDATE:19400401T020000
RDATE:19430329T020000
RDATE:19460414T020000
RDATE:19470406T030000
RDATE:19480418T020000
RDATE:19490410T020000
RDATE:19800406T020000
END:DAYLIGHT
BEGIN:STANDARD
TZNAME:CET
TZOFFSETFROM:+0200
TZOFFSETTO:+0100
DTSTART:19161001T010000
RDATE:19421102T030000
RDATE:19431004T030000
RDATE:19441002T030000
RDATE:19451118T030000
RDATE:19461007T030000
END:STANDARD
BEGIN:DAYLIGHT
TZNAME:CEST
TZOFFSETFROM:+0100
TZOFFSETTO:+0200
DTSTART:19170416T020000
RRULE:FREQ=YEARLY;UNTIL=19180415T010000Z;BYMONTH=4;BYDAY=3MO
END:DAYLIGHT
BEGIN:STANDARD
TZNAME:CET
TZOFFSETFROM:+0200
TZOFFSETTO:+0100
DTSTART:19170917T030000
RRULE:FREQ=YEARLY;UNTIL=19180916T010000Z;BYMONTH=9;BYDAY=3MO
END:STANDARD
BEGIN:DAYLIGHT
TZNAME:CEST
TZOFFSETFROM:+0100
TZOFFSETTO:+0200
DTSTART:19440403T020000
RRULE:FREQ=YEARLY;UNTIL=19450402T010000Z;BYMONTH=4;BYDAY=1MO
END:DAYLIGHT
BEGIN:DAYLIGHT
TZNAME:CEMT
TZOFFSETFROM:+0200
TZOFFSETTO:+0300
DTSTART:19450524T020000
RDATE:19470511T030000
END:DAYLIGHT
BEGIN:DAYLIGHT
TZNAME:CEST
TZOFFSETFROM:+0300
TZOFFSETTO:+0200
DTSTART:19450924T030000
RDATE:19470629T030000
END:DAYLIGHT
BEGIN:STANDARD
TZNAME:CET
TZOFFSETFROM:+0100
TZOFFSETTO:+0100
DTSTART:19460101T000000
RDATE:19800101T000000
END:STANDARD
BEGIN:STANDARD
TZNAME:CET
TZOFFSETFROM:+0200
TZOFFSETTO:+0100
DTSTART:19471005T030000
RRULE:FREQ=YEARLY;UNTIL=19491002T010000Z;BYMONTH=10;BYDAY=1SU
END:STANDARD
BEGIN:STANDARD
TZNAME:CET
TZOFFSETFROM:+0200
TZOFFSETTO:+0100
DTSTART:19800928T030000
RRULE:FREQ=YEARLY;UNTIL=19950924T010000Z;BYMONTH=9;BYDAY=-1SU
END:STANDARD
BEGIN:DAYLIGHT
TZNAME:CEST
TZOFFSETFROM:+0100
TZOFFSETTO:+0200
DTSTART:19810329T020000
RRULE:FREQ=YEARLY;BYMONTH=3;BYDAY=-1SU
END:DAYLIGHT
BEGIN:STANDARD
TZNAME:CET
TZOFFSETFROM:+0200
TZOFFSETTO:+0100
DTSTART:19961027T030000
RRULE:FREQ=YEARLY;BYMONTH=10;BYDAY=-1SU
END:STANDARD
END:VTIMEZONE
BEGIN:VEVENT
DTSTAMP:20260424T140215Z
DTSTART;TZID=Europe/Berlin:20260121T200000
DTEND;TZID=Europe/Berlin:20260121T230000
SUMMARY:HE 5. Liga Gr. 3 Kreuzlingen vs Weinfelden IV (0)
UID:72943ffd-5603-4156-953b-4b15518f8890
STATUS:CONFIRMED
LAST-MODIFIED:20260123T082648Z
DESCRIPTION:5. Liga Herren Gruppe 3\nBegegnungs-Nr: 0\nHeim: Kreuzlingen\nGast: Weinfelden IV\n\nAdresse: Rothausstrasse 14\, 8280 Kreuzlingen\n
LOCATION:Rothausstrasse 14\, 8280 Kreuzlingen
CATEGORIES:Saison 2025/26
END:VEVENT
BEGIN:VEVENT
DTSTAMP:20260424T140215Z
DTSTART;TZID=Europe/Berlin:20260304T200000
DTEND;TZID=Europe/Berlin:20260304T230000
SUMMARY:HE 5. Liga Gr. 3 Kreuzlingen vs Steckborn-Homburg V (0)
UID:48ea7dc8-fbcc-42fc-ad07-42c537f3b52a
STATUS:CONFIRMED
LAST-MODIFIED:20260313T131642Z
DESCRIPTION:5. Liga Herren Gruppe 3\nBegegnungs-Nr: 0\nHeim: Kreuzlingen\nGast: Steckborn-Homburg V\n\nAdresse: Rothausstrasse 14\, 8280 Kreuzlingen\n
LOCATION:Rothausstrasse 14\, 8280 Kreuzlingen
CATEGORIES:Saison 2025/26
END:VEVENT
BEGIN:VEVENT
DTSTAMP:20260424T140215Z
DTSTART;TZID=Europe/Berlin:20260318T200000
DTEND;TZID=Europe/Berlin:20260318T230000
SUMMARY:HE 5. Liga Gr. 3 Kreuzlingen vs Schaffhausen (0)
UID:da642b19-1d1f-4c8c-9d88-a60660b94f32
STATUS:CONFIRMED
LAST-MODIFIED:20260320T141311Z
DESCRIPTION:5. Liga Herren Gruppe 3\nBegegnungs-Nr: 0\nHeim: Kreuzlingen\nGast: Schaffhausen\n\nAdresse: Rothausstrasse 14\, 8280 Kreuzlingen\n
LOCATION:Rothausstrasse 14\, 8280 Kreuzlingen
CATEGORIES:Saison 2025/26
END:VEVENT
BEGIN:VEVENT
DTSTAMP:20260424T140215Z
DTSTART;TZID=Europe/Berlin:20260415T200000
DTEND;TZID=Europe/Berlin:20260415T230000
SUMMARY:HE 5. Liga Gr. 3 Kreuzlingen vs Neuhausen VI (0)
UID:5b098ab4-9e10-4d6d-808e-c09791969d15
STATUS:CONFIRMED
LAST-MODIFIED:20260420T123333Z
DESCRIPTION:5. Liga Herren Gruppe 3\nBegegnungs-Nr: 0\nHeim: Kreuzlingen\nGast: Neuhausen VI\n\nAdresse: Rothausstrasse 14\, 8280 Kreuzlingen\n
LOCATION:Rothausstrasse 14\, 8280 Kreuzlingen
CATEGORIES:Saison 2025/26
END:VEVENT
BEGIN:VEVENT
DTSTAMP:20260424T140215Z
DTSTART;TZID=Europe/Berlin:20250827T200000
DTEND;TZID=Europe/Berlin:20250827T230000
SUMMARY:HE 5. Liga Gr. 3 Kreuzlingen vs Diessenhofen (0)
UID:9701024c-9047-45c6-b339-274889c1bba5
STATUS:CONFIRMED
LAST-MODIFIED:20250829T143842Z
DESCRIPTION:5. Liga Herren Gruppe 3\nBegegnungs-Nr: 0\nHeim: Kreuzlingen\nGast: Diessenhofen\n\nAdresse: Rothausstrasse 14\, 8280 Kreuzlingen\n
LOCATION:Rothausstrasse 14\, 8280 Kreuzlingen
CATEGORIES:Saison 2025/26
END:VEVENT
BEGIN:VEVENT
DTSTAMP:20260424T140215Z
DTSTART;TZID=Europe/Berlin:20250917T200000
DTEND;TZID=Europe/Berlin:20250917T230000
SUMMARY:HE 5. Liga Gr. 3 Kreuzlingen vs Winterthur V (0)
UID:1e84078f-5bf7-4781-9e2f-b8a19064ddf7
STATUS:CONFIRMED
LAST-MODIFIED:20250926T132122Z
DESCRIPTION:5. Liga Herren Gruppe 3\nBegegnungs-Nr: 0\nHeim: Kreuzlingen\nGast: Winterthur V\n\nAdresse: Rothausstrasse 14\, 8280 Kreuzlingen\n
LOCATION:Rothausstrasse 14\, 8280 Kreuzlingen
CATEGORIES:Saison 2025/26
END:VEVENT
BEGIN:VEVENT
DTSTAMP:20260424T140215Z
DTSTART;TZID=Europe/Berlin:20251105T200000
DTEND;TZID=Europe/Berlin:20251105T230000
SUMMARY:HE 5. Liga Gr. 3 Kreuzlingen vs Imperial Winterthur II (0)
UID:b7ca89f8-b5ed-450d-a9d9-c3862d117671
STATUS:CONFIRMED
LAST-MODIFIED:20251107T145055Z
DESCRIPTION:5. Liga Herren Gruppe 3\nBegegnungs-Nr: 0\nHeim: Kreuzlingen\nGast: Imperial Winterthur II\n\nAdresse: Rothausstrasse 14\, 8280 Kreuzlingen\n
LOCATION:Rothausstrasse 14\, 8280 Kreuzlingen
CATEGORIES:Saison 2025/26
END:VEVENT
BEGIN:VEVENT
DTSTAMP:20260424T140215Z
DTSTART;TZID=Europe/Berlin:20260203T200000
DTEND;TZID=Europe/Berlin:20260203T230000
SUMMARY:HE 5. Liga Gr. 3 Diessenhofen vs Kreuzlingen (0)
UID:1859fc18-beff-440b-bc90-5dd3f9cdba5d
STATUS:CONFIRMED
LAST-MODIFIED:20260206T135424Z
DESCRIPTION:5. Liga Herren Gruppe 3\nBegegnungs-Nr: 0\nHeim: Diessenhofen\nGast: Kreuzlingen\n\nAdresse: alte Basadingerstrasse 10\, 8253 Diessenhofen\n
LOCATION:alte Basadingerstrasse 10\, 8253 Diessenhofen
CATEGORIES:Saison 2025/26
END:VEVENT
BEGIN:VEVENT
DTSTAMP:20260424T140215Z
DTSTART;TZID=Europe/Berlin:20260129T200000
DTEND;TZID=Europe/Berlin:20260129T230000
SUMMARY:HE 5. Liga Gr. 3 Winterthur V vs Kreuzlingen (0)
UID:923d7024-3f0b-4fae-9567-6bf4c866fcde
STATUS:CONFIRMED
LAST-MODIFIED:20260130T095324Z
DESCRIPTION:5. Liga Herren Gruppe 3\nBegegnungs-Nr: 0\nHeim: Winterthur V\nGast: Kreuzlingen\n\nAdresse: Buchackerstrasse 54\, 8400 Winterthur\n
LOCATION:Buchackerstrasse 54\, 8400 Winterthur
CATEGORIES:Saison 2025/26
END:VEVENT
BEGIN:VEVENT
DTSTAMP:20260424T140215Z
DTSTART;TZID=Europe/Berlin:20260326T200000
DTEND;TZID=Europe/Berlin:20260326T230000
SUMMARY:HE 5. Liga Gr. 3 Imperial Winterthur II vs Kreuzlingen (0)
UID:fe43a97a-13b4-46fc-93e3-ea28437254d2
STATUS:CONFIRMED
LAST-MODIFIED:20260401T125313Z
DESCRIPTION:5. Liga Herren Gruppe 3\nBegegnungs-Nr: 0\nHeim: Imperial Winterthur II\nGast: Kreuzlingen\n\nAdresse: Büelhofstrasse 25a\, 8405 Winterthur\n
LOCATION:Büelhofstrasse 25a\, 8405 Winterthur
CATEGORIES:Saison 2025/26
END:VEVENT
BEGIN:VEVENT
DTSTAMP:20260424T140215Z
DTSTART;TZID=Europe/Berlin:20251121T200000
DTEND;TZID=Europe/Berlin:20251121T230000
SUMMARY:HE 5. Liga Gr. 3 Weinfelden IV vs Kreuzlingen (0)
UID:af0d97ad-a216-4df2-b70f-3184e325685e
STATUS:CONFIRMED
LAST-MODIFIED:20251124T141944Z
DESCRIPTION:5. Liga Herren Gruppe 3\nBegegnungs-Nr: 0\nHeim: Weinfelden IV\nGast: Kreuzlingen\n\nAdresse: Bleichestrasse 3 (neben Hallenbad)\, 8570 Weinfelden\n
LOCATION:Bleichestrasse 3 (neben Hallenbad)\, 8570 Weinfelden
CATEGORIES:Saison 2025/26
END:VEVENT
BEGIN:VEVENT
DTSTAMP:20260424T140215Z
DTSTART;TZID=Europe/Berlin:20250925T201500
DTEND;TZID=Europe/Berlin:20250925T231500
SUMMARY:HE 5. Liga Gr. 3 Steckborn-Homburg V vs Kreuzlingen (0)
UID:9410d42c-205d-4bc3-a347-dac687f75177
STATUS:CONFIRMED
LAST-MODIFIED:20250926T132203Z
DESCRIPTION:5. Liga Herren Gruppe 3\nBegegnungs-Nr: 0\nHeim: Steckborn-Homburg V\nGast: Kreuzlingen\n\nAdresse: Feldbach\, 8266 Steckborn\n
LOCATION:Feldbach\, 8266 Steckborn
CATEGORIES:Saison 2025/26
END:VEVENT
BEGIN:VEVENT
DTSTAMP:20260424T140215Z
DTSTART;TZID=Europe/Berlin:20251027T193000
DTEND;TZID=Europe/Berlin:20251027T223000
SUMMARY:HE 5. Liga Gr. 3 Schaffhausen vs Kreuzlingen (0)
UID:ce190cd3-e3b0-48cd-924c-87cbe474ff35
STATUS:CONFIRMED
LAST-MODIFIED:20251031T143909Z
DESCRIPTION:5. Liga Herren Gruppe 3\nBegegnungs-Nr: 0\nHeim: Schaffhausen\nGast: Kreuzlingen\n\nAdresse: Grünaustieg 30\, 8200 Schaffhausen\n
LOCATION:Grünaustieg 30\, 8200 Schaffhausen
CATEGORIES:Saison 2025/26
END:VEVENT
BEGIN:VEVENT
DTSTAMP:20260424T140215Z
DTSTART;TZID=Europe/Berlin:20251202T200000
DTEND;TZID=Europe/Berlin:20251202T230000
SUMMARY:HE 5. Liga Gr. 3 Neuhausen VI vs Kreuzlingen (0)
UID:e3af9a3f-2512-4e27-80ee-997cd7faa3ae
STATUS:CONFIRMED
LAST-MODIFIED:20251205T130738Z
DESCRIPTION:5. Liga Herren Gruppe 3\nBegegnungs-Nr: 0\nHeim: Neuhausen VI\nGast: Kreuzlingen\n\nAdresse: Ebnatstrasse 35\, 8200 Schaffhausen\n
LOCATION:Ebnatstrasse 35\, 8200 Schaffhausen
CATEGORIES:Saison 2025/26
END:VEVENT
END:VCALENDAR
