BEGIN:VCALENDAR
PRODID:-//nuDatenautomaten//framework iCal4j //DE
VERSION:2.0
CALSCALE:GREGORIAN
BEGIN:VTIMEZONE
TZID:Europe/Berlin
LAST-MODIFIED:20260306T231828Z
TZURL:https://www.tzurl.org/zoneinfo/Europe/Berlin
X-LIC-LOCATION:Europe/Berlin
X-PROLEPTIC-TZNAME:LMT
BEGIN:STANDARD
TZNAME:CET
TZOFFSETFROM:+005328
TZOFFSETTO:+0100
DTSTART:18930401T000000
END:STANDARD
BEGIN:DAYLIGHT
TZNAME:CEST
TZOFFSETFROM:+0100
TZOFFSETTO:+0200
DTSTART:19160430T230000
RDATE:19400401T020000
RDATE:19430329T020000
RDATE:19460414T020000
RDATE:19470406T030000
RDATE:19480418T020000
RDATE:19490410T020000
RDATE:19800406T020000
END:DAYLIGHT
BEGIN:STANDARD
TZNAME:CET
TZOFFSETFROM:+0200
TZOFFSETTO:+0100
DTSTART:19161001T010000
RDATE:19421102T030000
RDATE:19431004T030000
RDATE:19441002T030000
RDATE:19451118T030000
RDATE:19461007T030000
END:STANDARD
BEGIN:DAYLIGHT
TZNAME:CEST
TZOFFSETFROM:+0100
TZOFFSETTO:+0200
DTSTART:19170416T020000
RRULE:FREQ=YEARLY;UNTIL=19180415T010000Z;BYMONTH=4;BYDAY=3MO
END:DAYLIGHT
BEGIN:STANDARD
TZNAME:CET
TZOFFSETFROM:+0200
TZOFFSETTO:+0100
DTSTART:19170917T030000
RRULE:FREQ=YEARLY;UNTIL=19180916T010000Z;BYMONTH=9;BYDAY=3MO
END:STANDARD
BEGIN:DAYLIGHT
TZNAME:CEST
TZOFFSETFROM:+0100
TZOFFSETTO:+0200
DTSTART:19440403T020000
RRULE:FREQ=YEARLY;UNTIL=19450402T010000Z;BYMONTH=4;BYDAY=1MO
END:DAYLIGHT
BEGIN:DAYLIGHT
TZNAME:CEMT
TZOFFSETFROM:+0200
TZOFFSETTO:+0300
DTSTART:19450524T020000
RDATE:19470511T030000
END:DAYLIGHT
BEGIN:DAYLIGHT
TZNAME:CEST
TZOFFSETFROM:+0300
TZOFFSETTO:+0200
DTSTART:19450924T030000
RDATE:19470629T030000
END:DAYLIGHT
BEGIN:STANDARD
TZNAME:CET
TZOFFSETFROM:+0100
TZOFFSETTO:+0100
DTSTART:19460101T000000
RDATE:19800101T000000
END:STANDARD
BEGIN:STANDARD
TZNAME:CET
TZOFFSETFROM:+0200
TZOFFSETTO:+0100
DTSTART:19471005T030000
RRULE:FREQ=YEARLY;UNTIL=19491002T010000Z;BYMONTH=10;BYDAY=1SU
END:STANDARD
BEGIN:STANDARD
TZNAME:CET
TZOFFSETFROM:+0200
TZOFFSETTO:+0100
DTSTART:19800928T030000
RRULE:FREQ=YEARLY;UNTIL=19950924T010000Z;BYMONTH=9;BYDAY=-1SU
END:STANDARD
BEGIN:DAYLIGHT
TZNAME:CEST
TZOFFSETFROM:+0100
TZOFFSETTO:+0200
DTSTART:19810329T020000
RRULE:FREQ=YEARLY;BYMONTH=3;BYDAY=-1SU
END:DAYLIGHT
BEGIN:STANDARD
TZNAME:CET
TZOFFSETFROM:+0200
TZOFFSETTO:+0100
DTSTART:19961027T030000
RRULE:FREQ=YEARLY;BYMONTH=10;BYDAY=-1SU
END:STANDARD
END:VTIMEZONE
BEGIN:VEVENT
DTSTAMP:20260424T140433Z
DTSTART;TZID=Europe/Berlin:20251217T200000
DTEND;TZID=Europe/Berlin:20251217T230000
SUMMARY:HE 5. Liga Gr. 2 Basel IX vs Basel XI (0)
UID:bfdc8a14-0ae5-426c-8ac9-d1057ff03ebe
STATUS:CONFIRMED
LAST-MODIFIED:20251218T122701Z
DESCRIPTION:5. Liga Herren Gruppe 2\nBegegnungs-Nr: 0\nHeim: Basel IX\nGast: Basel XI\n\nAdresse: Schwarzwaldallee 107\, 4058 Basel\n
LOCATION:Schwarzwaldallee 107\, 4058 Basel
CATEGORIES:Saison 2025/26
END:VEVENT
BEGIN:VEVENT
DTSTAMP:20260424T140433Z
DTSTART;TZID=Europe/Berlin:20251015T200000
DTEND;TZID=Europe/Berlin:20251015T230000
SUMMARY:HE 5. Liga Gr. 2 Basel IX vs Gelterkinden IV (0)
UID:12912760-b548-404a-8d56-75017b6cf920
STATUS:CONFIRMED
LAST-MODIFIED:20251016T145859Z
DESCRIPTION:5. Liga Herren Gruppe 2\nBegegnungs-Nr: 0\nHeim: Basel IX\nGast: Gelterkinden IV\n\nAdresse: Schwarzwaldallee 107\, 4058 Basel\n
LOCATION:Schwarzwaldallee 107\, 4058 Basel
CATEGORIES:Saison 2025/26
END:VEVENT
BEGIN:VEVENT
DTSTAMP:20260424T140433Z
DTSTART;TZID=Europe/Berlin:20251104T200000
DTEND;TZID=Europe/Berlin:20251104T230000
SUMMARY:HE 5. Liga Gr. 2 Basel IX vs Möhlin II (0)
UID:d34fcfb4-42a3-4b84-bacf-82785ebacc3d
STATUS:CONFIRMED
LAST-MODIFIED:20251107T143328Z
DESCRIPTION:5. Liga Herren Gruppe 2\nBegegnungs-Nr: 0\nHeim: Basel IX\nGast: Möhlin II\n\nAdresse: Schwarzwaldallee 107\, 4058 Basel\n
LOCATION:Schwarzwaldallee 107\, 4058 Basel
CATEGORIES:Saison 2025/26
END:VEVENT
BEGIN:VEVENT
DTSTAMP:20260424T140433Z
DTSTART;TZID=Europe/Berlin:20260204T200000
DTEND;TZID=Europe/Berlin:20260204T230000
SUMMARY:HE 5. Liga Gr. 2 Basel IX vs KV Liestal IV (0)
UID:666e2386-78e8-4617-999a-5e5d5f25c43d
STATUS:CONFIRMED
LAST-MODIFIED:20260211T095935Z
DESCRIPTION:5. Liga Herren Gruppe 2\nBegegnungs-Nr: 0\nHeim: Basel IX\nGast: KV Liestal IV\n\nAdresse: Schwarzwaldallee 107\, 4058 Basel\n
LOCATION:Schwarzwaldallee 107\, 4058 Basel
CATEGORIES:Saison 2025/26
END:VEVENT
BEGIN:VEVENT
DTSTAMP:20260424T140433Z
DTSTART;TZID=Europe/Berlin:20260128T200000
DTEND;TZID=Europe/Berlin:20260128T230000
SUMMARY:HE 5. Liga Gr. 2 Basel IX vs Sisseln II (0)
UID:633a9947-162e-4e65-8e95-c59d26b8b2af
STATUS:CONFIRMED
LAST-MODIFIED:20260130T133423Z
DESCRIPTION:5. Liga Herren Gruppe 2\nBegegnungs-Nr: 0\nHeim: Basel IX\nGast: Sisseln II\n\nAdresse: Schwarzwaldallee 107\, 4058 Basel\n
LOCATION:Schwarzwaldallee 107\, 4058 Basel
CATEGORIES:Saison 2025/26
END:VEVENT
BEGIN:VEVENT
DTSTAMP:20260424T140433Z
DTSTART;TZID=Europe/Berlin:20251119T200000
DTEND;TZID=Europe/Berlin:20251119T230000
SUMMARY:HE 5. Liga Gr. 2 Basel IX vs Frenkendorf/Füllinsd. (0)
UID:3526b831-5cb3-4a35-88e4-64d7fee294c6
STATUS:CONFIRMED
LAST-MODIFIED:20251120T083641Z
DESCRIPTION:5. Liga Herren Gruppe 2\nBegegnungs-Nr: 0\nHeim: Basel IX\nGast: Frenkendorf/Füllinsd.\n\nAdresse: Schwarzwaldallee 107\, 4058 Basel\n
LOCATION:Schwarzwaldallee 107\, 4058 Basel
CATEGORIES:Saison 2025/26
END:VEVENT
BEGIN:VEVENT
DTSTAMP:20260424T140433Z
DTSTART;TZID=Europe/Berlin:20260324T193000
DTEND;TZID=Europe/Berlin:20260324T223000
SUMMARY:HE 5. Liga Gr. 2 Basel IX vs Münchenstein-City IV (0)
UID:4e185f1d-c235-4f37-ac75-c6400b60b0d4
STATUS:CONFIRMED
LAST-MODIFIED:20260416T094036Z
DESCRIPTION:5. Liga Herren Gruppe 2\nBegegnungs-Nr: 0\nHeim: Basel IX\nGast: Münchenstein-City IV\n\nAdresse: Schwarzwaldallee 107\, 4058 Basel\n
LOCATION:Schwarzwaldallee 107\, 4058 Basel
CATEGORIES:Saison 2025/26
END:VEVENT
BEGIN:VEVENT
DTSTAMP:20260424T140433Z
DTSTART;TZID=Europe/Berlin:20250820T200000
DTEND;TZID=Europe/Berlin:20250820T230000
SUMMARY:HE 5. Liga Gr. 2 Basel XI vs Basel IX (0)
UID:65beb04a-7030-4fd5-be6f-7d8c67f1388b
STATUS:CONFIRMED
LAST-MODIFIED:20250825T070815Z
DESCRIPTION:5. Liga Herren Gruppe 2\nBegegnungs-Nr: 0\nHeim: Basel XI\nGast: Basel IX\n\nAdresse: Schwarzwaldallee 107\, 4058 Basel\n
LOCATION:Schwarzwaldallee 107\, 4058 Basel
CATEGORIES:Saison 2025/26
END:VEVENT
BEGIN:VEVENT
DTSTAMP:20260424T140433Z
DTSTART;TZID=Europe/Berlin:20250911T200000
DTEND;TZID=Europe/Berlin:20250911T230000
SUMMARY:HE 5. Liga Gr. 2 KV Liestal IV vs Basel IX (0)
UID:e7f5ea51-8aea-46e7-92ac-ecdbb96c0a18
STATUS:CONFIRMED
LAST-MODIFIED:20250912T144423Z
DESCRIPTION:5. Liga Herren Gruppe 2\nBegegnungs-Nr: 0\nHeim: KV Liestal IV\nGast: Basel IX\n\nAdresse: Büchelistrasse\, 4410 Liestal\n
LOCATION:Büchelistrasse\, 4410 Liestal
CATEGORIES:Saison 2025/26
END:VEVENT
BEGIN:VEVENT
DTSTAMP:20260424T140433Z
DTSTART;TZID=Europe/Berlin:20250919T200000
DTEND;TZID=Europe/Berlin:20250919T230000
SUMMARY:HE 5. Liga Gr. 2 Sisseln II vs Basel IX (0)
UID:c5049cdf-4e21-4cc2-8046-f7a54ac944bc
STATUS:CONFIRMED
LAST-MODIFIED:20250926T123740Z
DESCRIPTION:5. Liga Herren Gruppe 2\nBegegnungs-Nr: 0\nHeim: Sisseln II\nGast: Basel IX\n\nAdresse: Schulstrasse\, 4334 Sisseln\n
LOCATION:Schulstrasse\, 4334 Sisseln
CATEGORIES:Saison 2025/26
END:VEVENT
BEGIN:VEVENT
DTSTAMP:20260424T140433Z
DTSTART;TZID=Europe/Berlin:20260202T201500
DTEND;TZID=Europe/Berlin:20260202T231500
SUMMARY:HE 5. Liga Gr. 2 Gelterkinden IV vs Basel IX (0)
UID:a74297d6-6efc-4091-a7e1-d82b9df1ea92
STATUS:CONFIRMED
LAST-MODIFIED:20260203T141511Z
DESCRIPTION:5. Liga Herren Gruppe 2\nBegegnungs-Nr: 0\nHeim: Gelterkinden IV\nGast: Basel IX\n\nAdresse: Turnhallenstrasse 18\, 4460 Gelterkinden\n
LOCATION:Turnhallenstrasse 18\, 4460 Gelterkinden
CATEGORIES:Saison 2025/26
END:VEVENT
BEGIN:VEVENT
DTSTAMP:20260424T140433Z
DTSTART;TZID=Europe/Berlin:20251211T193000
DTEND;TZID=Europe/Berlin:20251211T223000
SUMMARY:HE 5. Liga Gr. 2 Münchenstein-City IV vs Basel IX (0)
UID:e7feaef5-0df1-4c52-b85a-b3e59a707117
STATUS:CONFIRMED
LAST-MODIFIED:20251212T080917Z
DESCRIPTION:5. Liga Herren Gruppe 2\nBegegnungs-Nr: 0\nHeim: Münchenstein-City IV\nGast: Basel IX\n\nAdresse: Gruthweg 8\, 4142 Münchenstein\n
LOCATION:Gruthweg 8\, 4142 Münchenstein
CATEGORIES:Saison 2025/26
END:VEVENT
BEGIN:VEVENT
DTSTAMP:20260424T140433Z
DTSTART;TZID=Europe/Berlin:20260227T200000
DTEND;TZID=Europe/Berlin:20260227T230000
SUMMARY:HE 5. Liga Gr. 2 Möhlin II vs Basel IX (0)
UID:490581b8-e194-404b-bd4c-2e441c8cb8c8
STATUS:CONFIRMED
LAST-MODIFIED:20260302T112518Z
DESCRIPTION:5. Liga Herren Gruppe 2\nBegegnungs-Nr: 0\nHeim: Möhlin II\nGast: Basel IX\n\nAdresse: Schulhausweg\, 4313 Möhlin\n
LOCATION:Schulhausweg\, 4313 Möhlin
CATEGORIES:Saison 2025/26
END:VEVENT
BEGIN:VEVENT
DTSTAMP:20260424T140433Z
DTSTART;TZID=Europe/Berlin:20260309T193000
DTEND;TZID=Europe/Berlin:20260309T223000
SUMMARY:HE 5. Liga Gr. 2 Frenkendorf/Füllinsd. vs Basel IX (0)
UID:5d801ae8-fa28-45ef-8277-843b9ce73e4f
STATUS:CONFIRMED
LAST-MODIFIED:20260313T125505Z
DESCRIPTION:5. Liga Herren Gruppe 2\nBegegnungs-Nr: 0\nHeim: Frenkendorf/Füllinsd.\nGast: Basel IX\n\nAdresse: Schulstrasse\, 4402 Frenkendorf\n
LOCATION:Schulstrasse\, 4402 Frenkendorf
CATEGORIES:Saison 2025/26
END:VEVENT
END:VCALENDAR
