BEGIN:VCALENDAR
PRODID:-//nuDatenautomaten//framework iCal4j //DE
VERSION:2.0
CALSCALE:GREGORIAN
BEGIN:VTIMEZONE
TZID:Europe/Berlin
LAST-MODIFIED:20260306T231828Z
TZURL:https://www.tzurl.org/zoneinfo/Europe/Berlin
X-LIC-LOCATION:Europe/Berlin
X-PROLEPTIC-TZNAME:LMT
BEGIN:STANDARD
TZNAME:CET
TZOFFSETFROM:+005328
TZOFFSETTO:+0100
DTSTART:18930401T000000
END:STANDARD
BEGIN:DAYLIGHT
TZNAME:CEST
TZOFFSETFROM:+0100
TZOFFSETTO:+0200
DTSTART:19160430T230000
RDATE:19400401T020000
RDATE:19430329T020000
RDATE:19460414T020000
RDATE:19470406T030000
RDATE:19480418T020000
RDATE:19490410T020000
RDATE:19800406T020000
END:DAYLIGHT
BEGIN:STANDARD
TZNAME:CET
TZOFFSETFROM:+0200
TZOFFSETTO:+0100
DTSTART:19161001T010000
RDATE:19421102T030000
RDATE:19431004T030000
RDATE:19441002T030000
RDATE:19451118T030000
RDATE:19461007T030000
END:STANDARD
BEGIN:DAYLIGHT
TZNAME:CEST
TZOFFSETFROM:+0100
TZOFFSETTO:+0200
DTSTART:19170416T020000
RRULE:FREQ=YEARLY;UNTIL=19180415T010000Z;BYMONTH=4;BYDAY=3MO
END:DAYLIGHT
BEGIN:STANDARD
TZNAME:CET
TZOFFSETFROM:+0200
TZOFFSETTO:+0100
DTSTART:19170917T030000
RRULE:FREQ=YEARLY;UNTIL=19180916T010000Z;BYMONTH=9;BYDAY=3MO
END:STANDARD
BEGIN:DAYLIGHT
TZNAME:CEST
TZOFFSETFROM:+0100
TZOFFSETTO:+0200
DTSTART:19440403T020000
RRULE:FREQ=YEARLY;UNTIL=19450402T010000Z;BYMONTH=4;BYDAY=1MO
END:DAYLIGHT
BEGIN:DAYLIGHT
TZNAME:CEMT
TZOFFSETFROM:+0200
TZOFFSETTO:+0300
DTSTART:19450524T020000
RDATE:19470511T030000
END:DAYLIGHT
BEGIN:DAYLIGHT
TZNAME:CEST
TZOFFSETFROM:+0300
TZOFFSETTO:+0200
DTSTART:19450924T030000
RDATE:19470629T030000
END:DAYLIGHT
BEGIN:STANDARD
TZNAME:CET
TZOFFSETFROM:+0100
TZOFFSETTO:+0100
DTSTART:19460101T000000
RDATE:19800101T000000
END:STANDARD
BEGIN:STANDARD
TZNAME:CET
TZOFFSETFROM:+0200
TZOFFSETTO:+0100
DTSTART:19471005T030000
RRULE:FREQ=YEARLY;UNTIL=19491002T010000Z;BYMONTH=10;BYDAY=1SU
END:STANDARD
BEGIN:STANDARD
TZNAME:CET
TZOFFSETFROM:+0200
TZOFFSETTO:+0100
DTSTART:19800928T030000
RRULE:FREQ=YEARLY;UNTIL=19950924T010000Z;BYMONTH=9;BYDAY=-1SU
END:STANDARD
BEGIN:DAYLIGHT
TZNAME:CEST
TZOFFSETFROM:+0100
TZOFFSETTO:+0200
DTSTART:19810329T020000
RRULE:FREQ=YEARLY;BYMONTH=3;BYDAY=-1SU
END:DAYLIGHT
BEGIN:STANDARD
TZNAME:CET
TZOFFSETFROM:+0200
TZOFFSETTO:+0100
DTSTART:19961027T030000
RRULE:FREQ=YEARLY;BYMONTH=10;BYDAY=-1SU
END:STANDARD
END:VTIMEZONE
BEGIN:VEVENT
DTSTAMP:20260424T103951Z
DTSTART;TZID=Europe/Berlin:20251203T200000
DTEND;TZID=Europe/Berlin:20251203T230000
SUMMARY:HE NLC Gr. 4 Horgen vs Young Stars ZH III (28)
UID:b0f011d6-f909-4da0-94ec-684d94ba3c2e
STATUS:CONFIRMED
LAST-MODIFIED:20251205T103254Z
DESCRIPTION:Herren Nationalliga C Gruppe 4\nBegegnungs-Nr: 28\nHeim: Horgen\nGast: Young Stars ZH III\n\nAdresse: Seestrasse 110\, 8810 Horgen\n
LOCATION:Seestrasse 110\, 8810 Horgen
CATEGORIES:Saison 2025/26
END:VEVENT
BEGIN:VEVENT
DTSTAMP:20260424T103951Z
DTSTART;TZID=Europe/Berlin:20250910T200000
DTEND;TZID=Europe/Berlin:20250910T230000
SUMMARY:HE NLC Gr. 4 Horgen vs Zürich-Affoltern (3)
UID:d79e3a82-e33e-491d-b4ca-509fe12a1df2
STATUS:CONFIRMED
LAST-MODIFIED:20250918T112619Z
DESCRIPTION:Herren Nationalliga C Gruppe 4\nBegegnungs-Nr: 3\nHeim: Horgen\nGast: Zürich-Affoltern\n\nAdresse: Seestrasse 110\, 8810 Horgen\n
LOCATION:Seestrasse 110\, 8810 Horgen
CATEGORIES:Saison 2025/26
END:VEVENT
BEGIN:VEVENT
DTSTAMP:20260424T103951Z
DTSTART;TZID=Europe/Berlin:20251015T200000
DTEND;TZID=Europe/Berlin:20251015T230000
SUMMARY:HE NLC Gr. 4 Horgen vs Muolen (11)
UID:8afc1f71-1097-4bec-89b4-320e371baa6f
STATUS:CONFIRMED
LAST-MODIFIED:20251016T145355Z
DESCRIPTION:Herren Nationalliga C Gruppe 4\nBegegnungs-Nr: 11\nHeim: Horgen\nGast: Muolen\n\nAdresse: Seestrasse 110\, 8810 Horgen\n
LOCATION:Seestrasse 110\, 8810 Horgen
CATEGORIES:Saison 2025/26
END:VEVENT
BEGIN:VEVENT
DTSTAMP:20260424T103951Z
DTSTART;TZID=Europe/Berlin:20251119T200000
DTEND;TZID=Europe/Berlin:20251119T230000
SUMMARY:HE NLC Gr. 4 Horgen vs Rapperswil-Jona III (21)
UID:ffa9242d-8b78-4c0f-8ab0-87473538eb6f
STATUS:CONFIRMED
LAST-MODIFIED:20251126T101751Z
DESCRIPTION:Herren Nationalliga C Gruppe 4\nBegegnungs-Nr: 21\nHeim: Horgen\nGast: Rapperswil-Jona III\n\nAdresse: Seestrasse 110\, 8810 Horgen\n
LOCATION:Seestrasse 110\, 8810 Horgen
CATEGORIES:Saison 2025/26
END:VEVENT
BEGIN:VEVENT
DTSTAMP:20260424T103951Z
DTSTART;TZID=Europe/Berlin:20260228T140000
DTEND;TZID=Europe/Berlin:20260228T170000
SUMMARY:HE NLC Gr. 4 Horgen vs Lugano II (14)
UID:c0a4d957-8184-4fb6-8149-7429e1898490
STATUS:CONFIRMED
LAST-MODIFIED:20260302T215053Z
DESCRIPTION:Herren Nationalliga C Gruppe 4\nBegegnungs-Nr: 14\nHeim: Horgen\nGast: Lugano II\n\nAdresse: Seestrasse 110\, 8810 Horgen\n
LOCATION:Seestrasse 110\, 8810 Horgen
CATEGORIES:Saison 2025/26
END:VEVENT
BEGIN:VEVENT
DTSTAMP:20260424T103951Z
DTSTART;TZID=Europe/Berlin:20260128T200000
DTEND;TZID=Europe/Berlin:20260128T230000
SUMMARY:HE NLC Gr. 4 Horgen vs Neuhausen II (8)
UID:3579dc65-c2c0-4bb2-83da-3dc90c30d35e
STATUS:CONFIRMED
LAST-MODIFIED:20260203T142020Z
DESCRIPTION:Herren Nationalliga C Gruppe 4\nBegegnungs-Nr: 8\nHeim: Horgen\nGast: Neuhausen II\n\nAdresse: Seestrasse 110\, 8810 Horgen\n
LOCATION:Seestrasse 110\, 8810 Horgen
CATEGORIES:Saison 2025/26
END:VEVENT
BEGIN:VEVENT
DTSTAMP:20260424T103951Z
DTSTART;TZID=Europe/Berlin:20260325T200000
DTEND;TZID=Europe/Berlin:20260325T230000
SUMMARY:HE NLC Gr. 4 Horgen vs Affoltern A/A (18)
UID:0bd4e43a-2662-4614-b0c0-ef366e801e19
STATUS:CONFIRMED
LAST-MODIFIED:20260330T080112Z
DESCRIPTION:Herren Nationalliga C Gruppe 4\nBegegnungs-Nr: 18\nHeim: Horgen\nGast: Affoltern A/A\n\nAdresse: Seestrasse 110\, 8810 Horgen\n
LOCATION:Seestrasse 110\, 8810 Horgen
CATEGORIES:Saison 2025/26
END:VEVENT
BEGIN:VEVENT
DTSTAMP:20260424T103951Z
DTSTART;TZID=Europe/Berlin:20251025T153000
DTEND;TZID=Europe/Berlin:20251025T183000
SUMMARY:HE NLC Gr. 4 Lugano II vs Horgen (14)
UID:97c7a55e-1f35-46cd-9c04-1db6c14ac10a
STATUS:CONFIRMED
LAST-MODIFIED:20251029T082328Z
DESCRIPTION:Herren Nationalliga C Gruppe 4\nBegegnungs-Nr: 14\nHeim: Lugano II\nGast: Horgen\n\nAdresse: Via al Chioso 7\, 6900 Lugano-Cassarate\n
LOCATION:Via al Chioso 7\, 6900 Lugano-Cassarate
CATEGORIES:Saison 2025/26
END:VEVENT
BEGIN:VEVENT
DTSTAMP:20260424T103951Z
DTSTART;TZID=Europe/Berlin:20250925T200000
DTEND;TZID=Europe/Berlin:20250925T230000
SUMMARY:HE NLC Gr. 4 Neuhausen II vs Horgen (8)
UID:a1269393-6fc3-4f1d-92c7-21946bdf61db
STATUS:CONFIRMED
LAST-MODIFIED:20251009T194342Z
DESCRIPTION:Herren Nationalliga C Gruppe 4\nBegegnungs-Nr: 8\nHeim: Neuhausen II\nGast: Horgen\n\nAdresse: Ebnatstrasse 35\, 8200 Schaffhausen\n
LOCATION:Ebnatstrasse 35\, 8200 Schaffhausen
CATEGORIES:Saison 2025/26
END:VEVENT
BEGIN:VEVENT
DTSTAMP:20260424T103951Z
DTSTART;TZID=Europe/Berlin:20251104T190000
DTEND;TZID=Europe/Berlin:20251104T220000
SUMMARY:HE NLC Gr. 4 Affoltern A/A vs Horgen (18)
UID:fc6eaaa8-434b-42b9-a433-7828211c1e66
STATUS:CONFIRMED
LAST-MODIFIED:20251107T081834Z
DESCRIPTION:Herren Nationalliga C Gruppe 4\nBegegnungs-Nr: 18\nHeim: Affoltern A/A\nGast: Horgen\n\nAdresse: Butzenstrasse 8\, 8910 Affoltern am Albis\n
LOCATION:Butzenstrasse 8\, 8910 Affoltern am Albis
CATEGORIES:Saison 2025/26
END:VEVENT
BEGIN:VEVENT
DTSTAMP:20260424T103951Z
DTSTART;TZID=Europe/Berlin:20260110T160000
DTEND;TZID=Europe/Berlin:20260110T190000
SUMMARY:HE NLC Gr. 4 Zürich-Affoltern vs Horgen (3)
UID:f2446916-80c6-4aa4-981b-4fff0e078844
STATUS:CONFIRMED
LAST-MODIFIED:20260112T203436Z
DESCRIPTION:Herren Nationalliga C Gruppe 4\nBegegnungs-Nr: 3\nHeim: Zürich-Affoltern\nGast: Horgen\n\nAdresse: Rümlangstr. 89\, 8052 Zürich\n
LOCATION:Rümlangstr. 89\, 8052 Zürich
CATEGORIES:Saison 2025/26
END:VEVENT
BEGIN:VEVENT
DTSTAMP:20260424T103951Z
DTSTART;TZID=Europe/Berlin:20260221T120000
DTEND;TZID=Europe/Berlin:20260221T150000
SUMMARY:HE NLC Gr. 4 Muolen vs Horgen (11)
UID:ed41c266-5c80-4652-82cf-9a3cb29fbec6
STATUS:CONFIRMED
LAST-MODIFIED:20260223T153647Z
DESCRIPTION:Herren Nationalliga C Gruppe 4\nBegegnungs-Nr: 11\nHeim: Muolen\nGast: Horgen\n\nAdresse: Dorfstrasse 31\, 9313 Muolen\n
LOCATION:Dorfstrasse 31\, 9313 Muolen
CATEGORIES:Saison 2025/26
END:VEVENT
BEGIN:VEVENT
DTSTAMP:20260424T103951Z
DTSTART;TZID=Europe/Berlin:20260418T133000
DTEND;TZID=Europe/Berlin:20260418T163000
SUMMARY:HE NLC Gr. 4 Rapperswil-Jona III vs Horgen (21)
UID:9d1a08a6-24f1-4d78-86ed-88ff29cc522f
STATUS:CONFIRMED
LAST-MODIFIED:20260420T083847Z
DESCRIPTION:Herren Nationalliga C Gruppe 4\nBegegnungs-Nr: 21\nHeim: Rapperswil-Jona III\nGast: Horgen\n\nAdresse: Kreuzstrasse 43\, 8640 Rapperswil\n
LOCATION:Kreuzstrasse 43\, 8640 Rapperswil
CATEGORIES:Saison 2025/26
END:VEVENT
BEGIN:VEVENT
DTSTAMP:20260424T103951Z
DTSTART;TZID=Europe/Berlin:20260419T140000
DTEND;TZID=Europe/Berlin:20260419T170000
SUMMARY:HE NLC Gr. 4 Young Stars ZH III vs Horgen (28)
UID:9db5158c-4fae-4a2c-83f8-0243ad4c3b93
STATUS:CONFIRMED
LAST-MODIFIED:20260420T084026Z
DESCRIPTION:Herren Nationalliga C Gruppe 4\nBegegnungs-Nr: 28\nHeim: Young Stars ZH III\nGast: Horgen\n\nAdresse: Seefeldstrasse 93\, 8008 Zürich\n
LOCATION:Seefeldstrasse 93\, 8008 Zürich
CATEGORIES:Saison 2025/26
END:VEVENT
END:VCALENDAR
