BEGIN:VCALENDAR
PRODID:-//nuDatenautomaten//framework iCal4j //DE
VERSION:2.0
CALSCALE:GREGORIAN
BEGIN:VTIMEZONE
TZID:Europe/Berlin
LAST-MODIFIED:20260306T231828Z
TZURL:https://www.tzurl.org/zoneinfo/Europe/Berlin
X-LIC-LOCATION:Europe/Berlin
X-PROLEPTIC-TZNAME:LMT
BEGIN:STANDARD
TZNAME:CET
TZOFFSETFROM:+005328
TZOFFSETTO:+0100
DTSTART:18930401T000000
END:STANDARD
BEGIN:DAYLIGHT
TZNAME:CEST
TZOFFSETFROM:+0100
TZOFFSETTO:+0200
DTSTART:19160430T230000
RDATE:19400401T020000
RDATE:19430329T020000
RDATE:19460414T020000
RDATE:19470406T030000
RDATE:19480418T020000
RDATE:19490410T020000
RDATE:19800406T020000
END:DAYLIGHT
BEGIN:STANDARD
TZNAME:CET
TZOFFSETFROM:+0200
TZOFFSETTO:+0100
DTSTART:19161001T010000
RDATE:19421102T030000
RDATE:19431004T030000
RDATE:19441002T030000
RDATE:19451118T030000
RDATE:19461007T030000
END:STANDARD
BEGIN:DAYLIGHT
TZNAME:CEST
TZOFFSETFROM:+0100
TZOFFSETTO:+0200
DTSTART:19170416T020000
RRULE:FREQ=YEARLY;UNTIL=19180415T010000Z;BYMONTH=4;BYDAY=3MO
END:DAYLIGHT
BEGIN:STANDARD
TZNAME:CET
TZOFFSETFROM:+0200
TZOFFSETTO:+0100
DTSTART:19170917T030000
RRULE:FREQ=YEARLY;UNTIL=19180916T010000Z;BYMONTH=9;BYDAY=3MO
END:STANDARD
BEGIN:DAYLIGHT
TZNAME:CEST
TZOFFSETFROM:+0100
TZOFFSETTO:+0200
DTSTART:19440403T020000
RRULE:FREQ=YEARLY;UNTIL=19450402T010000Z;BYMONTH=4;BYDAY=1MO
END:DAYLIGHT
BEGIN:DAYLIGHT
TZNAME:CEMT
TZOFFSETFROM:+0200
TZOFFSETTO:+0300
DTSTART:19450524T020000
RDATE:19470511T030000
END:DAYLIGHT
BEGIN:DAYLIGHT
TZNAME:CEST
TZOFFSETFROM:+0300
TZOFFSETTO:+0200
DTSTART:19450924T030000
RDATE:19470629T030000
END:DAYLIGHT
BEGIN:STANDARD
TZNAME:CET
TZOFFSETFROM:+0100
TZOFFSETTO:+0100
DTSTART:19460101T000000
RDATE:19800101T000000
END:STANDARD
BEGIN:STANDARD
TZNAME:CET
TZOFFSETFROM:+0200
TZOFFSETTO:+0100
DTSTART:19471005T030000
RRULE:FREQ=YEARLY;UNTIL=19491002T010000Z;BYMONTH=10;BYDAY=1SU
END:STANDARD
BEGIN:STANDARD
TZNAME:CET
TZOFFSETFROM:+0200
TZOFFSETTO:+0100
DTSTART:19800928T030000
RRULE:FREQ=YEARLY;UNTIL=19950924T010000Z;BYMONTH=9;BYDAY=-1SU
END:STANDARD
BEGIN:DAYLIGHT
TZNAME:CEST
TZOFFSETFROM:+0100
TZOFFSETTO:+0200
DTSTART:19810329T020000
RRULE:FREQ=YEARLY;BYMONTH=3;BYDAY=-1SU
END:DAYLIGHT
BEGIN:STANDARD
TZNAME:CET
TZOFFSETFROM:+0200
TZOFFSETTO:+0100
DTSTART:19961027T030000
RRULE:FREQ=YEARLY;BYMONTH=10;BYDAY=-1SU
END:STANDARD
END:VTIMEZONE
BEGIN:VEVENT
DTSTAMP:20260424T135917Z
DTSTART;TZID=Europe/Berlin:20250910T193000
DTEND;TZID=Europe/Berlin:20250910T223000
SUMMARY:L3P1 Omega II vs Le Locle II (0)
UID:a7e2bf54-d947-476a-95da-9d4fc9f2d1d3
STATUS:CONFIRMED
LAST-MODIFIED:20250911T095840Z
DESCRIPTION:Ligue 3 phase 1\nBegegnungs-Nr: 0\nHeim: Omega II\nGast: Le Locle II\n\nAdresse: Tennisweg 1\, 2504 Biel-Bienne\n
LOCATION:Tennisweg 1\, 2504 Biel-Bienne
CATEGORIES:Saison 2025/26
END:VEVENT
BEGIN:VEVENT
DTSTAMP:20260424T135917Z
DTSTART;TZID=Europe/Berlin:20251119T193000
DTEND;TZID=Europe/Berlin:20251119T223000
SUMMARY:L3P1 Omega II vs Delémont III (0)
UID:5a3b1435-bf22-4b4c-bb25-a92d31c327b4
STATUS:CONFIRMED
LAST-MODIFIED:20251122T053545Z
DESCRIPTION:Ligue 3 phase 1\nBegegnungs-Nr: 0\nHeim: Omega II\nGast: Delémont III\n\nAdresse: Tennisweg 1\, 2504 Biel-Bienne\n
LOCATION:Tennisweg 1\, 2504 Biel-Bienne
CATEGORIES:Saison 2025/26
END:VEVENT
BEGIN:VEVENT
DTSTAMP:20260424T135917Z
DTSTART;TZID=Europe/Berlin:20250903T193000
DTEND;TZID=Europe/Berlin:20250903T223000
SUMMARY:L3P1 Omega II vs Omega III (0)
UID:cf256885-140f-44ce-aab0-ba1545316b75
STATUS:CONFIRMED
LAST-MODIFIED:20250910T050857Z
DESCRIPTION:Ligue 3 phase 1\nBegegnungs-Nr: 0\nHeim: Omega II\nGast: Omega III\n\nAdresse: Tennisweg 1\, 2504 Biel-Bienne\n
LOCATION:Tennisweg 1\, 2504 Biel-Bienne
CATEGORIES:Saison 2025/26
END:VEVENT
BEGIN:VEVENT
DTSTAMP:20260424T135917Z
DTSTART;TZID=Europe/Berlin:20260218T193000
DTEND;TZID=Europe/Berlin:20260218T223000
SUMMARY:L2P2 Omega II vs La Chaux-de-Fonds III (0)
UID:666d7ae3-0bda-4785-b554-ec5bd46717aa
STATUS:CONFIRMED
LAST-MODIFIED:20260221T074136Z
DESCRIPTION:Ligue 2 phase 2\nBegegnungs-Nr: 0\nHeim: Omega II\nGast: La Chaux-de-Fonds III\n\nAdresse: Tennisweg 1\, 2504 Biel-Bienne\n
LOCATION:Tennisweg 1\, 2504 Biel-Bienne
CATEGORIES:Saison 2025/26
END:VEVENT
BEGIN:VEVENT
DTSTAMP:20260424T135917Z
DTSTART;TZID=Europe/Berlin:20260121T193000
DTEND;TZID=Europe/Berlin:20260121T223000
SUMMARY:L2P2 Omega II vs Val-de-Ruz II (0)
UID:4c56cd34-4668-4e0b-a217-f084cb23abfd
STATUS:CONFIRMED
LAST-MODIFIED:20260123T101418Z
DESCRIPTION:Ligue 2 phase 2\nBegegnungs-Nr: 0\nHeim: Omega II\nGast: Val-de-Ruz II\n\nAdresse: Tennisweg 1\, 2504 Biel-Bienne\n
LOCATION:Tennisweg 1\, 2504 Biel-Bienne
CATEGORIES:Saison 2025/26
END:VEVENT
BEGIN:VEVENT
DTSTAMP:20260424T135917Z
DTSTART;TZID=Europe/Berlin:20260401T193000
DTEND;TZID=Europe/Berlin:20260401T223000
SUMMARY:L2P2 Omega II vs La Chaux-de-Fonds II (0)
UID:66ef760a-c5d5-4809-a618-4582aafca7a8
STATUS:CONFIRMED
LAST-MODIFIED:20260407T172210Z
DESCRIPTION:Ligue 2 phase 2\nBegegnungs-Nr: 0\nHeim: Omega II\nGast: La Chaux-de-Fonds II\n\nAdresse: Tennisweg 1\, 2504 Biel-Bienne\n
LOCATION:Tennisweg 1\, 2504 Biel-Bienne
CATEGORIES:Saison 2025/26
END:VEVENT
BEGIN:VEVENT
DTSTAMP:20260424T135917Z
DTSTART;TZID=Europe/Berlin:20251015T193000
DTEND;TZID=Europe/Berlin:20251015T223000
SUMMARY:L3P1 Val-de-Ruz III vs Omega II (0)
UID:ff36dffb-8381-4f34-9630-1ca18403e277
STATUS:CONFIRMED
LAST-MODIFIED:20251016T102309Z
DESCRIPTION:Ligue 3 phase 1\nBegegnungs-Nr: 0\nHeim: Val-de-Ruz III\nGast: Omega II\n\nAdresse: Rue de Chasseral 3\, 2053 Cernier\n
LOCATION:Rue de Chasseral 3\, 2053 Cernier
CATEGORIES:Saison 2025/26
END:VEVENT
BEGIN:VEVENT
DTSTAMP:20260424T135917Z
DTSTART;TZID=Europe/Berlin:20251205T200000
DTEND;TZID=Europe/Berlin:20251205T230000
SUMMARY:L3P1 Cortaillod IV vs Omega II (0)
UID:7b9af852-4d5e-4a08-b67b-7bab5ccc4140
STATUS:CONFIRMED
LAST-MODIFIED:20251209T075352Z
DESCRIPTION:Ligue 3 phase 1\nBegegnungs-Nr: 0\nHeim: Cortaillod IV\nGast: Omega II\n\nAdresse: Coteaux 1\, 2016 Cortaillod\n
LOCATION:Coteaux 1\, 2016 Cortaillod
CATEGORIES:Saison 2025/26
END:VEVENT
BEGIN:VEVENT
DTSTAMP:20260424T135917Z
DTSTART;TZID=Europe/Berlin:20251114T200000
DTEND;TZID=Europe/Berlin:20251114T230000
SUMMARY:L3P1 Entente Pongiste Neuchâteloise IV vs Omega II (0)
UID:02ab6d6c-aa44-407a-959a-de6bbd6e1675
STATUS:CONFIRMED
LAST-MODIFIED:20251115T085910Z
DESCRIPTION:Ligue 3 phase 1\nBegegnungs-Nr: 0\nHeim: Entente Pongiste Neuchâteloise IV\nGast: Omega II\n\nAdresse: Allée du 700e\, 2525 Le Landeron\n
LOCATION:Allée du 700e\, 2525 Le Landeron
CATEGORIES:Saison 2025/26
END:VEVENT
BEGIN:VEVENT
DTSTAMP:20260424T135917Z
DTSTART;TZID=Europe/Berlin:20251210T193000
DTEND;TZID=Europe/Berlin:20251210T223000
SUMMARY:L3P1 Hauterive vs Omega II (0)
UID:0dd37147-0557-45b7-a681-f25f0bc6edf3
STATUS:CONFIRMED
LAST-MODIFIED:20251211T215100Z
DESCRIPTION:Ligue 3 phase 1\nBegegnungs-Nr: 0\nHeim: Hauterive\nGast: Omega II\n\nAdresse: Rue des Longschamps 10\, 2068 Hauterive NE\n
LOCATION:Rue des Longschamps 10\, 2068 Hauterive NE
CATEGORIES:Saison 2025/26
END:VEVENT
BEGIN:VEVENT
DTSTAMP:20260424T135917Z
DTSTART;TZID=Europe/Berlin:20260327T200000
DTEND;TZID=Europe/Berlin:20260327T230000
SUMMARY:L2P2 Entente Pongiste Neuchâteloise III vs Omega II (0)
UID:da5f71ee-d235-41d0-bf22-197e860c4b1e
STATUS:CONFIRMED
LAST-MODIFIED:20260331T150022Z
DESCRIPTION:Ligue 2 phase 2\nBegegnungs-Nr: 0\nHeim: Entente Pongiste Neuchâteloise III\nGast: Omega II\n\nAdresse: Allée du 700e\, 2525 Le Landeron\n
LOCATION:Allée du 700e\, 2525 Le Landeron
CATEGORIES:Saison 2025/26
END:VEVENT
BEGIN:VEVENT
DTSTAMP:20260424T135917Z
DTSTART;TZID=Europe/Berlin:20260313T200000
DTEND;TZID=Europe/Berlin:20260313T230000
SUMMARY:L2P2 Cortaillod III vs Omega II (0)
UID:30092e52-ab8d-4e86-8155-97b7c98a1c6a
STATUS:CONFIRMED
LAST-MODIFIED:20260317T162037Z
DESCRIPTION:Ligue 2 phase 2\nBegegnungs-Nr: 0\nHeim: Cortaillod III\nGast: Omega II\n\nAdresse: Coteaux 1\, 2016 Cortaillod\n
LOCATION:Coteaux 1\, 2016 Cortaillod
CATEGORIES:Saison 2025/26
END:VEVENT
BEGIN:VEVENT
DTSTAMP:20260424T135917Z
DTSTART;TZID=Europe/Berlin:20260424T200000
DTEND;TZID=Europe/Berlin:20260424T230000
SUMMARY:L2P2 Cortaillod II vs Omega II (0)
UID:2c8ca7d8-dde5-4fae-956a-92e1f59c3898
STATUS:CONFIRMED
DESCRIPTION:Ligue 2 phase 2\nBegegnungs-Nr: 0\nHeim: Cortaillod II\nGast: Omega II\n\nAdresse: Coteaux 1\, 2016 Cortaillod\n
LOCATION:Coteaux 1\, 2016 Cortaillod
CATEGORIES:Saison 2025/26
END:VEVENT
BEGIN:VEVENT
DTSTAMP:20260424T135917Z
DTSTART;TZID=Europe/Berlin:20260508T201500
DTEND;TZID=Europe/Berlin:20260508T231500
SUMMARY:L2P2 Delémont III vs Omega II (0)
UID:d27419f3-2d9d-4d16-8fa5-04766f5e45cb
STATUS:CONFIRMED
DESCRIPTION:Ligue 2 phase 2\nBegegnungs-Nr: 0\nHeim: Delémont III\nGast: Omega II\n\nAdresse: Rue de la Blancherie 4\, 2800 Delémont\n
LOCATION:Rue de la Blancherie 4\, 2800 Delémont
CATEGORIES:Saison 2025/26
END:VEVENT
END:VCALENDAR
