BEGIN:VCALENDAR
PRODID:-//nuDatenautomaten//framework iCal4j //DE
VERSION:2.0
CALSCALE:GREGORIAN
BEGIN:VTIMEZONE
TZID:Europe/Berlin
LAST-MODIFIED:20260306T231828Z
TZURL:https://www.tzurl.org/zoneinfo/Europe/Berlin
X-LIC-LOCATION:Europe/Berlin
X-PROLEPTIC-TZNAME:LMT
BEGIN:STANDARD
TZNAME:CET
TZOFFSETFROM:+005328
TZOFFSETTO:+0100
DTSTART:18930401T000000
END:STANDARD
BEGIN:DAYLIGHT
TZNAME:CEST
TZOFFSETFROM:+0100
TZOFFSETTO:+0200
DTSTART:19160430T230000
RDATE:19400401T020000
RDATE:19430329T020000
RDATE:19460414T020000
RDATE:19470406T030000
RDATE:19480418T020000
RDATE:19490410T020000
RDATE:19800406T020000
END:DAYLIGHT
BEGIN:STANDARD
TZNAME:CET
TZOFFSETFROM:+0200
TZOFFSETTO:+0100
DTSTART:19161001T010000
RDATE:19421102T030000
RDATE:19431004T030000
RDATE:19441002T030000
RDATE:19451118T030000
RDATE:19461007T030000
END:STANDARD
BEGIN:DAYLIGHT
TZNAME:CEST
TZOFFSETFROM:+0100
TZOFFSETTO:+0200
DTSTART:19170416T020000
RRULE:FREQ=YEARLY;UNTIL=19180415T010000Z;BYMONTH=4;BYDAY=3MO
END:DAYLIGHT
BEGIN:STANDARD
TZNAME:CET
TZOFFSETFROM:+0200
TZOFFSETTO:+0100
DTSTART:19170917T030000
RRULE:FREQ=YEARLY;UNTIL=19180916T010000Z;BYMONTH=9;BYDAY=3MO
END:STANDARD
BEGIN:DAYLIGHT
TZNAME:CEST
TZOFFSETFROM:+0100
TZOFFSETTO:+0200
DTSTART:19440403T020000
RRULE:FREQ=YEARLY;UNTIL=19450402T010000Z;BYMONTH=4;BYDAY=1MO
END:DAYLIGHT
BEGIN:DAYLIGHT
TZNAME:CEMT
TZOFFSETFROM:+0200
TZOFFSETTO:+0300
DTSTART:19450524T020000
RDATE:19470511T030000
END:DAYLIGHT
BEGIN:DAYLIGHT
TZNAME:CEST
TZOFFSETFROM:+0300
TZOFFSETTO:+0200
DTSTART:19450924T030000
RDATE:19470629T030000
END:DAYLIGHT
BEGIN:STANDARD
TZNAME:CET
TZOFFSETFROM:+0100
TZOFFSETTO:+0100
DTSTART:19460101T000000
RDATE:19800101T000000
END:STANDARD
BEGIN:STANDARD
TZNAME:CET
TZOFFSETFROM:+0200
TZOFFSETTO:+0100
DTSTART:19471005T030000
RRULE:FREQ=YEARLY;UNTIL=19491002T010000Z;BYMONTH=10;BYDAY=1SU
END:STANDARD
BEGIN:STANDARD
TZNAME:CET
TZOFFSETFROM:+0200
TZOFFSETTO:+0100
DTSTART:19800928T030000
RRULE:FREQ=YEARLY;UNTIL=19950924T010000Z;BYMONTH=9;BYDAY=-1SU
END:STANDARD
BEGIN:DAYLIGHT
TZNAME:CEST
TZOFFSETFROM:+0100
TZOFFSETTO:+0200
DTSTART:19810329T020000
RRULE:FREQ=YEARLY;BYMONTH=3;BYDAY=-1SU
END:DAYLIGHT
BEGIN:STANDARD
TZNAME:CET
TZOFFSETFROM:+0200
TZOFFSETTO:+0100
DTSTART:19961027T030000
RRULE:FREQ=YEARLY;BYMONTH=10;BYDAY=-1SU
END:STANDARD
END:VTIMEZONE
BEGIN:VEVENT
DTSTAMP:20260424T134041Z
DTSTART;TZID=Europe/Berlin:20251008T194500
DTEND;TZID=Europe/Berlin:20251008T224500
SUMMARY:Ligue 3 Gr.3 Ph.A Grand-Saconnex vs UGS-Chênois VII (11)
UID:f9f28eac-855b-4d09-b22f-b076e5658add
STATUS:CONFIRMED
LAST-MODIFIED:20251009T090627Z
DESCRIPTION:3ème ligue Homme Gr.3 Phase A\nBegegnungs-Nr: 11\nHeim: Grand-Saconnex\nGast: UGS-Chênois VII\n
LOCATION:
CATEGORIES:Saison 2025/26
END:VEVENT
BEGIN:VEVENT
DTSTAMP:20260424T134041Z
DTSTART;TZID=Europe/Berlin:20250924T194500
DTEND;TZID=Europe/Berlin:20250924T224500
SUMMARY:Ligue 3 Gr.3 Ph.A Grand-Saconnex vs Mandement V (7)
UID:98debb3c-db6f-41a5-a1b2-a256e5cf5f00
STATUS:CONFIRMED
LAST-MODIFIED:20250925T122503Z
DESCRIPTION:3ème ligue Homme Gr.3 Phase A\nBegegnungs-Nr: 7\nHeim: Grand-Saconnex\nGast: Mandement V\n
LOCATION:
CATEGORIES:Saison 2025/26
END:VEVENT
BEGIN:VEVENT
DTSTAMP:20260424T134041Z
DTSTART;TZID=Europe/Berlin:20250903T194500
DTEND;TZID=Europe/Berlin:20250903T224500
SUMMARY:Ligue 3 Gr.3 Ph.A Grand-Saconnex vs Bernex IV (2)
UID:ef10b2da-159d-4afa-ad31-9fa8b7ba05ed
STATUS:CONFIRMED
LAST-MODIFIED:20250904T115233Z
DESCRIPTION:3ème ligue Homme Gr.3 Phase A\nBegegnungs-Nr: 2\nHeim: Grand-Saconnex\nGast: Bernex IV\n
LOCATION:
CATEGORIES:Saison 2025/26
END:VEVENT
BEGIN:VEVENT
DTSTAMP:20260424T134041Z
DTSTART;TZID=Europe/Berlin:20251112T194500
DTEND;TZID=Europe/Berlin:20251112T224500
SUMMARY:Ligue 3 Gr.3 Ph.A Grand-Saconnex vs Meyrin III (19)
UID:3b351ad8-23f2-4b0e-9921-117e8df8085d
STATUS:CONFIRMED
LAST-MODIFIED:20251113T134628Z
DESCRIPTION:3ème ligue Homme Gr.3 Phase A\nBegegnungs-Nr: 19\nHeim: Grand-Saconnex\nGast: Meyrin III\n
LOCATION:
CATEGORIES:Saison 2025/26
END:VEVENT
BEGIN:VEVENT
DTSTAMP:20260424T134041Z
DTSTART;TZID=Europe/Berlin:20251203T194500
DTEND;TZID=Europe/Berlin:20251203T224500
SUMMARY:Ligue 3 Gr.3 Ph.A Grand-Saconnex vs Onex III (30)
UID:b33ab416-3123-4360-a36b-af12a5d767c3
STATUS:CONFIRMED
LAST-MODIFIED:20251204T140022Z
DESCRIPTION:3ème ligue Homme Gr.3 Phase A\nBegegnungs-Nr: 30\nHeim: Grand-Saconnex\nGast: Onex III\n
LOCATION:
CATEGORIES:Saison 2025/26
END:VEVENT
BEGIN:VEVENT
DTSTAMP:20260424T134041Z
DTSTART;TZID=Europe/Berlin:20260402T194500
DTEND;TZID=Europe/Berlin:20260402T224500
SUMMARY:Ligue 4 Gr.2 Ph.B Grand-Saconnex vs UGS-Chênois IX (25)
UID:75d5a617-0181-4d47-b3bf-f7233ca0aeb7
STATUS:CONFIRMED
LAST-MODIFIED:20260403T074752Z
DESCRIPTION:4ème ligue Hommes Gr.2 Phase B\nBegegnungs-Nr: 25\nHeim: Grand-Saconnex\nGast: UGS-Chênois IX\n
LOCATION:
CATEGORIES:Saison 2025/26
END:VEVENT
BEGIN:VEVENT
DTSTAMP:20260424T134041Z
DTSTART;TZID=Europe/Berlin:20260319T194500
DTEND;TZID=Europe/Berlin:20260319T224500
SUMMARY:Ligue 4 Gr.2 Ph.B Grand-Saconnex vs ZZ-Lancy XI (21)
UID:a4f46534-a96c-4fb3-9d7f-61af8a477e01
STATUS:CONFIRMED
LAST-MODIFIED:20260320T103909Z
DESCRIPTION:4ème ligue Hommes Gr.2 Phase B\nBegegnungs-Nr: 21\nHeim: Grand-Saconnex\nGast: ZZ-Lancy XI\n
LOCATION:
CATEGORIES:Saison 2025/26
END:VEVENT
BEGIN:VEVENT
DTSTAMP:20260424T134041Z
DTSTART;TZID=Europe/Berlin:20260115T194500
DTEND;TZID=Europe/Berlin:20260115T224500
SUMMARY:Ligue 4 Gr.2 Ph.B Grand-Saconnex vs Rapid-Genève III (1)
UID:33ca4aeb-2fb8-4a62-960a-4738d4d0bb07
STATUS:CONFIRMED
LAST-MODIFIED:20260116T181811Z
DESCRIPTION:4ème ligue Hommes Gr.2 Phase B\nBegegnungs-Nr: 1\nHeim: Grand-Saconnex\nGast: Rapid-Genève III\n
LOCATION:
CATEGORIES:Saison 2025/26
END:VEVENT
BEGIN:VEVENT
DTSTAMP:20260424T134041Z
DTSTART;TZID=Europe/Berlin:20260219T194500
DTEND;TZID=Europe/Berlin:20260219T224500
SUMMARY:Ligue 4 Gr.2 Ph.B Grand-Saconnex vs Veyrier III (13)
UID:0beb0fcd-2880-4445-85c4-6e6c73d38f07
STATUS:CONFIRMED
LAST-MODIFIED:20260220T111824Z
DESCRIPTION:4ème ligue Hommes Gr.2 Phase B\nBegegnungs-Nr: 13\nHeim: Grand-Saconnex\nGast: Veyrier III\n
LOCATION:
CATEGORIES:Saison 2025/26
END:VEVENT
BEGIN:VEVENT
DTSTAMP:20260424T134041Z
DTSTART;TZID=Europe/Berlin:20260129T194500
DTEND;TZID=Europe/Berlin:20260129T224500
SUMMARY:Ligue 4 Gr.2 Ph.B Grand-Saconnex vs Meyrin IV (7)
UID:84a859ca-71ff-4c55-9cd4-cc26114099ad
STATUS:CONFIRMED
LAST-MODIFIED:20260131T173445Z
DESCRIPTION:4ème ligue Hommes Gr.2 Phase B\nBegegnungs-Nr: 7\nHeim: Grand-Saconnex\nGast: Meyrin IV\n
LOCATION:
CATEGORIES:Saison 2025/26
END:VEVENT
BEGIN:VEVENT
DTSTAMP:20260424T134041Z
DTSTART;TZID=Europe/Berlin:20251029T194500
DTEND;TZID=Europe/Berlin:20251029T224500
SUMMARY:Ligue 3 Gr.3 Ph.A Bernex IV vs Grand-Saconnex (17)
UID:bad86b0c-b689-47a6-a303-4afd4fd005f3
STATUS:CONFIRMED
LAST-MODIFIED:20251030T122409Z
DESCRIPTION:3ème ligue Homme Gr.3 Phase A\nBegegnungs-Nr: 17\nHeim: Bernex IV\nGast: Grand-Saconnex\n
LOCATION:
CATEGORIES:Saison 2025/26
END:VEVENT
BEGIN:VEVENT
DTSTAMP:20260424T134041Z
DTSTART;TZID=Europe/Berlin:20251015T194500
DTEND;TZID=Europe/Berlin:20251015T224500
SUMMARY:Ligue 3 Gr.3 Ph.A Onex III vs Grand-Saconnex (15)
UID:e8907301-e51b-4503-a80b-2cc58e77ebcf
STATUS:CONFIRMED
LAST-MODIFIED:20251016T092458Z
DESCRIPTION:3ème ligue Homme Gr.3 Phase A\nBegegnungs-Nr: 15\nHeim: Onex III\nGast: Grand-Saconnex\n
LOCATION:
CATEGORIES:Saison 2025/26
END:VEVENT
BEGIN:VEVENT
DTSTAMP:20260424T134041Z
DTSTART;TZID=Europe/Berlin:20250917T194500
DTEND;TZID=Europe/Berlin:20250917T224500
SUMMARY:Ligue 3 Gr.3 Ph.A Meyrin III vs Grand-Saconnex (4)
UID:e8c3f01c-045a-4720-9c46-bd0da9ac5135
STATUS:CONFIRMED
LAST-MODIFIED:20250919T074641Z
DESCRIPTION:3ème ligue Homme Gr.3 Phase A\nBegegnungs-Nr: 4\nHeim: Meyrin III\nGast: Grand-Saconnex\n
LOCATION:
CATEGORIES:Saison 2025/26
END:VEVENT
BEGIN:VEVENT
DTSTAMP:20260424T134041Z
DTSTART;TZID=Europe/Berlin:20251126T194500
DTEND;TZID=Europe/Berlin:20251126T224500
SUMMARY:Ligue 3 Gr.3 Ph.A UGS-Chênois VII vs Grand-Saconnex (26)
UID:dd464be2-2a55-42e0-98cb-3bef07007a39
STATUS:CONFIRMED
LAST-MODIFIED:20251127T113244Z
DESCRIPTION:3ème ligue Homme Gr.3 Phase A\nBegegnungs-Nr: 26\nHeim: UGS-Chênois VII\nGast: Grand-Saconnex\n
LOCATION:
CATEGORIES:Saison 2025/26
END:VEVENT
BEGIN:VEVENT
DTSTAMP:20260424T134041Z
DTSTART;TZID=Europe/Berlin:20251119T194500
DTEND;TZID=Europe/Berlin:20251119T224500
SUMMARY:Ligue 3 Gr.3 Ph.A Mandement V vs Grand-Saconnex (22)
UID:f965cded-2c5c-4397-926e-79f7c73d3522
STATUS:CONFIRMED
LAST-MODIFIED:20251120T123510Z
DESCRIPTION:3ème ligue Homme Gr.3 Phase A\nBegegnungs-Nr: 22\nHeim: Mandement V\nGast: Grand-Saconnex\n
LOCATION:
CATEGORIES:Saison 2025/26
END:VEVENT
BEGIN:VEVENT
DTSTAMP:20260424T134041Z
DTSTART;TZID=Europe/Berlin:20260430T194500
DTEND;TZID=Europe/Berlin:20260430T224500
SUMMARY:Ligue 4 Gr.2 Ph.B Veyrier III vs Grand-Saconnex (28)
UID:28e0c13c-cb02-453d-86d2-f591c66502e5
STATUS:CONFIRMED
DESCRIPTION:4ème ligue Hommes Gr.2 Phase B\nBegegnungs-Nr: 28\nHeim: Veyrier III\nGast: Grand-Saconnex\n\nAdresse: -\, 1255 Veyrier\n
LOCATION:-\, 1255 Veyrier
CATEGORIES:Saison 2025/26
END:VEVENT
BEGIN:VEVENT
DTSTAMP:20260424T134041Z
DTSTART;TZID=Europe/Berlin:20260326T194500
DTEND;TZID=Europe/Berlin:20260326T224500
SUMMARY:Ligue 4 Gr.2 Ph.B Meyrin IV vs Grand-Saconnex (22)
UID:739ca199-23b5-4c79-87d5-4701bbcb71dd
STATUS:CONFIRMED
LAST-MODIFIED:20260327T081956Z
DESCRIPTION:4ème ligue Hommes Gr.2 Phase B\nBegegnungs-Nr: 22\nHeim: Meyrin IV\nGast: Grand-Saconnex\n
LOCATION:
CATEGORIES:Saison 2025/26
END:VEVENT
BEGIN:VEVENT
DTSTAMP:20260424T134041Z
DTSTART;TZID=Europe/Berlin:20260312T194500
DTEND;TZID=Europe/Berlin:20260312T224500
SUMMARY:Ligue 4 Gr.2 Ph.B Rapid-Genève III vs Grand-Saconnex (16)
UID:543fd866-e9bf-4862-815d-23eeaf0d7f0d
STATUS:CONFIRMED
LAST-MODIFIED:20260313T103825Z
DESCRIPTION:4ème ligue Hommes Gr.2 Phase B\nBegegnungs-Nr: 16\nHeim: Rapid-Genève III\nGast: Grand-Saconnex\n
LOCATION:
CATEGORIES:Saison 2025/26
END:VEVENT
BEGIN:VEVENT
DTSTAMP:20260424T134041Z
DTSTART;TZID=Europe/Berlin:20260210T194500
DTEND;TZID=Europe/Berlin:20260210T224500
SUMMARY:Ligue 4 Gr.2 Ph.B UGS-Chênois IX vs Grand-Saconnex (10)
UID:3e087e79-9671-499d-ba04-6fc88878f9e7
STATUS:CONFIRMED
LAST-MODIFIED:20260211T080458Z
DESCRIPTION:4ème ligue Hommes Gr.2 Phase B\nBegegnungs-Nr: 10\nHeim: UGS-Chênois IX\nGast: Grand-Saconnex\n
LOCATION:
CATEGORIES:Saison 2025/26
END:VEVENT
BEGIN:VEVENT
DTSTAMP:20260424T134041Z
DTSTART;TZID=Europe/Berlin:20260122T200000
DTEND;TZID=Europe/Berlin:20260122T230000
SUMMARY:Ligue 4 Gr.2 Ph.B ZZ-Lancy XI vs Grand-Saconnex (6)
UID:38368091-7dc2-40bc-b825-6ee2f76c5fdd
STATUS:CONFIRMED
LAST-MODIFIED:20260123T183444Z
DESCRIPTION:4ème ligue Hommes Gr.2 Phase B\nBegegnungs-Nr: 6\nHeim: ZZ-Lancy XI\nGast: Grand-Saconnex\n
LOCATION:
CATEGORIES:Saison 2025/26
END:VEVENT
END:VCALENDAR
