BEGIN:VCALENDAR
PRODID:-//nuDatenautomaten//framework iCal4j //DE
VERSION:2.0
CALSCALE:GREGORIAN
BEGIN:VTIMEZONE
TZID:Europe/Berlin
LAST-MODIFIED:20260306T231828Z
TZURL:https://www.tzurl.org/zoneinfo/Europe/Berlin
X-LIC-LOCATION:Europe/Berlin
X-PROLEPTIC-TZNAME:LMT
BEGIN:STANDARD
TZNAME:CET
TZOFFSETFROM:+005328
TZOFFSETTO:+0100
DTSTART:18930401T000000
END:STANDARD
BEGIN:DAYLIGHT
TZNAME:CEST
TZOFFSETFROM:+0100
TZOFFSETTO:+0200
DTSTART:19160430T230000
RDATE:19400401T020000
RDATE:19430329T020000
RDATE:19460414T020000
RDATE:19470406T030000
RDATE:19480418T020000
RDATE:19490410T020000
RDATE:19800406T020000
END:DAYLIGHT
BEGIN:STANDARD
TZNAME:CET
TZOFFSETFROM:+0200
TZOFFSETTO:+0100
DTSTART:19161001T010000
RDATE:19421102T030000
RDATE:19431004T030000
RDATE:19441002T030000
RDATE:19451118T030000
RDATE:19461007T030000
END:STANDARD
BEGIN:DAYLIGHT
TZNAME:CEST
TZOFFSETFROM:+0100
TZOFFSETTO:+0200
DTSTART:19170416T020000
RRULE:FREQ=YEARLY;UNTIL=19180415T010000Z;BYMONTH=4;BYDAY=3MO
END:DAYLIGHT
BEGIN:STANDARD
TZNAME:CET
TZOFFSETFROM:+0200
TZOFFSETTO:+0100
DTSTART:19170917T030000
RRULE:FREQ=YEARLY;UNTIL=19180916T010000Z;BYMONTH=9;BYDAY=3MO
END:STANDARD
BEGIN:DAYLIGHT
TZNAME:CEST
TZOFFSETFROM:+0100
TZOFFSETTO:+0200
DTSTART:19440403T020000
RRULE:FREQ=YEARLY;UNTIL=19450402T010000Z;BYMONTH=4;BYDAY=1MO
END:DAYLIGHT
BEGIN:DAYLIGHT
TZNAME:CEMT
TZOFFSETFROM:+0200
TZOFFSETTO:+0300
DTSTART:19450524T020000
RDATE:19470511T030000
END:DAYLIGHT
BEGIN:DAYLIGHT
TZNAME:CEST
TZOFFSETFROM:+0300
TZOFFSETTO:+0200
DTSTART:19450924T030000
RDATE:19470629T030000
END:DAYLIGHT
BEGIN:STANDARD
TZNAME:CET
TZOFFSETFROM:+0100
TZOFFSETTO:+0100
DTSTART:19460101T000000
RDATE:19800101T000000
END:STANDARD
BEGIN:STANDARD
TZNAME:CET
TZOFFSETFROM:+0200
TZOFFSETTO:+0100
DTSTART:19471005T030000
RRULE:FREQ=YEARLY;UNTIL=19491002T010000Z;BYMONTH=10;BYDAY=1SU
END:STANDARD
BEGIN:STANDARD
TZNAME:CET
TZOFFSETFROM:+0200
TZOFFSETTO:+0100
DTSTART:19800928T030000
RRULE:FREQ=YEARLY;UNTIL=19950924T010000Z;BYMONTH=9;BYDAY=-1SU
END:STANDARD
BEGIN:DAYLIGHT
TZNAME:CEST
TZOFFSETFROM:+0100
TZOFFSETTO:+0200
DTSTART:19810329T020000
RRULE:FREQ=YEARLY;BYMONTH=3;BYDAY=-1SU
END:DAYLIGHT
BEGIN:STANDARD
TZNAME:CET
TZOFFSETFROM:+0200
TZOFFSETTO:+0100
DTSTART:19961027T030000
RRULE:FREQ=YEARLY;BYMONTH=10;BYDAY=-1SU
END:STANDARD
END:VTIMEZONE
BEGIN:VEVENT
DTSTAMP:20260424T151704Z
DTSTART;TZID=Europe/Berlin:20250910T193000
DTEND;TZID=Europe/Berlin:20250910T223000
SUMMARY:ME L2 Gr 3\, Tours 1&2 Romanel vs Lausanne III (0)
UID:9373ab9f-80ef-4950-9c85-1be5fb8e4580
STATUS:CONFIRMED
LAST-MODIFIED:20250911T184938Z
DESCRIPTION:2ème ligue Hommes Groupe 3\, Tours 1&2\nBegegnungs-Nr: 0\nHeim: Romanel\nGast: Lausanne III\n\nAdresse: Ch des Epinettes 1\, 1032 Romanel-sur-Lausanne\n
LOCATION:Ch des Epinettes 1\, 1032 Romanel-sur-Lausanne
CATEGORIES:Saison 2025/26
END:VEVENT
BEGIN:VEVENT
DTSTAMP:20260424T151704Z
DTSTART;TZID=Europe/Berlin:20250917T193000
DTEND;TZID=Europe/Berlin:20250917T223000
SUMMARY:ME L2 Gr 3\, Tours 1&2 Romanel vs Eysins II (0)
UID:34b12499-a10e-44d0-88fa-91cda903aecf
STATUS:CONFIRMED
LAST-MODIFIED:20250923T200437Z
DESCRIPTION:2ème ligue Hommes Groupe 3\, Tours 1&2\nBegegnungs-Nr: 0\nHeim: Romanel\nGast: Eysins II\n\nAdresse: Ch des Epinettes 1\, 1032 Romanel-sur-Lausanne\n
LOCATION:Ch des Epinettes 1\, 1032 Romanel-sur-Lausanne
CATEGORIES:Saison 2025/26
END:VEVENT
BEGIN:VEVENT
DTSTAMP:20260424T151704Z
DTSTART;TZID=Europe/Berlin:20251029T193000
DTEND;TZID=Europe/Berlin:20251029T223000
SUMMARY:ME L2 Gr 3\, Tours 1&2 Romanel vs Gland (0)
UID:283ff6e6-ee22-4065-8c3b-358883ae5582
STATUS:CONFIRMED
LAST-MODIFIED:20251101T153822Z
DESCRIPTION:2ème ligue Hommes Groupe 3\, Tours 1&2\nBegegnungs-Nr: 0\nHeim: Romanel\nGast: Gland\n\nAdresse: Ch des Epinettes 1\, 1032 Romanel-sur-Lausanne\n
LOCATION:Ch des Epinettes 1\, 1032 Romanel-sur-Lausanne
CATEGORIES:Saison 2025/26
END:VEVENT
BEGIN:VEVENT
DTSTAMP:20260424T151704Z
DTSTART;TZID=Europe/Berlin:20251126T193000
DTEND;TZID=Europe/Berlin:20251126T223000
SUMMARY:ME L2 Gr 3\, Tours 1&2 Romanel vs Forward-Morges III (0)
UID:64a6ee0d-0452-42a1-b13f-b8fa2236c15b
STATUS:CONFIRMED
LAST-MODIFIED:20251128T203809Z
DESCRIPTION:2ème ligue Hommes Groupe 3\, Tours 1&2\nBegegnungs-Nr: 0\nHeim: Romanel\nGast: Forward-Morges III\n\nAdresse: Ch des Epinettes 1\, 1032 Romanel-sur-Lausanne\n
LOCATION:Ch des Epinettes 1\, 1032 Romanel-sur-Lausanne
CATEGORIES:Saison 2025/26
END:VEVENT
BEGIN:VEVENT
DTSTAMP:20260424T151704Z
DTSTART;TZID=Europe/Berlin:20251210T193000
DTEND;TZID=Europe/Berlin:20251210T223000
SUMMARY:ME L2 Gr 3\, Tours 1&2 Romanel vs Eysins (0)
UID:9dd23473-84fd-47ad-b4f0-8fb98c0707f3
STATUS:CONFIRMED
LAST-MODIFIED:20251215T184435Z
DESCRIPTION:2ème ligue Hommes Groupe 3\, Tours 1&2\nBegegnungs-Nr: 0\nHeim: Romanel\nGast: Eysins\n\nAdresse: Ch des Epinettes 1\, 1032 Romanel-sur-Lausanne\n
LOCATION:Ch des Epinettes 1\, 1032 Romanel-sur-Lausanne
CATEGORIES:Saison 2025/26
END:VEVENT
BEGIN:VEVENT
DTSTAMP:20260424T151704Z
DTSTART;TZID=Europe/Berlin:20260114T193000
DTEND;TZID=Europe/Berlin:20260114T223000
SUMMARY:ME L2 Gr 2\, Tours 3&4 Romanel vs Rossens III (0)
UID:a036f69b-bcdb-4726-ac3f-d10dcfd0f7e0
STATUS:CONFIRMED
LAST-MODIFIED:20260115T101821Z
DESCRIPTION:2ème ligue Hommes Groupe 2\, Tours 3&4\nBegegnungs-Nr: 0\nHeim: Romanel\nGast: Rossens III\n\nAdresse: Ch des Epinettes 1\, 1032 Romanel-sur-Lausanne\n
LOCATION:Ch des Epinettes 1\, 1032 Romanel-sur-Lausanne
CATEGORIES:Saison 2025/26
END:VEVENT
BEGIN:VEVENT
DTSTAMP:20260424T151704Z
DTSTART;TZID=Europe/Berlin:20260211T193000
DTEND;TZID=Europe/Berlin:20260211T223000
SUMMARY:ME L2 Gr 2\, Tours 3&4 Romanel vs Fribourg IV (0)
UID:ebad5a0b-5005-4f8b-8e19-be91d0d30a36
STATUS:CONFIRMED
LAST-MODIFIED:20260215T195157Z
DESCRIPTION:2ème ligue Hommes Groupe 2\, Tours 3&4\nBegegnungs-Nr: 0\nHeim: Romanel\nGast: Fribourg IV\n\nAdresse: Ch des Epinettes 1\, 1032 Romanel-sur-Lausanne\n
LOCATION:Ch des Epinettes 1\, 1032 Romanel-sur-Lausanne
CATEGORIES:Saison 2025/26
END:VEVENT
BEGIN:VEVENT
DTSTAMP:20260424T151704Z
DTSTART;TZID=Europe/Berlin:20260225T193000
DTEND;TZID=Europe/Berlin:20260225T223000
SUMMARY:ME L2 Gr 2\, Tours 3&4 Romanel vs Avry-Rosé (0)
UID:f7c0e828-a286-43ea-aa0e-980b1ec0f366
STATUS:CONFIRMED
LAST-MODIFIED:20260303T223758Z
DESCRIPTION:2ème ligue Hommes Groupe 2\, Tours 3&4\nBegegnungs-Nr: 0\nHeim: Romanel\nGast: Avry-Rosé\n\nAdresse: Ch des Epinettes 1\, 1032 Romanel-sur-Lausanne\n
LOCATION:Ch des Epinettes 1\, 1032 Romanel-sur-Lausanne
CATEGORIES:Saison 2025/26
END:VEVENT
BEGIN:VEVENT
DTSTAMP:20260424T151704Z
DTSTART;TZID=Europe/Berlin:20260318T193000
DTEND;TZID=Europe/Berlin:20260318T223000
SUMMARY:ME L2 Gr 2\, Tours 3&4 Romanel vs Fribourg III (0)
UID:6cd44974-65b5-47e8-973c-208c96c4ab53
STATUS:CONFIRMED
LAST-MODIFIED:20260325T093150Z
DESCRIPTION:2ème ligue Hommes Groupe 2\, Tours 3&4\nBegegnungs-Nr: 0\nHeim: Romanel\nGast: Fribourg III\n\nAdresse: Ch des Epinettes 1\, 1032 Romanel-sur-Lausanne\n
LOCATION:Ch des Epinettes 1\, 1032 Romanel-sur-Lausanne
CATEGORIES:Saison 2025/26
END:VEVENT
BEGIN:VEVENT
DTSTAMP:20260424T151704Z
DTSTART;TZID=Europe/Berlin:20260422T193000
DTEND;TZID=Europe/Berlin:20260422T223000
SUMMARY:ME L2 Gr 2\, Tours 3&4 Romanel vs Yverdon II (0)
UID:6a661e16-9e29-4f7a-a97d-0c50676fc4ae
STATUS:CONFIRMED
LAST-MODIFIED:20260423T075409Z
DESCRIPTION:2ème ligue Hommes Groupe 2\, Tours 3&4\nBegegnungs-Nr: 0\nHeim: Romanel\nGast: Yverdon II\n\nAdresse: Ch des Epinettes 1\, 1032 Romanel-sur-Lausanne\n
LOCATION:Ch des Epinettes 1\, 1032 Romanel-sur-Lausanne
CATEGORIES:Saison 2025/26
END:VEVENT
BEGIN:VEVENT
DTSTAMP:20260424T151704Z
DTSTART;TZID=Europe/Berlin:20250905T193000
DTEND;TZID=Europe/Berlin:20250905T223000
SUMMARY:ME L2 Gr 3\, Tours 1&2 Gland vs Romanel (0)
UID:5a59900c-afe5-479d-b779-351a0828e68e
STATUS:CONFIRMED
LAST-MODIFIED:20250906T154303Z
DESCRIPTION:2ème ligue Hommes Groupe 3\, Tours 1&2\nBegegnungs-Nr: 0\nHeim: Gland\nGast: Romanel\n\nAdresse: Chemin de la Perroude 1\, 1196 Gland\n
LOCATION:Chemin de la Perroude 1\, 1196 Gland
CATEGORIES:Saison 2025/26
END:VEVENT
BEGIN:VEVENT
DTSTAMP:20260424T151704Z
DTSTART;TZID=Europe/Berlin:20251020T194500
DTEND;TZID=Europe/Berlin:20251020T224500
SUMMARY:ME L2 Gr 3\, Tours 1&2 Forward-Morges III vs Romanel (0)
UID:cbdbd169-250b-4caa-9e08-cb5d67e6d6e5
STATUS:CONFIRMED
LAST-MODIFIED:20251024T105207Z
DESCRIPTION:2ème ligue Hommes Groupe 3\, Tours 1&2\nBegegnungs-Nr: 0\nHeim: Forward-Morges III\nGast: Romanel\n\nAdresse: Chemin de Tolochenaz\, 1110 Morges\n
LOCATION:Chemin de Tolochenaz\, 1110 Morges
CATEGORIES:Saison 2025/26
END:VEVENT
BEGIN:VEVENT
DTSTAMP:20260424T151704Z
DTSTART;TZID=Europe/Berlin:20250924T200000
DTEND;TZID=Europe/Berlin:20250924T230000
SUMMARY:ME L2 Gr 3\, Tours 1&2 Eysins vs Romanel (0)
UID:00901535-c938-4d45-ac0a-2db1b5d8ecb2
STATUS:CONFIRMED
LAST-MODIFIED:20250925T094140Z
DESCRIPTION:2ème ligue Hommes Groupe 3\, Tours 1&2\nBegegnungs-Nr: 0\nHeim: Eysins\nGast: Romanel\n\nAdresse: En Bellossiez 1\, 1262 Eysins\n
LOCATION:En Bellossiez 1\, 1262 Eysins
CATEGORIES:Saison 2025/26
END:VEVENT
BEGIN:VEVENT
DTSTAMP:20260424T151704Z
DTSTART;TZID=Europe/Berlin:20251103T200000
DTEND;TZID=Europe/Berlin:20251103T230000
SUMMARY:ME L2 Gr 3\, Tours 1&2 Lausanne III vs Romanel (0)
UID:60b481f7-782c-46d9-86f6-1b0fc376dc91
STATUS:CONFIRMED
LAST-MODIFIED:20251104T233447Z
DESCRIPTION:2ème ligue Hommes Groupe 3\, Tours 1&2\nBegegnungs-Nr: 0\nHeim: Lausanne III\nGast: Romanel\n\nAdresse: Vaudoise Aréna\, Ch. du Viaduc 14\, 1008 Prilly\n
LOCATION:Vaudoise Aréna\, Ch. du Viaduc 14\, 1008 Prilly
CATEGORIES:Saison 2025/26
END:VEVENT
BEGIN:VEVENT
DTSTAMP:20260424T151704Z
DTSTART;TZID=Europe/Berlin:20251119T200000
DTEND;TZID=Europe/Berlin:20251119T230000
SUMMARY:ME L2 Gr 3\, Tours 1&2 Eysins II vs Romanel (0)
UID:74bfcf33-0005-4cdb-962f-f39639901eb1
STATUS:CONFIRMED
LAST-MODIFIED:20251123T223131Z
DESCRIPTION:2ème ligue Hommes Groupe 3\, Tours 1&2\nBegegnungs-Nr: 0\nHeim: Eysins II\nGast: Romanel\n\nAdresse: En Bellossiez 1\, 1262 Eysins\n
LOCATION:En Bellossiez 1\, 1262 Eysins
CATEGORIES:Saison 2025/26
END:VEVENT
BEGIN:VEVENT
DTSTAMP:20260424T151704Z
DTSTART;TZID=Europe/Berlin:20260121T201500
DTEND;TZID=Europe/Berlin:20260121T231500
SUMMARY:ME L2 Gr 2\, Tours 3&4 Fribourg III vs Romanel (0)
UID:c5b3ffbc-4eef-435c-baaa-2bcc8ea3b43b
STATUS:CONFIRMED
LAST-MODIFIED:20260122T225127Z
DESCRIPTION:2ème ligue Hommes Groupe 2\, Tours 3&4\nBegegnungs-Nr: 0\nHeim: Fribourg III\nGast: Romanel\n\nAdresse: Avenue Général Guisan 61\, 1700 Fribourg\n
LOCATION:Avenue Général Guisan 61\, 1700 Fribourg
CATEGORIES:Saison 2025/26
END:VEVENT
BEGIN:VEVENT
DTSTAMP:20260424T151704Z
DTSTART;TZID=Europe/Berlin:20260205T201500
DTEND;TZID=Europe/Berlin:20260205T231500
SUMMARY:ME L2 Gr 2\, Tours 3&4 Yverdon II vs Romanel (0)
UID:ac3accd0-6bd3-473f-99f5-2f40564c7531
STATUS:CONFIRMED
LAST-MODIFIED:20260207T152855Z
DESCRIPTION:2ème ligue Hommes Groupe 2\, Tours 3&4\nBegegnungs-Nr: 0\nHeim: Yverdon II\nGast: Romanel\n\nAdresse: Avenue des Quatre Marroniers 1\, 1400 Yverdon-les-Bains\n
LOCATION:Avenue des Quatre Marroniers 1\, 1400 Yverdon-les-Bains
CATEGORIES:Saison 2025/26
END:VEVENT
BEGIN:VEVENT
DTSTAMP:20260424T151704Z
DTSTART;TZID=Europe/Berlin:20260417T200000
DTEND;TZID=Europe/Berlin:20260417T230000
SUMMARY:ME L2 Gr 2\, Tours 3&4 Rossens III vs Romanel (0)
UID:d4931719-f322-460c-b601-998f6bd6f42f
STATUS:CONFIRMED
LAST-MODIFIED:20260418T123633Z
DESCRIPTION:2ème ligue Hommes Groupe 2\, Tours 3&4\nBegegnungs-Nr: 0\nHeim: Rossens III\nGast: Romanel\n\nAdresse: Route du Jordil 14\, 1728 Rossens\n
LOCATION:Route du Jordil 14\, 1728 Rossens
CATEGORIES:Saison 2025/26
END:VEVENT
BEGIN:VEVENT
DTSTAMP:20260424T151704Z
DTSTART;TZID=Europe/Berlin:20260325T201500
DTEND;TZID=Europe/Berlin:20260325T231500
SUMMARY:ME L2 Gr 2\, Tours 3&4 Fribourg IV vs Romanel (0)
UID:03a16251-6936-446b-9a23-924b8b5d54be
STATUS:CONFIRMED
LAST-MODIFIED:20260327T193543Z
DESCRIPTION:2ème ligue Hommes Groupe 2\, Tours 3&4\nBegegnungs-Nr: 0\nHeim: Fribourg IV\nGast: Romanel\n\nAdresse: Avenue Général Guisan 61\, 1700 Fribourg\n
LOCATION:Avenue Général Guisan 61\, 1700 Fribourg
CATEGORIES:Saison 2025/26
END:VEVENT
BEGIN:VEVENT
DTSTAMP:20260424T151704Z
DTSTART;TZID=Europe/Berlin:20260428T193000
DTEND;TZID=Europe/Berlin:20260428T223000
SUMMARY:ME L2 Gr 2\, Tours 3&4 Avry-Rosé vs Romanel (0)
UID:e5be56bc-e2bd-4674-af72-71bce321ad98
STATUS:CONFIRMED
DESCRIPTION:2ème ligue Hommes Groupe 2\, Tours 3&4\nBegegnungs-Nr: 0\nHeim: Avry-Rosé\nGast: Romanel\n\nAdresse: Route du Château 15\, 1754 Avry-sur-Matran\n
LOCATION:Route du Château 15\, 1754 Avry-sur-Matran
CATEGORIES:Saison 2025/26
END:VEVENT
END:VCALENDAR
