BEGIN:VCALENDAR
PRODID:-//nuDatenautomaten//framework iCal4j //DE
VERSION:2.0
CALSCALE:GREGORIAN
BEGIN:VTIMEZONE
TZID:Europe/Berlin
LAST-MODIFIED:20260306T231828Z
TZURL:https://www.tzurl.org/zoneinfo/Europe/Berlin
X-LIC-LOCATION:Europe/Berlin
X-PROLEPTIC-TZNAME:LMT
BEGIN:STANDARD
TZNAME:CET
TZOFFSETFROM:+005328
TZOFFSETTO:+0100
DTSTART:18930401T000000
END:STANDARD
BEGIN:DAYLIGHT
TZNAME:CEST
TZOFFSETFROM:+0100
TZOFFSETTO:+0200
DTSTART:19160430T230000
RDATE:19400401T020000
RDATE:19430329T020000
RDATE:19460414T020000
RDATE:19470406T030000
RDATE:19480418T020000
RDATE:19490410T020000
RDATE:19800406T020000
END:DAYLIGHT
BEGIN:STANDARD
TZNAME:CET
TZOFFSETFROM:+0200
TZOFFSETTO:+0100
DTSTART:19161001T010000
RDATE:19421102T030000
RDATE:19431004T030000
RDATE:19441002T030000
RDATE:19451118T030000
RDATE:19461007T030000
END:STANDARD
BEGIN:DAYLIGHT
TZNAME:CEST
TZOFFSETFROM:+0100
TZOFFSETTO:+0200
DTSTART:19170416T020000
RRULE:FREQ=YEARLY;UNTIL=19180415T010000Z;BYMONTH=4;BYDAY=3MO
END:DAYLIGHT
BEGIN:STANDARD
TZNAME:CET
TZOFFSETFROM:+0200
TZOFFSETTO:+0100
DTSTART:19170917T030000
RRULE:FREQ=YEARLY;UNTIL=19180916T010000Z;BYMONTH=9;BYDAY=3MO
END:STANDARD
BEGIN:DAYLIGHT
TZNAME:CEST
TZOFFSETFROM:+0100
TZOFFSETTO:+0200
DTSTART:19440403T020000
RRULE:FREQ=YEARLY;UNTIL=19450402T010000Z;BYMONTH=4;BYDAY=1MO
END:DAYLIGHT
BEGIN:DAYLIGHT
TZNAME:CEMT
TZOFFSETFROM:+0200
TZOFFSETTO:+0300
DTSTART:19450524T020000
RDATE:19470511T030000
END:DAYLIGHT
BEGIN:DAYLIGHT
TZNAME:CEST
TZOFFSETFROM:+0300
TZOFFSETTO:+0200
DTSTART:19450924T030000
RDATE:19470629T030000
END:DAYLIGHT
BEGIN:STANDARD
TZNAME:CET
TZOFFSETFROM:+0100
TZOFFSETTO:+0100
DTSTART:19460101T000000
RDATE:19800101T000000
END:STANDARD
BEGIN:STANDARD
TZNAME:CET
TZOFFSETFROM:+0200
TZOFFSETTO:+0100
DTSTART:19471005T030000
RRULE:FREQ=YEARLY;UNTIL=19491002T010000Z;BYMONTH=10;BYDAY=1SU
END:STANDARD
BEGIN:STANDARD
TZNAME:CET
TZOFFSETFROM:+0200
TZOFFSETTO:+0100
DTSTART:19800928T030000
RRULE:FREQ=YEARLY;UNTIL=19950924T010000Z;BYMONTH=9;BYDAY=-1SU
END:STANDARD
BEGIN:DAYLIGHT
TZNAME:CEST
TZOFFSETFROM:+0100
TZOFFSETTO:+0200
DTSTART:19810329T020000
RRULE:FREQ=YEARLY;BYMONTH=3;BYDAY=-1SU
END:DAYLIGHT
BEGIN:STANDARD
TZNAME:CET
TZOFFSETFROM:+0200
TZOFFSETTO:+0100
DTSTART:19961027T030000
RRULE:FREQ=YEARLY;BYMONTH=10;BYDAY=-1SU
END:STANDARD
END:VTIMEZONE
BEGIN:VEVENT
DTSTAMP:20260424T194052Z
DTSTART;TZID=Europe/Berlin:20260312T201500
DTEND;TZID=Europe/Berlin:20260312T231500
SUMMARY:HE 6. Liga Gr. 7 Wädenswil VIII vs Wolfhausen IV (0)
UID:9b19690e-3af1-468a-9000-c9a6aa5a4b69
STATUS:CONFIRMED
LAST-MODIFIED:20260317T145603Z
DESCRIPTION:6. Liga Herren Gruppe 7\nBegegnungs-Nr: 0\nHeim: Wädenswil VIII\nGast: Wolfhausen IV\n\nAdresse: Speerstrasse 95\, 8820 Wädenswil\n
LOCATION:Speerstrasse 95\, 8820 Wädenswil
CATEGORIES:Saison 2025/26
END:VEVENT
BEGIN:VEVENT
DTSTAMP:20260424T194052Z
DTSTART;TZID=Europe/Berlin:20260326T201500
DTEND;TZID=Europe/Berlin:20260326T231500
SUMMARY:HE 6. Liga Gr. 7 Wädenswil VIII vs Rapperswil-Jona IX (0)
UID:81aee75c-2e8c-4047-8335-88e4e86e96c8
STATUS:CONFIRMED
LAST-MODIFIED:20260401T130927Z
DESCRIPTION:6. Liga Herren Gruppe 7\nBegegnungs-Nr: 0\nHeim: Wädenswil VIII\nGast: Rapperswil-Jona IX\n\nAdresse: Speerstrasse 95\, 8820 Wädenswil\n
LOCATION:Speerstrasse 95\, 8820 Wädenswil
CATEGORIES:Saison 2025/26
END:VEVENT
BEGIN:VEVENT
DTSTAMP:20260424T194052Z
DTSTART;TZID=Europe/Berlin:20260416T201500
DTEND;TZID=Europe/Berlin:20260416T231500
SUMMARY:HE 6. Liga Gr. 7 Wädenswil VIII vs Dübendorf-Volketswil VI (0)
UID:9650b56c-8b4c-41a1-aae0-a758ff94162c
STATUS:CONFIRMED
LAST-MODIFIED:20260420T123914Z
DESCRIPTION:6. Liga Herren Gruppe 7\nBegegnungs-Nr: 0\nHeim: Wädenswil VIII\nGast: Dübendorf-Volketswil VI\n\nAdresse: Speerstrasse 95\, 8820 Wädenswil\n
LOCATION:Speerstrasse 95\, 8820 Wädenswil
CATEGORIES:Saison 2025/26
END:VEVENT
BEGIN:VEVENT
DTSTAMP:20260424T194052Z
DTSTART;TZID=Europe/Berlin:20250828T201500
DTEND;TZID=Europe/Berlin:20250828T231500
SUMMARY:HE 6. Liga Gr. 7 Wädenswil VIII vs Eschenbach II (0)
UID:cb630303-d48b-4d55-a48b-c2ab922bf864
STATUS:CONFIRMED
LAST-MODIFIED:20250829T144358Z
DESCRIPTION:6. Liga Herren Gruppe 7\nBegegnungs-Nr: 0\nHeim: Wädenswil VIII\nGast: Eschenbach II\n\nAdresse: Speerstrasse 95\, 8820 Wädenswil\n
LOCATION:Speerstrasse 95\, 8820 Wädenswil
CATEGORIES:Saison 2025/26
END:VEVENT
BEGIN:VEVENT
DTSTAMP:20260424T194052Z
DTSTART;TZID=Europe/Berlin:20250918T201500
DTEND;TZID=Europe/Berlin:20250918T231500
SUMMARY:HE 6. Liga Gr. 7 Wädenswil VIII vs Toggenburg III (0)
UID:ab996aba-cf6e-45a5-a490-04368dfec7e2
STATUS:CONFIRMED
LAST-MODIFIED:20250926T135353Z
DESCRIPTION:6. Liga Herren Gruppe 7\nBegegnungs-Nr: 0\nHeim: Wädenswil VIII\nGast: Toggenburg III\n\nAdresse: Speerstrasse 95\, 8820 Wädenswil\n
LOCATION:Speerstrasse 95\, 8820 Wädenswil
CATEGORIES:Saison 2025/26
END:VEVENT
BEGIN:VEVENT
DTSTAMP:20260424T194052Z
DTSTART;TZID=Europe/Berlin:20251113T201500
DTEND;TZID=Europe/Berlin:20251113T231500
SUMMARY:HE 6. Liga Gr. 7 Wädenswil VIII vs Gossau Zuerich III (0)
UID:1fc7a635-b205-4c2e-b6a2-d26897a3bb96
STATUS:CONFIRMED
LAST-MODIFIED:20251118T113725Z
DESCRIPTION:6. Liga Herren Gruppe 7\nBegegnungs-Nr: 0\nHeim: Wädenswil VIII\nGast: Gossau Zuerich III\n\nAdresse: Speerstrasse 95\, 8820 Wädenswil\n
LOCATION:Speerstrasse 95\, 8820 Wädenswil
CATEGORIES:Saison 2025/26
END:VEVENT
BEGIN:VEVENT
DTSTAMP:20260424T194052Z
DTSTART;TZID=Europe/Berlin:20260109T200000
DTEND;TZID=Europe/Berlin:20260109T230000
SUMMARY:HE 6. Liga Gr. 7 Eschenbach II vs Wädenswil VIII (0)
UID:4d7e4921-ff5b-4d10-baaa-6721c702d44b
STATUS:CONFIRMED
LAST-MODIFIED:20260112T100624Z
DESCRIPTION:6. Liga Herren Gruppe 7\nBegegnungs-Nr: 0\nHeim: Eschenbach II\nGast: Wädenswil VIII\n\nAdresse: Bildstöcklistrasse 2\, 8733 Eschenbach\n
LOCATION:Bildstöcklistrasse 2\, 8733 Eschenbach
CATEGORIES:Saison 2025/26
END:VEVENT
BEGIN:VEVENT
DTSTAMP:20260424T194052Z
DTSTART;TZID=Europe/Berlin:20260130T200000
DTEND;TZID=Europe/Berlin:20260130T230000
SUMMARY:HE 6. Liga Gr. 7 Toggenburg III vs Wädenswil VIII (0)
UID:f4919894-9e17-41f4-bb53-862097b96307
STATUS:CONFIRMED
LAST-MODIFIED:20260204T085847Z
DESCRIPTION:6. Liga Herren Gruppe 7\nBegegnungs-Nr: 0\nHeim: Toggenburg III\nGast: Wädenswil VIII\n\nAdresse: Frohmaderweg\, 9630 Wattwil\n
LOCATION:Frohmaderweg\, 9630 Wattwil
CATEGORIES:Saison 2025/26
END:VEVENT
BEGIN:VEVENT
DTSTAMP:20260424T194052Z
DTSTART;TZID=Europe/Berlin:20260309T201500
DTEND;TZID=Europe/Berlin:20260309T231500
SUMMARY:HE 6. Liga Gr. 7 Gossau Zuerich III vs Wädenswil VIII (0)
UID:126ca918-a3be-4cd1-8a77-0eed974a564c
STATUS:CONFIRMED
LAST-MODIFIED:20260313T132748Z
DESCRIPTION:6. Liga Herren Gruppe 7\nBegegnungs-Nr: 0\nHeim: Gossau Zuerich III\nGast: Wädenswil VIII\n\nAdresse: Schulstrasse\, 8624 Grüt-Gossau\n
LOCATION:Schulstrasse\, 8624 Grüt-Gossau
CATEGORIES:Saison 2025/26
END:VEVENT
BEGIN:VEVENT
DTSTAMP:20260424T194052Z
DTSTART;TZID=Europe/Berlin:20250922T200000
DTEND;TZID=Europe/Berlin:20250922T230000
SUMMARY:HE 6. Liga Gr. 7 Wolfhausen IV vs Wädenswil VIII (0)
UID:0a987e01-0b8b-44e3-b60d-7a1b854d1c3d
STATUS:CONFIRMED
LAST-MODIFIED:20250926T135403Z
DESCRIPTION:6. Liga Herren Gruppe 7\nBegegnungs-Nr: 0\nHeim: Wolfhausen IV\nGast: Wädenswil VIII\n\nAdresse: Schulstrasse 9\, 8633 Wolfhausen\n
LOCATION:Schulstrasse 9\, 8633 Wolfhausen
CATEGORIES:Saison 2025/26
END:VEVENT
BEGIN:VEVENT
DTSTAMP:20260424T194052Z
DTSTART;TZID=Europe/Berlin:20251106T200000
DTEND;TZID=Europe/Berlin:20251106T230000
SUMMARY:HE 6. Liga Gr. 7 Rapperswil-Jona IX vs Wädenswil VIII (0)
UID:f89a685e-5c36-4180-ab03-0fdb71460155
STATUS:CONFIRMED
LAST-MODIFIED:20251114T142744Z
DESCRIPTION:6. Liga Herren Gruppe 7\nBegegnungs-Nr: 0\nHeim: Rapperswil-Jona IX\nGast: Wädenswil VIII\n\nAdresse: Holzwiesstrasse 39\, 8645 Jona\n
LOCATION:Holzwiesstrasse 39\, 8645 Jona
CATEGORIES:Saison 2025/26
END:VEVENT
BEGIN:VEVENT
DTSTAMP:20260424T194052Z
DTSTART;TZID=Europe/Berlin:20251204T194500
DTEND;TZID=Europe/Berlin:20251204T224500
SUMMARY:HE 6. Liga Gr. 7 Dübendorf-Volketswil VI vs Wädenswil VIII (0)
UID:a1679e76-565a-41a7-8cdb-f28b4a682de2
STATUS:CONFIRMED
LAST-MODIFIED:20251205T131216Z
DESCRIPTION:6. Liga Herren Gruppe 7\nBegegnungs-Nr: 0\nHeim: Dübendorf-Volketswil VI\nGast: Wädenswil VIII\n\nAdresse: Wasserfurrenstrasse 7\, 8600 Dübendorf\n
LOCATION:Wasserfurrenstrasse 7\, 8600 Dübendorf
CATEGORIES:Saison 2025/26
END:VEVENT
END:VCALENDAR
