BEGIN:VCALENDAR
PRODID:-//nuDatenautomaten//framework iCal4j //DE
VERSION:2.0
CALSCALE:GREGORIAN
BEGIN:VTIMEZONE
TZID:Europe/Berlin
LAST-MODIFIED:20260306T231828Z
TZURL:https://www.tzurl.org/zoneinfo/Europe/Berlin
X-LIC-LOCATION:Europe/Berlin
X-PROLEPTIC-TZNAME:LMT
BEGIN:STANDARD
TZNAME:CET
TZOFFSETFROM:+005328
TZOFFSETTO:+0100
DTSTART:18930401T000000
END:STANDARD
BEGIN:DAYLIGHT
TZNAME:CEST
TZOFFSETFROM:+0100
TZOFFSETTO:+0200
DTSTART:19160430T230000
RDATE:19400401T020000
RDATE:19430329T020000
RDATE:19460414T020000
RDATE:19470406T030000
RDATE:19480418T020000
RDATE:19490410T020000
RDATE:19800406T020000
END:DAYLIGHT
BEGIN:STANDARD
TZNAME:CET
TZOFFSETFROM:+0200
TZOFFSETTO:+0100
DTSTART:19161001T010000
RDATE:19421102T030000
RDATE:19431004T030000
RDATE:19441002T030000
RDATE:19451118T030000
RDATE:19461007T030000
END:STANDARD
BEGIN:DAYLIGHT
TZNAME:CEST
TZOFFSETFROM:+0100
TZOFFSETTO:+0200
DTSTART:19170416T020000
RRULE:FREQ=YEARLY;UNTIL=19180415T010000Z;BYMONTH=4;BYDAY=3MO
END:DAYLIGHT
BEGIN:STANDARD
TZNAME:CET
TZOFFSETFROM:+0200
TZOFFSETTO:+0100
DTSTART:19170917T030000
RRULE:FREQ=YEARLY;UNTIL=19180916T010000Z;BYMONTH=9;BYDAY=3MO
END:STANDARD
BEGIN:DAYLIGHT
TZNAME:CEST
TZOFFSETFROM:+0100
TZOFFSETTO:+0200
DTSTART:19440403T020000
RRULE:FREQ=YEARLY;UNTIL=19450402T010000Z;BYMONTH=4;BYDAY=1MO
END:DAYLIGHT
BEGIN:DAYLIGHT
TZNAME:CEMT
TZOFFSETFROM:+0200
TZOFFSETTO:+0300
DTSTART:19450524T020000
RDATE:19470511T030000
END:DAYLIGHT
BEGIN:DAYLIGHT
TZNAME:CEST
TZOFFSETFROM:+0300
TZOFFSETTO:+0200
DTSTART:19450924T030000
RDATE:19470629T030000
END:DAYLIGHT
BEGIN:STANDARD
TZNAME:CET
TZOFFSETFROM:+0100
TZOFFSETTO:+0100
DTSTART:19460101T000000
RDATE:19800101T000000
END:STANDARD
BEGIN:STANDARD
TZNAME:CET
TZOFFSETFROM:+0200
TZOFFSETTO:+0100
DTSTART:19471005T030000
RRULE:FREQ=YEARLY;UNTIL=19491002T010000Z;BYMONTH=10;BYDAY=1SU
END:STANDARD
BEGIN:STANDARD
TZNAME:CET
TZOFFSETFROM:+0200
TZOFFSETTO:+0100
DTSTART:19800928T030000
RRULE:FREQ=YEARLY;UNTIL=19950924T010000Z;BYMONTH=9;BYDAY=-1SU
END:STANDARD
BEGIN:DAYLIGHT
TZNAME:CEST
TZOFFSETFROM:+0100
TZOFFSETTO:+0200
DTSTART:19810329T020000
RRULE:FREQ=YEARLY;BYMONTH=3;BYDAY=-1SU
END:DAYLIGHT
BEGIN:STANDARD
TZNAME:CET
TZOFFSETFROM:+0200
TZOFFSETTO:+0100
DTSTART:19961027T030000
RRULE:FREQ=YEARLY;BYMONTH=10;BYDAY=-1SU
END:STANDARD
END:VTIMEZONE
BEGIN:VEVENT
DTSTAMP:20260423T224751Z
DTSTART;TZID=Europe/Berlin:20260112T194500
DTEND;TZID=Europe/Berlin:20260112T224500
SUMMARY:O40-G1 Willisau vs Goldau (0)
UID:3acd5933-4919-4ba8-a02b-26ffaf84ba18
STATUS:CONFIRMED
LAST-MODIFIED:20260122T191810Z
DESCRIPTION:Sen O40 Gruppe 1\nBegegnungs-Nr: 0\nHeim: Willisau\nGast: Goldau\n\nAdresse: Berufsbildung-Zentrum\, 6130 Willisau\n
LOCATION:Berufsbildung-Zentrum\, 6130 Willisau
CATEGORIES:Saison 2025/26
END:VEVENT
BEGIN:VEVENT
DTSTAMP:20260423T224751Z
DTSTART;TZID=Europe/Berlin:20251124T194500
DTEND;TZID=Europe/Berlin:20251124T224500
SUMMARY:O40-G1 Willisau vs Kriens (0)
UID:548778a9-422e-422d-9fb1-55f1c5d88e64
STATUS:CONFIRMED
LAST-MODIFIED:20251125T140240Z
DESCRIPTION:Sen O40 Gruppe 1\nBegegnungs-Nr: 0\nHeim: Willisau\nGast: Kriens\n\nAdresse: Berufsbildung-Zentrum\, 6130 Willisau\n
LOCATION:Berufsbildung-Zentrum\, 6130 Willisau
CATEGORIES:Saison 2025/26
END:VEVENT
BEGIN:VEVENT
DTSTAMP:20260423T224751Z
DTSTART;TZID=Europe/Berlin:20251103T194500
DTEND;TZID=Europe/Berlin:20251103T224500
SUMMARY:O40-G1 Willisau vs Dierikon-Ebikon (0)
UID:3a868c43-7916-49b3-b6c3-199a44e28cf9
STATUS:CONFIRMED
LAST-MODIFIED:20251125T134655Z
DESCRIPTION:Sen O40 Gruppe 1\nBegegnungs-Nr: 0\nHeim: Willisau\nGast: Dierikon-Ebikon\n\nAdresse: Berufsbildung-Zentrum\, 6130 Willisau\n
LOCATION:Berufsbildung-Zentrum\, 6130 Willisau
CATEGORIES:Saison 2025/26
END:VEVENT
BEGIN:VEVENT
DTSTAMP:20260423T224751Z
DTSTART;TZID=Europe/Berlin:20250915T194500
DTEND;TZID=Europe/Berlin:20250915T224500
SUMMARY:O40-G1 Willisau vs Rapid Luzern (0)
UID:e567b1c2-c8db-41be-a831-c4eab16a54b9
STATUS:CONFIRMED
LAST-MODIFIED:20250930T053215Z
DESCRIPTION:Sen O40 Gruppe 1\nBegegnungs-Nr: 0\nHeim: Willisau\nGast: Rapid Luzern\n\nAdresse: Berufsbildung-Zentrum\, 6130 Willisau\n
LOCATION:Berufsbildung-Zentrum\, 6130 Willisau
CATEGORIES:Saison 2025/26
END:VEVENT
BEGIN:VEVENT
DTSTAMP:20260423T224751Z
DTSTART;TZID=Europe/Berlin:20260210T200000
DTEND;TZID=Europe/Berlin:20260210T230000
SUMMARY:O40-G1 Goldau II vs Willisau (0)
UID:36baea70-5c70-4d32-8550-d7a373bd0bd0
STATUS:CONFIRMED
LAST-MODIFIED:20260216T145034Z
DESCRIPTION:Sen O40 Gruppe 1\nBegegnungs-Nr: 0\nHeim: Goldau II\nGast: Willisau\n\nAdresse: Zaystrasse\, 6410 Goldau\n
LOCATION:Zaystrasse\, 6410 Goldau
CATEGORIES:Saison 2025/26
END:VEVENT
BEGIN:VEVENT
DTSTAMP:20260423T224751Z
DTSTART;TZID=Europe/Berlin:20250916T200000
DTEND;TZID=Europe/Berlin:20250916T230000
SUMMARY:O40-G1 Rothenburg vs Willisau (0)
UID:0df28149-5e22-4b83-851d-d27ea44a8c63
STATUS:CONFIRMED
LAST-MODIFIED:20250930T053250Z
DESCRIPTION:Sen O40 Gruppe 1\nBegegnungs-Nr: 0\nHeim: Rothenburg\nGast: Willisau\n\nAdresse: Schulhausstrasse 6a\, 6023 Rothenburg\n
LOCATION:Schulhausstrasse 6a\, 6023 Rothenburg
CATEGORIES:Saison 2025/26
END:VEVENT
BEGIN:VEVENT
DTSTAMP:20260423T224751Z
DTSTART;TZID=Europe/Berlin:20251021T200000
DTEND;TZID=Europe/Berlin:20251021T230000
SUMMARY:O40-G1 Reussbühl vs Willisau (0)
UID:0c95e4d6-cdfe-4ff7-add0-27ca9319295e
STATUS:CONFIRMED
LAST-MODIFIED:20251101T110407Z
DESCRIPTION:Sen O40 Gruppe 1\nBegegnungs-Nr: 0\nHeim: Reussbühl\nGast: Willisau\n\nAdresse: Obermättlistrasse 44\, 6015 Luzern\n
LOCATION:Obermättlistrasse 44\, 6015 Luzern
CATEGORIES:Saison 2025/26
END:VEVENT
END:VCALENDAR
