BEGIN:VCALENDAR
PRODID:-//nuDatenautomaten//framework iCal4j //DE
VERSION:2.0
CALSCALE:GREGORIAN
BEGIN:VTIMEZONE
TZID:Europe/Berlin
LAST-MODIFIED:20260306T231828Z
TZURL:https://www.tzurl.org/zoneinfo/Europe/Berlin
X-LIC-LOCATION:Europe/Berlin
X-PROLEPTIC-TZNAME:LMT
BEGIN:STANDARD
TZNAME:CET
TZOFFSETFROM:+005328
TZOFFSETTO:+0100
DTSTART:18930401T000000
END:STANDARD
BEGIN:DAYLIGHT
TZNAME:CEST
TZOFFSETFROM:+0100
TZOFFSETTO:+0200
DTSTART:19160430T230000
RDATE:19400401T020000
RDATE:19430329T020000
RDATE:19460414T020000
RDATE:19470406T030000
RDATE:19480418T020000
RDATE:19490410T020000
RDATE:19800406T020000
END:DAYLIGHT
BEGIN:STANDARD
TZNAME:CET
TZOFFSETFROM:+0200
TZOFFSETTO:+0100
DTSTART:19161001T010000
RDATE:19421102T030000
RDATE:19431004T030000
RDATE:19441002T030000
RDATE:19451118T030000
RDATE:19461007T030000
END:STANDARD
BEGIN:DAYLIGHT
TZNAME:CEST
TZOFFSETFROM:+0100
TZOFFSETTO:+0200
DTSTART:19170416T020000
RRULE:FREQ=YEARLY;UNTIL=19180415T010000Z;BYMONTH=4;BYDAY=3MO
END:DAYLIGHT
BEGIN:STANDARD
TZNAME:CET
TZOFFSETFROM:+0200
TZOFFSETTO:+0100
DTSTART:19170917T030000
RRULE:FREQ=YEARLY;UNTIL=19180916T010000Z;BYMONTH=9;BYDAY=3MO
END:STANDARD
BEGIN:DAYLIGHT
TZNAME:CEST
TZOFFSETFROM:+0100
TZOFFSETTO:+0200
DTSTART:19440403T020000
RRULE:FREQ=YEARLY;UNTIL=19450402T010000Z;BYMONTH=4;BYDAY=1MO
END:DAYLIGHT
BEGIN:DAYLIGHT
TZNAME:CEMT
TZOFFSETFROM:+0200
TZOFFSETTO:+0300
DTSTART:19450524T020000
RDATE:19470511T030000
END:DAYLIGHT
BEGIN:DAYLIGHT
TZNAME:CEST
TZOFFSETFROM:+0300
TZOFFSETTO:+0200
DTSTART:19450924T030000
RDATE:19470629T030000
END:DAYLIGHT
BEGIN:STANDARD
TZNAME:CET
TZOFFSETFROM:+0100
TZOFFSETTO:+0100
DTSTART:19460101T000000
RDATE:19800101T000000
END:STANDARD
BEGIN:STANDARD
TZNAME:CET
TZOFFSETFROM:+0200
TZOFFSETTO:+0100
DTSTART:19471005T030000
RRULE:FREQ=YEARLY;UNTIL=19491002T010000Z;BYMONTH=10;BYDAY=1SU
END:STANDARD
BEGIN:STANDARD
TZNAME:CET
TZOFFSETFROM:+0200
TZOFFSETTO:+0100
DTSTART:19800928T030000
RRULE:FREQ=YEARLY;UNTIL=19950924T010000Z;BYMONTH=9;BYDAY=-1SU
END:STANDARD
BEGIN:DAYLIGHT
TZNAME:CEST
TZOFFSETFROM:+0100
TZOFFSETTO:+0200
DTSTART:19810329T020000
RRULE:FREQ=YEARLY;BYMONTH=3;BYDAY=-1SU
END:DAYLIGHT
BEGIN:STANDARD
TZNAME:CET
TZOFFSETFROM:+0200
TZOFFSETTO:+0100
DTSTART:19961027T030000
RRULE:FREQ=YEARLY;BYMONTH=10;BYDAY=-1SU
END:STANDARD
END:VTIMEZONE
BEGIN:VEVENT
DTSTAMP:20260424T121307Z
DTSTART;TZID=Europe/Berlin:20251010T200000
DTEND;TZID=Europe/Berlin:20251010T230000
SUMMARY:L1P1 Entente Pongiste Neuchâteloise III vs Porrentruy (0)
UID:756f2ce6-4786-471c-b47b-5a46fd412d46
STATUS:CONFIRMED
LAST-MODIFIED:20251011T072525Z
DESCRIPTION:Ligue 1 phase 1\nBegegnungs-Nr: 0\nHeim: Entente Pongiste Neuchâteloise III\nGast: Porrentruy\n\nAdresse: Allée du 700e\, 2525 Le Landeron\n
LOCATION:Allée du 700e\, 2525 Le Landeron
CATEGORIES:Saison 2025/26
END:VEVENT
BEGIN:VEVENT
DTSTAMP:20260424T121307Z
DTSTART;TZID=Europe/Berlin:20251031T200000
DTEND;TZID=Europe/Berlin:20251031T230000
SUMMARY:L1P1 Entente Pongiste Neuchâteloise III vs Val-de-Ruz II (0)
UID:3dc7bfb4-c637-4558-8147-0bf8c2f36a02
STATUS:CONFIRMED
LAST-MODIFIED:20251101T051450Z
DESCRIPTION:Ligue 1 phase 1\nBegegnungs-Nr: 0\nHeim: Entente Pongiste Neuchâteloise III\nGast: Val-de-Ruz II\n\nAdresse: Allée du 700e\, 2525 Le Landeron\n
LOCATION:Allée du 700e\, 2525 Le Landeron
CATEGORIES:Saison 2025/26
END:VEVENT
BEGIN:VEVENT
DTSTAMP:20260424T121307Z
DTSTART;TZID=Europe/Berlin:20251212T200000
DTEND;TZID=Europe/Berlin:20251212T230000
SUMMARY:L1P1 Entente Pongiste Neuchâteloise III vs Tramelan (0)
UID:5ade76c2-5565-4444-9a79-510d2de3141c
STATUS:CONFIRMED
LAST-MODIFIED:20251218T061103Z
DESCRIPTION:Ligue 1 phase 1\nBegegnungs-Nr: 0\nHeim: Entente Pongiste Neuchâteloise III\nGast: Tramelan\n\nAdresse: Allée du 700e\, 2525 Le Landeron\n
LOCATION:Allée du 700e\, 2525 Le Landeron
CATEGORIES:Saison 2025/26
END:VEVENT
BEGIN:VEVENT
DTSTAMP:20260424T121307Z
DTSTART;TZID=Europe/Berlin:20250912T200000
DTEND;TZID=Europe/Berlin:20250912T230000
SUMMARY:L1P1 Entente Pongiste Neuchâteloise III vs Delémont II (0)
UID:f19d89c1-37e5-467f-9460-5dd37c5e84c2
STATUS:CONFIRMED
LAST-MODIFIED:20250915T071944Z
DESCRIPTION:Ligue 1 phase 1\nBegegnungs-Nr: 0\nHeim: Entente Pongiste Neuchâteloise III\nGast: Delémont II\n\nAdresse: Allée du 700e\, 2525 Le Landeron\n
LOCATION:Allée du 700e\, 2525 Le Landeron
CATEGORIES:Saison 2025/26
END:VEVENT
BEGIN:VEVENT
DTSTAMP:20260424T121307Z
DTSTART;TZID=Europe/Berlin:20260327T200000
DTEND;TZID=Europe/Berlin:20260327T230000
SUMMARY:L2P2 Entente Pongiste Neuchâteloise III vs Omega II (0)
UID:da5f71ee-d235-41d0-bf22-197e860c4b1e
STATUS:CONFIRMED
LAST-MODIFIED:20260331T150022Z
DESCRIPTION:Ligue 2 phase 2\nBegegnungs-Nr: 0\nHeim: Entente Pongiste Neuchâteloise III\nGast: Omega II\n\nAdresse: Allée du 700e\, 2525 Le Landeron\n
LOCATION:Allée du 700e\, 2525 Le Landeron
CATEGORIES:Saison 2025/26
END:VEVENT
BEGIN:VEVENT
DTSTAMP:20260424T121307Z
DTSTART;TZID=Europe/Berlin:20260313T200000
DTEND;TZID=Europe/Berlin:20260313T230000
SUMMARY:L2P2 Entente Pongiste Neuchâteloise III vs La Chaux-de-Fonds II (0)
UID:beeb8055-0d17-431e-8848-85c4f2822b9e
STATUS:CONFIRMED
LAST-MODIFIED:20260317T162052Z
DESCRIPTION:Ligue 2 phase 2\nBegegnungs-Nr: 0\nHeim: Entente Pongiste Neuchâteloise III\nGast: La Chaux-de-Fonds II\n\nAdresse: Allée du 700e\, 2525 Le Landeron\n
LOCATION:Allée du 700e\, 2525 Le Landeron
CATEGORIES:Saison 2025/26
END:VEVENT
BEGIN:VEVENT
DTSTAMP:20260424T121307Z
DTSTART;TZID=Europe/Berlin:20260424T200000
DTEND;TZID=Europe/Berlin:20260424T230000
SUMMARY:L2P2 Entente Pongiste Neuchâteloise III vs Cortaillod III (0)
UID:b39966d7-987b-4c15-90f6-20cb6a588749
STATUS:CONFIRMED
DESCRIPTION:Ligue 2 phase 2\nBegegnungs-Nr: 0\nHeim: Entente Pongiste Neuchâteloise III\nGast: Cortaillod III\n\nAdresse: Allée du 700e\, 2525 Le Landeron\n
LOCATION:Allée du 700e\, 2525 Le Landeron
CATEGORIES:Saison 2025/26
END:VEVENT
BEGIN:VEVENT
DTSTAMP:20260424T121307Z
DTSTART;TZID=Europe/Berlin:20250919T200000
DTEND;TZID=Europe/Berlin:20250919T230000
SUMMARY:L1P1 Entente Pongiste Neuchâteloise vs Entente Pongiste Neuchâteloise III (0)
UID:11533bab-9e66-4d85-aed9-51761c38561c
STATUS:CONFIRMED
LAST-MODIFIED:20250923T210123Z
DESCRIPTION:Ligue 1 phase 1\nBegegnungs-Nr: 0\nHeim: Entente Pongiste Neuchâteloise\nGast: Entente Pongiste Neuchâteloise III\n\nAdresse: Allée du 700e\, 2525 Le Landeron\n
LOCATION:Allée du 700e\, 2525 Le Landeron
CATEGORIES:Saison 2025/26
END:VEVENT
BEGIN:VEVENT
DTSTAMP:20260424T121307Z
DTSTART;TZID=Europe/Berlin:20251017T193000
DTEND;TZID=Europe/Berlin:20251017T223000
SUMMARY:L1P1 Val-de-Ruz vs Entente Pongiste Neuchâteloise III (0)
UID:ba8b4de8-02a8-405b-8a09-ffeb0a59e811
STATUS:CONFIRMED
LAST-MODIFIED:20251019T070356Z
DESCRIPTION:Ligue 1 phase 1\nBegegnungs-Nr: 0\nHeim: Val-de-Ruz\nGast: Entente Pongiste Neuchâteloise III\n\nAdresse: Rue de Chasseral 3\, 2053 Cernier\n
LOCATION:Rue de Chasseral 3\, 2053 Cernier
CATEGORIES:Saison 2025/26
END:VEVENT
BEGIN:VEVENT
DTSTAMP:20260424T121307Z
DTSTART;TZID=Europe/Berlin:20250905T200000
DTEND;TZID=Europe/Berlin:20250905T230000
SUMMARY:L1P1 Entente Pongiste Neuchâteloise II vs Entente Pongiste Neuchâteloise III (0)
UID:e55d57eb-4044-4b78-8871-e39fffd87b7f
STATUS:CONFIRMED
LAST-MODIFIED:20250910T050656Z
DESCRIPTION:Ligue 1 phase 1\nBegegnungs-Nr: 0\nHeim: Entente Pongiste Neuchâteloise II\nGast: Entente Pongiste Neuchâteloise III\n\nAdresse: Allée du 700e\, 2525 Le Landeron\n
LOCATION:Allée du 700e\, 2525 Le Landeron
CATEGORIES:Saison 2025/26
END:VEVENT
BEGIN:VEVENT
DTSTAMP:20260424T121307Z
DTSTART;TZID=Europe/Berlin:20260123T201500
DTEND;TZID=Europe/Berlin:20260123T231500
SUMMARY:L2P2 Delémont III vs Entente Pongiste Neuchâteloise III (0)
UID:4aa60ce9-1f67-456a-aa4d-97fc7ef8b60e
STATUS:CONFIRMED
LAST-MODIFIED:20260126T180346Z
DESCRIPTION:Ligue 2 phase 2\nBegegnungs-Nr: 0\nHeim: Delémont III\nGast: Entente Pongiste Neuchâteloise III\n\nAdresse: Rue de la Blancherie 4\, 2800 Delémont\n
LOCATION:Rue de la Blancherie 4\, 2800 Delémont
CATEGORIES:Saison 2025/26
END:VEVENT
BEGIN:VEVENT
DTSTAMP:20260424T121307Z
DTSTART;TZID=Europe/Berlin:20260220T200000
DTEND;TZID=Europe/Berlin:20260220T230000
SUMMARY:L2P2 Cortaillod II vs Entente Pongiste Neuchâteloise III (0)
UID:833a3f0c-df9e-477d-98c6-c2f08ff796b3
STATUS:CONFIRMED
LAST-MODIFIED:20260224T092813Z
DESCRIPTION:Ligue 2 phase 2\nBegegnungs-Nr: 0\nHeim: Cortaillod II\nGast: Entente Pongiste Neuchâteloise III\n\nAdresse: Coteaux 1\, 2016 Cortaillod\n
LOCATION:Coteaux 1\, 2016 Cortaillod
CATEGORIES:Saison 2025/26
END:VEVENT
BEGIN:VEVENT
DTSTAMP:20260424T121307Z
DTSTART;TZID=Europe/Berlin:20260227T193000
DTEND;TZID=Europe/Berlin:20260227T223000
SUMMARY:L2P2 La Chaux-de-Fonds III vs Entente Pongiste Neuchâteloise III (0)
UID:7ab0ac91-310f-485c-a8e6-12c54eb8b243
STATUS:CONFIRMED
LAST-MODIFIED:20260228T105325Z
DESCRIPTION:Ligue 2 phase 2\nBegegnungs-Nr: 0\nHeim: La Chaux-de-Fonds III\nGast: Entente Pongiste Neuchâteloise III\n\nAdresse: Rue du Docteur-Kern 14\, 2300 La Chaux-de-Fonds\n
LOCATION:Rue du Docteur-Kern 14\, 2300 La Chaux-de-Fonds
CATEGORIES:Saison 2025/26
END:VEVENT
BEGIN:VEVENT
DTSTAMP:20260424T121307Z
DTSTART;TZID=Europe/Berlin:20260506T193000
DTEND;TZID=Europe/Berlin:20260506T223000
SUMMARY:L2P2 Val-de-Ruz II vs Entente Pongiste Neuchâteloise III (0)
UID:fbc8f945-6af6-45cb-b8ce-2508bd060703
STATUS:CONFIRMED
LAST-MODIFIED:20260331T145520Z
DESCRIPTION:Ligue 2 phase 2\nBegegnungs-Nr: 0\nHeim: Val-de-Ruz II\nGast: Entente Pongiste Neuchâteloise III\n\nAdresse: Rue de Chasseral 3\, 2053 Cernier\n
LOCATION:Rue de Chasseral 3\, 2053 Cernier
CATEGORIES:Saison 2025/26
END:VEVENT
END:VCALENDAR
