BEGIN:VCALENDAR
PRODID:-//nuDatenautomaten//framework iCal4j //DE
VERSION:2.0
CALSCALE:GREGORIAN
BEGIN:VTIMEZONE
TZID:Europe/Berlin
LAST-MODIFIED:20260306T231828Z
TZURL:https://www.tzurl.org/zoneinfo/Europe/Berlin
X-LIC-LOCATION:Europe/Berlin
X-PROLEPTIC-TZNAME:LMT
BEGIN:STANDARD
TZNAME:CET
TZOFFSETFROM:+005328
TZOFFSETTO:+0100
DTSTART:18930401T000000
END:STANDARD
BEGIN:DAYLIGHT
TZNAME:CEST
TZOFFSETFROM:+0100
TZOFFSETTO:+0200
DTSTART:19160430T230000
RDATE:19400401T020000
RDATE:19430329T020000
RDATE:19460414T020000
RDATE:19470406T030000
RDATE:19480418T020000
RDATE:19490410T020000
RDATE:19800406T020000
END:DAYLIGHT
BEGIN:STANDARD
TZNAME:CET
TZOFFSETFROM:+0200
TZOFFSETTO:+0100
DTSTART:19161001T010000
RDATE:19421102T030000
RDATE:19431004T030000
RDATE:19441002T030000
RDATE:19451118T030000
RDATE:19461007T030000
END:STANDARD
BEGIN:DAYLIGHT
TZNAME:CEST
TZOFFSETFROM:+0100
TZOFFSETTO:+0200
DTSTART:19170416T020000
RRULE:FREQ=YEARLY;UNTIL=19180415T010000Z;BYMONTH=4;BYDAY=3MO
END:DAYLIGHT
BEGIN:STANDARD
TZNAME:CET
TZOFFSETFROM:+0200
TZOFFSETTO:+0100
DTSTART:19170917T030000
RRULE:FREQ=YEARLY;UNTIL=19180916T010000Z;BYMONTH=9;BYDAY=3MO
END:STANDARD
BEGIN:DAYLIGHT
TZNAME:CEST
TZOFFSETFROM:+0100
TZOFFSETTO:+0200
DTSTART:19440403T020000
RRULE:FREQ=YEARLY;UNTIL=19450402T010000Z;BYMONTH=4;BYDAY=1MO
END:DAYLIGHT
BEGIN:DAYLIGHT
TZNAME:CEMT
TZOFFSETFROM:+0200
TZOFFSETTO:+0300
DTSTART:19450524T020000
RDATE:19470511T030000
END:DAYLIGHT
BEGIN:DAYLIGHT
TZNAME:CEST
TZOFFSETFROM:+0300
TZOFFSETTO:+0200
DTSTART:19450924T030000
RDATE:19470629T030000
END:DAYLIGHT
BEGIN:STANDARD
TZNAME:CET
TZOFFSETFROM:+0100
TZOFFSETTO:+0100
DTSTART:19460101T000000
RDATE:19800101T000000
END:STANDARD
BEGIN:STANDARD
TZNAME:CET
TZOFFSETFROM:+0200
TZOFFSETTO:+0100
DTSTART:19471005T030000
RRULE:FREQ=YEARLY;UNTIL=19491002T010000Z;BYMONTH=10;BYDAY=1SU
END:STANDARD
BEGIN:STANDARD
TZNAME:CET
TZOFFSETFROM:+0200
TZOFFSETTO:+0100
DTSTART:19800928T030000
RRULE:FREQ=YEARLY;UNTIL=19950924T010000Z;BYMONTH=9;BYDAY=-1SU
END:STANDARD
BEGIN:DAYLIGHT
TZNAME:CEST
TZOFFSETFROM:+0100
TZOFFSETTO:+0200
DTSTART:19810329T020000
RRULE:FREQ=YEARLY;BYMONTH=3;BYDAY=-1SU
END:DAYLIGHT
BEGIN:STANDARD
TZNAME:CET
TZOFFSETFROM:+0200
TZOFFSETTO:+0100
DTSTART:19961027T030000
RRULE:FREQ=YEARLY;BYMONTH=10;BYDAY=-1SU
END:STANDARD
END:VTIMEZONE
BEGIN:VEVENT
DTSTAMP:20260424T135221Z
DTSTART;TZID=Europe/Berlin:20260127T201500
DTEND;TZID=Europe/Berlin:20260127T231500
SUMMARY:HE 1. Liga Bremgarten II vs Schöftland II (null)
UID:e43cfe0c-84f2-429a-8d0d-5c620c5c0be0
STATUS:CONFIRMED
LAST-MODIFIED:20260129T074155Z
DESCRIPTION:1. Liga Herren Gruppe 1\nBegegnungs-Nr: null\nHeim: Bremgarten II\nGast: Schöftland II\n\nAdresse: Badstrasse 3\, 5620 Bremgarten\n
LOCATION:Badstrasse 3\, 5620 Bremgarten
CATEGORIES:Saison 2025/26
END:VEVENT
BEGIN:VEVENT
DTSTAMP:20260424T135221Z
DTSTART;TZID=Europe/Berlin:20260324T201500
DTEND;TZID=Europe/Berlin:20260324T231500
SUMMARY:HE 1. Liga Bremgarten II vs Döttingen (null)
UID:08772fe7-766b-4f43-89b6-9e2fd0bd8475
STATUS:CONFIRMED
LAST-MODIFIED:20260420T133700Z
DESCRIPTION:1. Liga Herren Gruppe 1\nBegegnungs-Nr: null\nHeim: Bremgarten II\nGast: Döttingen\n\nAdresse: Badstrasse 3\, 5620 Bremgarten\n
LOCATION:Badstrasse 3\, 5620 Bremgarten
CATEGORIES:Saison 2025/26
END:VEVENT
BEGIN:VEVENT
DTSTAMP:20260424T135221Z
DTSTART;TZID=Europe/Berlin:20260327T201500
DTEND;TZID=Europe/Berlin:20260327T231500
SUMMARY:HE 1. Liga Bremgarten II vs Oberwil (null)
UID:0403b2d0-7593-4dbf-9ad2-f07198ddb3c9
STATUS:CONFIRMED
LAST-MODIFIED:20260416T093113Z
DESCRIPTION:1. Liga Herren Gruppe 1\nBegegnungs-Nr: null\nHeim: Bremgarten II\nGast: Oberwil\n\nAdresse: Badstrasse 3\, 5620 Bremgarten\n
LOCATION:Badstrasse 3\, 5620 Bremgarten
CATEGORIES:Saison 2025/26
END:VEVENT
BEGIN:VEVENT
DTSTAMP:20260424T135221Z
DTSTART;TZID=Europe/Berlin:20250905T201500
DTEND;TZID=Europe/Berlin:20250905T231500
SUMMARY:HE 1. Liga Bremgarten II vs Rio-Star Muttenz III (null)
UID:6f564a5e-d1b8-410e-b35c-ba824096bc05
STATUS:CONFIRMED
LAST-MODIFIED:20250911T110823Z
DESCRIPTION:1. Liga Herren Gruppe 1\nBegegnungs-Nr: null\nHeim: Bremgarten II\nGast: Rio-Star Muttenz III\n\nAdresse: Badstrasse 3\, 5620 Bremgarten\n
LOCATION:Badstrasse 3\, 5620 Bremgarten
CATEGORIES:Saison 2025/26
END:VEVENT
BEGIN:VEVENT
DTSTAMP:20260424T135221Z
DTSTART;TZID=Europe/Berlin:20251007T201500
DTEND;TZID=Europe/Berlin:20251007T231500
SUMMARY:HE 1. Liga Bremgarten II vs Aesch (null)
UID:31d2e019-0b04-4f08-8551-6213c85eb39b
STATUS:CONFIRMED
LAST-MODIFIED:20251008T102101Z
DESCRIPTION:1. Liga Herren Gruppe 1\nBegegnungs-Nr: null\nHeim: Bremgarten II\nGast: Aesch\n\nAdresse: Badstrasse 3\, 5620 Bremgarten\n
LOCATION:Badstrasse 3\, 5620 Bremgarten
CATEGORIES:Saison 2025/26
END:VEVENT
BEGIN:VEVENT
DTSTAMP:20260424T135221Z
DTSTART;TZID=Europe/Berlin:20251018T133000
DTEND;TZID=Europe/Berlin:20251018T163000
SUMMARY:HE 1. Liga Bremgarten II vs Baden-Wettingen (null)
UID:8b57f2bf-5fb4-4683-b294-a20a5d083f55
STATUS:CONFIRMED
LAST-MODIFIED:20251020T112825Z
DESCRIPTION:1. Liga Herren Gruppe 1\nBegegnungs-Nr: null\nHeim: Bremgarten II\nGast: Baden-Wettingen\n\nAdresse: Badstrasse 3\, 5620 Bremgarten\n
LOCATION:Badstrasse 3\, 5620 Bremgarten
CATEGORIES:Saison 2025/26
END:VEVENT
BEGIN:VEVENT
DTSTAMP:20260424T135221Z
DTSTART;TZID=Europe/Berlin:20251121T201500
DTEND;TZID=Europe/Berlin:20251121T231500
SUMMARY:HE 1. Liga Bremgarten II vs Olten (null)
UID:7d6f6e10-ca98-4d4c-ae85-83a018685074
STATUS:CONFIRMED
LAST-MODIFIED:20251124T082542Z
DESCRIPTION:1. Liga Herren Gruppe 1\nBegegnungs-Nr: null\nHeim: Bremgarten II\nGast: Olten\n\nAdresse: Badstrasse 3\, 5620 Bremgarten\n
LOCATION:Badstrasse 3\, 5620 Bremgarten
CATEGORIES:Saison 2025/26
END:VEVENT
BEGIN:VEVENT
DTSTAMP:20260424T135221Z
DTSTART;TZID=Europe/Berlin:20251218T193000
DTEND;TZID=Europe/Berlin:20251218T223000
SUMMARY:HE 1. Liga Rio-Star Muttenz III vs Bremgarten II (null)
UID:e5d0d2ec-90b2-4bf0-beda-7d263e0be892
STATUS:CONFIRMED
LAST-MODIFIED:20260109T073434Z
DESCRIPTION:1. Liga Herren Gruppe 1\nBegegnungs-Nr: null\nHeim: Rio-Star Muttenz III\nGast: Bremgarten II\n\nAdresse: Gründenstrasse 32\, 4132 Muttenz\n
LOCATION:Gründenstrasse 32\, 4132 Muttenz
CATEGORIES:Saison 2025/26
END:VEVENT
BEGIN:VEVENT
DTSTAMP:20260424T135221Z
DTSTART;TZID=Europe/Berlin:20260129T193000
DTEND;TZID=Europe/Berlin:20260129T223000
SUMMARY:HE 1. Liga Aesch vs Bremgarten II (null)
UID:0ef24e24-acff-4188-8ed6-0c43f0aa976d
STATUS:CONFIRMED
LAST-MODIFIED:20260130T132913Z
DESCRIPTION:1. Liga Herren Gruppe 1\nBegegnungs-Nr: null\nHeim: Aesch\nGast: Bremgarten II\n\nAdresse: Dornacherstrasse\, 4147 Aesch\n
LOCATION:Dornacherstrasse\, 4147 Aesch
CATEGORIES:Saison 2025/26
END:VEVENT
BEGIN:VEVENT
DTSTAMP:20260424T135221Z
DTSTART;TZID=Europe/Berlin:20260218T194500
DTEND;TZID=Europe/Berlin:20260218T224500
SUMMARY:HE 1. Liga Baden-Wettingen vs Bremgarten II (null)
UID:c4e07ac0-e163-442b-ad2b-4ce5652fcde4
STATUS:CONFIRMED
LAST-MODIFIED:20260220T122850Z
DESCRIPTION:1. Liga Herren Gruppe 1\nBegegnungs-Nr: null\nHeim: Baden-Wettingen\nGast: Bremgarten II\n\nAdresse: Wiesenstrasse 32 (Parkhaus Schmiede Fabrikstrasse)\, 5400 Baden\n
LOCATION:Wiesenstrasse 32 (Parkhaus Schmiede Fabrikstrasse)\, 5400 Baden
CATEGORIES:Saison 2025/26
END:VEVENT
BEGIN:VEVENT
DTSTAMP:20260424T135221Z
DTSTART;TZID=Europe/Berlin:20260311T200000
DTEND;TZID=Europe/Berlin:20260311T230000
SUMMARY:HE 1. Liga Olten vs Bremgarten II (null)
UID:6350ce26-1ac5-451c-b3cf-879594ffd4e9
STATUS:CONFIRMED
LAST-MODIFIED:20260313T124800Z
DESCRIPTION:1. Liga Herren Gruppe 1\nBegegnungs-Nr: null\nHeim: Olten\nGast: Bremgarten II\n\nAdresse: Stockackerstrasse 17\, 5013 Niedergösgen\n
LOCATION:Stockackerstrasse 17\, 5013 Niedergösgen
CATEGORIES:Saison 2025/26
END:VEVENT
BEGIN:VEVENT
DTSTAMP:20260424T135221Z
DTSTART;TZID=Europe/Berlin:20250818T200000
DTEND;TZID=Europe/Berlin:20250818T230000
SUMMARY:HE 1. Liga Schöftland II vs Bremgarten II (null)
UID:e32a73e3-f9d7-4df9-85f8-6ea171053f69
STATUS:CONFIRMED
LAST-MODIFIED:20250825T064741Z
DESCRIPTION:1. Liga Herren Gruppe 1\nBegegnungs-Nr: null\nHeim: Schöftland II\nGast: Bremgarten II\n\nAdresse: Birkenweg\, 5040 Schöftland\n
LOCATION:Birkenweg\, 5040 Schöftland
CATEGORIES:Saison 2025/26
END:VEVENT
BEGIN:VEVENT
DTSTAMP:20260424T135221Z
DTSTART;TZID=Europe/Berlin:20260116T194500
DTEND;TZID=Europe/Berlin:20260116T224500
SUMMARY:HE 1. Liga Oberwil vs Bremgarten II (null)
UID:4fd2e918-bb49-459a-b5bb-f0106b3c314b
STATUS:CONFIRMED
LAST-MODIFIED:20260123T080727Z
DESCRIPTION:1. Liga Herren Gruppe 1\nBegegnungs-Nr: null\nHeim: Oberwil\nGast: Bremgarten II\n\nAdresse: Schulstrasse\, 4104 Oberwil\n
LOCATION:Schulstrasse\, 4104 Oberwil
CATEGORIES:Saison 2025/26
END:VEVENT
BEGIN:VEVENT
DTSTAMP:20260424T135221Z
DTSTART;TZID=Europe/Berlin:20251029T201500
DTEND;TZID=Europe/Berlin:20251029T231500
SUMMARY:HE 1. Liga Döttingen vs Bremgarten II (null)
UID:e31938d8-6dc4-4028-9dfd-64654036f938
STATUS:CONFIRMED
LAST-MODIFIED:20251031T143030Z
DESCRIPTION:1. Liga Herren Gruppe 1\nBegegnungs-Nr: null\nHeim: Döttingen\nGast: Bremgarten II\n\nAdresse: Im Bogen\, Chilbert 25\, 5312 Döttingen\n
LOCATION:Im Bogen\, Chilbert 25\, 5312 Döttingen
CATEGORIES:Saison 2025/26
END:VEVENT
END:VCALENDAR
