BEGIN:VCALENDAR
PRODID:-//nuDatenautomaten//framework iCal4j //DE
VERSION:2.0
CALSCALE:GREGORIAN
BEGIN:VTIMEZONE
TZID:Europe/Berlin
LAST-MODIFIED:20260306T231828Z
TZURL:https://www.tzurl.org/zoneinfo/Europe/Berlin
X-LIC-LOCATION:Europe/Berlin
X-PROLEPTIC-TZNAME:LMT
BEGIN:STANDARD
TZNAME:CET
TZOFFSETFROM:+005328
TZOFFSETTO:+0100
DTSTART:18930401T000000
END:STANDARD
BEGIN:DAYLIGHT
TZNAME:CEST
TZOFFSETFROM:+0100
TZOFFSETTO:+0200
DTSTART:19160430T230000
RDATE:19400401T020000
RDATE:19430329T020000
RDATE:19460414T020000
RDATE:19470406T030000
RDATE:19480418T020000
RDATE:19490410T020000
RDATE:19800406T020000
END:DAYLIGHT
BEGIN:STANDARD
TZNAME:CET
TZOFFSETFROM:+0200
TZOFFSETTO:+0100
DTSTART:19161001T010000
RDATE:19421102T030000
RDATE:19431004T030000
RDATE:19441002T030000
RDATE:19451118T030000
RDATE:19461007T030000
END:STANDARD
BEGIN:DAYLIGHT
TZNAME:CEST
TZOFFSETFROM:+0100
TZOFFSETTO:+0200
DTSTART:19170416T020000
RRULE:FREQ=YEARLY;UNTIL=19180415T010000Z;BYMONTH=4;BYDAY=3MO
END:DAYLIGHT
BEGIN:STANDARD
TZNAME:CET
TZOFFSETFROM:+0200
TZOFFSETTO:+0100
DTSTART:19170917T030000
RRULE:FREQ=YEARLY;UNTIL=19180916T010000Z;BYMONTH=9;BYDAY=3MO
END:STANDARD
BEGIN:DAYLIGHT
TZNAME:CEST
TZOFFSETFROM:+0100
TZOFFSETTO:+0200
DTSTART:19440403T020000
RRULE:FREQ=YEARLY;UNTIL=19450402T010000Z;BYMONTH=4;BYDAY=1MO
END:DAYLIGHT
BEGIN:DAYLIGHT
TZNAME:CEMT
TZOFFSETFROM:+0200
TZOFFSETTO:+0300
DTSTART:19450524T020000
RDATE:19470511T030000
END:DAYLIGHT
BEGIN:DAYLIGHT
TZNAME:CEST
TZOFFSETFROM:+0300
TZOFFSETTO:+0200
DTSTART:19450924T030000
RDATE:19470629T030000
END:DAYLIGHT
BEGIN:STANDARD
TZNAME:CET
TZOFFSETFROM:+0100
TZOFFSETTO:+0100
DTSTART:19460101T000000
RDATE:19800101T000000
END:STANDARD
BEGIN:STANDARD
TZNAME:CET
TZOFFSETFROM:+0200
TZOFFSETTO:+0100
DTSTART:19471005T030000
RRULE:FREQ=YEARLY;UNTIL=19491002T010000Z;BYMONTH=10;BYDAY=1SU
END:STANDARD
BEGIN:STANDARD
TZNAME:CET
TZOFFSETFROM:+0200
TZOFFSETTO:+0100
DTSTART:19800928T030000
RRULE:FREQ=YEARLY;UNTIL=19950924T010000Z;BYMONTH=9;BYDAY=-1SU
END:STANDARD
BEGIN:DAYLIGHT
TZNAME:CEST
TZOFFSETFROM:+0100
TZOFFSETTO:+0200
DTSTART:19810329T020000
RRULE:FREQ=YEARLY;BYMONTH=3;BYDAY=-1SU
END:DAYLIGHT
BEGIN:STANDARD
TZNAME:CET
TZOFFSETFROM:+0200
TZOFFSETTO:+0100
DTSTART:19961027T030000
RRULE:FREQ=YEARLY;BYMONTH=10;BYDAY=-1SU
END:STANDARD
END:VTIMEZONE
BEGIN:VEVENT
DTSTAMP:20260424T122854Z
DTSTART;TZID=Europe/Berlin:20250919T193000
DTEND;TZID=Europe/Berlin:20250919T223000
SUMMARY:L2P1 La Chaux-de-Fonds III vs Moutier (0)
UID:ae47344b-6752-46f3-99cf-72f177807852
STATUS:CONFIRMED
LAST-MODIFIED:20250923T210206Z
DESCRIPTION:Ligue 2 phase 1\nBegegnungs-Nr: 0\nHeim: La Chaux-de-Fonds III\nGast: Moutier\n\nAdresse: Rue du Docteur-Kern 14\, 2300 La Chaux-de-Fonds\n
LOCATION:Rue du Docteur-Kern 14\, 2300 La Chaux-de-Fonds
CATEGORIES:Saison 2025/26
END:VEVENT
BEGIN:VEVENT
DTSTAMP:20260424T122854Z
DTSTART;TZID=Europe/Berlin:20251024T193000
DTEND;TZID=Europe/Berlin:20251024T223000
SUMMARY:L2P1 La Chaux-de-Fonds III vs Le Locle (0)
UID:ab454dd1-39a9-43d2-86d6-e138cc4fcd80
STATUS:CONFIRMED
LAST-MODIFIED:20251027T182231Z
DESCRIPTION:Ligue 2 phase 1\nBegegnungs-Nr: 0\nHeim: La Chaux-de-Fonds III\nGast: Le Locle\n\nAdresse: Rue du Docteur-Kern 14\, 2300 La Chaux-de-Fonds\n
LOCATION:Rue du Docteur-Kern 14\, 2300 La Chaux-de-Fonds
CATEGORIES:Saison 2025/26
END:VEVENT
BEGIN:VEVENT
DTSTAMP:20260424T122854Z
DTSTART;TZID=Europe/Berlin:20251031T193000
DTEND;TZID=Europe/Berlin:20251031T223000
SUMMARY:L2P1 La Chaux-de-Fonds III vs Cortaillod III (0)
UID:682d6412-e002-4e22-ab18-0af3ebaeb5cd
STATUS:CONFIRMED
LAST-MODIFIED:20251101T051515Z
DESCRIPTION:Ligue 2 phase 1\nBegegnungs-Nr: 0\nHeim: La Chaux-de-Fonds III\nGast: Cortaillod III\n\nAdresse: Rue du Docteur-Kern 14\, 2300 La Chaux-de-Fonds\n
LOCATION:Rue du Docteur-Kern 14\, 2300 La Chaux-de-Fonds
CATEGORIES:Saison 2025/26
END:VEVENT
BEGIN:VEVENT
DTSTAMP:20260424T122854Z
DTSTART;TZID=Europe/Berlin:20251205T193000
DTEND;TZID=Europe/Berlin:20251205T223000
SUMMARY:L2P1 La Chaux-de-Fonds III vs Tramelan II (0)
UID:7c665da4-3128-452b-a1a9-a9c455a26157
STATUS:CONFIRMED
LAST-MODIFIED:20251209T075159Z
DESCRIPTION:Ligue 2 phase 1\nBegegnungs-Nr: 0\nHeim: La Chaux-de-Fonds III\nGast: Tramelan II\n\nAdresse: Rue du Docteur-Kern 14\, 2300 La Chaux-de-Fonds\n
LOCATION:Rue du Docteur-Kern 14\, 2300 La Chaux-de-Fonds
CATEGORIES:Saison 2025/26
END:VEVENT
BEGIN:VEVENT
DTSTAMP:20260424T122854Z
DTSTART;TZID=Europe/Berlin:20260206T193000
DTEND;TZID=Europe/Berlin:20260206T223000
SUMMARY:L2P2 La Chaux-de-Fonds III vs Cortaillod II (0)
UID:d8a3ae4a-889c-4faa-bbe2-a610e49b8380
STATUS:CONFIRMED
LAST-MODIFIED:20260216T161923Z
DESCRIPTION:Ligue 2 phase 2\nBegegnungs-Nr: 0\nHeim: La Chaux-de-Fonds III\nGast: Cortaillod II\n\nAdresse: Rue du Docteur-Kern 14\, 2300 La Chaux-de-Fonds\n
LOCATION:Rue du Docteur-Kern 14\, 2300 La Chaux-de-Fonds
CATEGORIES:Saison 2025/26
END:VEVENT
BEGIN:VEVENT
DTSTAMP:20260424T122854Z
DTSTART;TZID=Europe/Berlin:20260313T193000
DTEND;TZID=Europe/Berlin:20260313T223000
SUMMARY:L2P2 La Chaux-de-Fonds III vs Delémont III (0)
UID:427aa3cb-13b4-465f-8c88-8696c058a151
STATUS:CONFIRMED
LAST-MODIFIED:20260317T162022Z
DESCRIPTION:Ligue 2 phase 2\nBegegnungs-Nr: 0\nHeim: La Chaux-de-Fonds III\nGast: Delémont III\n\nAdresse: Rue du Docteur-Kern 14\, 2300 La Chaux-de-Fonds\n
LOCATION:Rue du Docteur-Kern 14\, 2300 La Chaux-de-Fonds
CATEGORIES:Saison 2025/26
END:VEVENT
BEGIN:VEVENT
DTSTAMP:20260424T122854Z
DTSTART;TZID=Europe/Berlin:20260227T193000
DTEND;TZID=Europe/Berlin:20260227T223000
SUMMARY:L2P2 La Chaux-de-Fonds III vs Entente Pongiste Neuchâteloise III (0)
UID:7ab0ac91-310f-485c-a8e6-12c54eb8b243
STATUS:CONFIRMED
LAST-MODIFIED:20260228T105325Z
DESCRIPTION:Ligue 2 phase 2\nBegegnungs-Nr: 0\nHeim: La Chaux-de-Fonds III\nGast: Entente Pongiste Neuchâteloise III\n\nAdresse: Rue du Docteur-Kern 14\, 2300 La Chaux-de-Fonds\n
LOCATION:Rue du Docteur-Kern 14\, 2300 La Chaux-de-Fonds
CATEGORIES:Saison 2025/26
END:VEVENT
BEGIN:VEVENT
DTSTAMP:20260424T122854Z
DTSTART;TZID=Europe/Berlin:20260508T193000
DTEND;TZID=Europe/Berlin:20260508T223000
SUMMARY:L2P2 La Chaux-de-Fonds III vs Cortaillod III (0)
UID:710bc540-9db8-46dd-94cb-6046e732e004
STATUS:CONFIRMED
DESCRIPTION:Ligue 2 phase 2\nBegegnungs-Nr: 0\nHeim: La Chaux-de-Fonds III\nGast: Cortaillod III\n\nAdresse: Rue du Docteur-Kern 14\, 2300 La Chaux-de-Fonds\n
LOCATION:Rue du Docteur-Kern 14\, 2300 La Chaux-de-Fonds
CATEGORIES:Saison 2025/26
END:VEVENT
BEGIN:VEVENT
DTSTAMP:20260424T122854Z
DTSTART;TZID=Europe/Berlin:20250912T200000
DTEND;TZID=Europe/Berlin:20250912T230000
SUMMARY:L2P1 Cortaillod II vs La Chaux-de-Fonds III (0)
UID:4134cc8b-c1ad-4497-a8eb-639c597e61f4
STATUS:CONFIRMED
LAST-MODIFIED:20250915T072016Z
DESCRIPTION:Ligue 2 phase 1\nBegegnungs-Nr: 0\nHeim: Cortaillod II\nGast: La Chaux-de-Fonds III\n\nAdresse: Coteaux 1\, 2016 Cortaillod\n
LOCATION:Coteaux 1\, 2016 Cortaillod
CATEGORIES:Saison 2025/26
END:VEVENT
BEGIN:VEVENT
DTSTAMP:20260424T122854Z
DTSTART;TZID=Europe/Berlin:20250929T193000
DTEND;TZID=Europe/Berlin:20250929T223000
SUMMARY:L2P1 Omega vs La Chaux-de-Fonds III (0)
UID:54573e3b-9de3-490b-9faf-20717b027474
STATUS:CONFIRMED
LAST-MODIFIED:20250930T150946Z
DESCRIPTION:Ligue 2 phase 1\nBegegnungs-Nr: 0\nHeim: Omega\nGast: La Chaux-de-Fonds III\n\nAdresse: Tennisweg 1\, 2504 Biel-Bienne\n
LOCATION:Tennisweg 1\, 2504 Biel-Bienne
CATEGORIES:Saison 2025/26
END:VEVENT
BEGIN:VEVENT
DTSTAMP:20260424T122854Z
DTSTART;TZID=Europe/Berlin:20250905T193000
DTEND;TZID=Europe/Berlin:20250905T223000
SUMMARY:L2P1 La Chaux-de-Fonds II vs La Chaux-de-Fonds III (0)
UID:949d3034-24ed-4ab3-b9fd-8b797da11069
STATUS:CONFIRMED
LAST-MODIFIED:20250910T050719Z
DESCRIPTION:Ligue 2 phase 1\nBegegnungs-Nr: 0\nHeim: La Chaux-de-Fonds II\nGast: La Chaux-de-Fonds III\n\nAdresse: Rue du Docteur-Kern 14\, 2300 La Chaux-de-Fonds\n
LOCATION:Rue du Docteur-Kern 14\, 2300 La Chaux-de-Fonds
CATEGORIES:Saison 2025/26
END:VEVENT
BEGIN:VEVENT
DTSTAMP:20260424T122854Z
DTSTART;TZID=Europe/Berlin:20260218T193000
DTEND;TZID=Europe/Berlin:20260218T223000
SUMMARY:L2P2 Omega II vs La Chaux-de-Fonds III (0)
UID:666d7ae3-0bda-4785-b554-ec5bd46717aa
STATUS:CONFIRMED
LAST-MODIFIED:20260221T074136Z
DESCRIPTION:Ligue 2 phase 2\nBegegnungs-Nr: 0\nHeim: Omega II\nGast: La Chaux-de-Fonds III\n\nAdresse: Tennisweg 1\, 2504 Biel-Bienne\n
LOCATION:Tennisweg 1\, 2504 Biel-Bienne
CATEGORIES:Saison 2025/26
END:VEVENT
BEGIN:VEVENT
DTSTAMP:20260424T122854Z
DTSTART;TZID=Europe/Berlin:20260123T193000
DTEND;TZID=Europe/Berlin:20260123T223000
SUMMARY:L2P2 La Chaux-de-Fonds II vs La Chaux-de-Fonds III (0)
UID:cb106756-8fe7-4b6c-8c14-e4cf5ad252e4
STATUS:CONFIRMED
LAST-MODIFIED:20260126T180314Z
DESCRIPTION:Ligue 2 phase 2\nBegegnungs-Nr: 0\nHeim: La Chaux-de-Fonds II\nGast: La Chaux-de-Fonds III\n\nAdresse: Rue du Docteur-Kern 14\, 2300 La Chaux-de-Fonds\n
LOCATION:Rue du Docteur-Kern 14\, 2300 La Chaux-de-Fonds
CATEGORIES:Saison 2025/26
END:VEVENT
BEGIN:VEVENT
DTSTAMP:20260424T122854Z
DTSTART;TZID=Europe/Berlin:20260422T193000
DTEND;TZID=Europe/Berlin:20260422T223000
SUMMARY:L2P2 Val-de-Ruz II vs La Chaux-de-Fonds III (0)
UID:d2de70b7-f0ec-4390-8157-48f2f4e01c39
STATUS:CONFIRMED
DESCRIPTION:Ligue 2 phase 2\nBegegnungs-Nr: 0\nHeim: Val-de-Ruz II\nGast: La Chaux-de-Fonds III\n\nAdresse: Rue de Chasseral 3\, 2053 Cernier\n
LOCATION:Rue de Chasseral 3\, 2053 Cernier
CATEGORIES:Saison 2025/26
END:VEVENT
END:VCALENDAR
