BEGIN:VCALENDAR
PRODID:-//nuDatenautomaten//framework iCal4j //DE
VERSION:2.0
CALSCALE:GREGORIAN
BEGIN:VTIMEZONE
TZID:Europe/Berlin
LAST-MODIFIED:20260306T231828Z
TZURL:https://www.tzurl.org/zoneinfo/Europe/Berlin
X-LIC-LOCATION:Europe/Berlin
X-PROLEPTIC-TZNAME:LMT
BEGIN:STANDARD
TZNAME:CET
TZOFFSETFROM:+005328
TZOFFSETTO:+0100
DTSTART:18930401T000000
END:STANDARD
BEGIN:DAYLIGHT
TZNAME:CEST
TZOFFSETFROM:+0100
TZOFFSETTO:+0200
DTSTART:19160430T230000
RDATE:19400401T020000
RDATE:19430329T020000
RDATE:19460414T020000
RDATE:19470406T030000
RDATE:19480418T020000
RDATE:19490410T020000
RDATE:19800406T020000
END:DAYLIGHT
BEGIN:STANDARD
TZNAME:CET
TZOFFSETFROM:+0200
TZOFFSETTO:+0100
DTSTART:19161001T010000
RDATE:19421102T030000
RDATE:19431004T030000
RDATE:19441002T030000
RDATE:19451118T030000
RDATE:19461007T030000
END:STANDARD
BEGIN:DAYLIGHT
TZNAME:CEST
TZOFFSETFROM:+0100
TZOFFSETTO:+0200
DTSTART:19170416T020000
RRULE:FREQ=YEARLY;UNTIL=19180415T010000Z;BYMONTH=4;BYDAY=3MO
END:DAYLIGHT
BEGIN:STANDARD
TZNAME:CET
TZOFFSETFROM:+0200
TZOFFSETTO:+0100
DTSTART:19170917T030000
RRULE:FREQ=YEARLY;UNTIL=19180916T010000Z;BYMONTH=9;BYDAY=3MO
END:STANDARD
BEGIN:DAYLIGHT
TZNAME:CEST
TZOFFSETFROM:+0100
TZOFFSETTO:+0200
DTSTART:19440403T020000
RRULE:FREQ=YEARLY;UNTIL=19450402T010000Z;BYMONTH=4;BYDAY=1MO
END:DAYLIGHT
BEGIN:DAYLIGHT
TZNAME:CEMT
TZOFFSETFROM:+0200
TZOFFSETTO:+0300
DTSTART:19450524T020000
RDATE:19470511T030000
END:DAYLIGHT
BEGIN:DAYLIGHT
TZNAME:CEST
TZOFFSETFROM:+0300
TZOFFSETTO:+0200
DTSTART:19450924T030000
RDATE:19470629T030000
END:DAYLIGHT
BEGIN:STANDARD
TZNAME:CET
TZOFFSETFROM:+0100
TZOFFSETTO:+0100
DTSTART:19460101T000000
RDATE:19800101T000000
END:STANDARD
BEGIN:STANDARD
TZNAME:CET
TZOFFSETFROM:+0200
TZOFFSETTO:+0100
DTSTART:19471005T030000
RRULE:FREQ=YEARLY;UNTIL=19491002T010000Z;BYMONTH=10;BYDAY=1SU
END:STANDARD
BEGIN:STANDARD
TZNAME:CET
TZOFFSETFROM:+0200
TZOFFSETTO:+0100
DTSTART:19800928T030000
RRULE:FREQ=YEARLY;UNTIL=19950924T010000Z;BYMONTH=9;BYDAY=-1SU
END:STANDARD
BEGIN:DAYLIGHT
TZNAME:CEST
TZOFFSETFROM:+0100
TZOFFSETTO:+0200
DTSTART:19810329T020000
RRULE:FREQ=YEARLY;BYMONTH=3;BYDAY=-1SU
END:DAYLIGHT
BEGIN:STANDARD
TZNAME:CET
TZOFFSETFROM:+0200
TZOFFSETTO:+0100
DTSTART:19961027T030000
RRULE:FREQ=YEARLY;BYMONTH=10;BYDAY=-1SU
END:STANDARD
END:VTIMEZONE
BEGIN:VEVENT
DTSTAMP:20260424T115245Z
DTSTART;TZID=Europe/Berlin:20250923T190000
DTEND;TZID=Europe/Berlin:20250923T220000
SUMMARY:ME L2 Gr 1\, Tours 1&2 Sion vs Martigny II (0)
UID:98eb0a30-c481-4261-883a-b366939767d8
STATUS:CONFIRMED
LAST-MODIFIED:20250925T100016Z
DESCRIPTION:2ème ligue Hommes Groupe 1\, Tours 1&2\nBegegnungs-Nr: 0\nHeim: Sion\nGast: Martigny II\n\nAdresse: Rue du Chanoine-Berchtold 17\, 1950 Sion\n
LOCATION:Rue du Chanoine-Berchtold 17\, 1950 Sion
CATEGORIES:Saison 2025/26
END:VEVENT
BEGIN:VEVENT
DTSTAMP:20260424T115245Z
DTSTART;TZID=Europe/Berlin:20251003T190000
DTEND;TZID=Europe/Berlin:20251003T220000
SUMMARY:ME L2 Gr 1\, Tours 1&2 Sion vs Sierre III (0)
UID:f2d9fc5e-eb51-456b-96ab-a35d792a5ea0
STATUS:CONFIRMED
LAST-MODIFIED:20251005T092321Z
DESCRIPTION:2ème ligue Hommes Groupe 1\, Tours 1&2\nBegegnungs-Nr: 0\nHeim: Sion\nGast: Sierre III\n\nAdresse: Rue du Chanoine-Berchtold 17\, 1950 Sion\n
LOCATION:Rue du Chanoine-Berchtold 17\, 1950 Sion
CATEGORIES:Saison 2025/26
END:VEVENT
BEGIN:VEVENT
DTSTAMP:20260424T115245Z
DTSTART;TZID=Europe/Berlin:20251031T190000
DTEND;TZID=Europe/Berlin:20251031T220000
SUMMARY:ME L2 Gr 1\, Tours 1&2 Sion vs Collombey/Muraz II (0)
UID:b5d4e876-d8c7-483f-8cd2-1c1ba6436315
STATUS:CONFIRMED
LAST-MODIFIED:20251101T153749Z
DESCRIPTION:2ème ligue Hommes Groupe 1\, Tours 1&2\nBegegnungs-Nr: 0\nHeim: Sion\nGast: Collombey/Muraz II\n\nAdresse: Rue du Chanoine-Berchtold 17\, 1950 Sion\n
LOCATION:Rue du Chanoine-Berchtold 17\, 1950 Sion
CATEGORIES:Saison 2025/26
END:VEVENT
BEGIN:VEVENT
DTSTAMP:20260424T115245Z
DTSTART;TZID=Europe/Berlin:20251119T190000
DTEND;TZID=Europe/Berlin:20251119T220000
SUMMARY:ME L2 Gr 1\, Tours 1&2 Sion vs Lausanne IV (0)
UID:e544dd86-7fd9-4d99-8e85-922083f94007
STATUS:CONFIRMED
LAST-MODIFIED:20251120T094424Z
DESCRIPTION:2ème ligue Hommes Groupe 1\, Tours 1&2\nBegegnungs-Nr: 0\nHeim: Sion\nGast: Lausanne IV\n\nAdresse: Rue du Chanoine-Berchtold 17\, 1950 Sion\n
LOCATION:Rue du Chanoine-Berchtold 17\, 1950 Sion
CATEGORIES:Saison 2025/26
END:VEVENT
BEGIN:VEVENT
DTSTAMP:20260424T115245Z
DTSTART;TZID=Europe/Berlin:20251114T190000
DTEND;TZID=Europe/Berlin:20251114T220000
SUMMARY:ME L2 Gr 1\, Tours 1&2 Sion vs Yvorne (0)
UID:7aa1ba6b-61d0-4a74-a64f-e917d48b6095
STATUS:CONFIRMED
LAST-MODIFIED:20251116T123607Z
DESCRIPTION:2ème ligue Hommes Groupe 1\, Tours 1&2\nBegegnungs-Nr: 0\nHeim: Sion\nGast: Yvorne\n\nAdresse: Rue du Chanoine-Berchtold 17\, 1950 Sion\n
LOCATION:Rue du Chanoine-Berchtold 17\, 1950 Sion
CATEGORIES:Saison 2025/26
END:VEVENT
BEGIN:VEVENT
DTSTAMP:20260424T115245Z
DTSTART;TZID=Europe/Berlin:20260116T190000
DTEND;TZID=Europe/Berlin:20260116T220000
SUMMARY:ME L2 Gr 1\, Tours 3&4 Sion vs Fribourg II (0)
UID:3cdebb88-d7c1-4ff4-aa8a-9a9d376376b8
STATUS:CONFIRMED
LAST-MODIFIED:20260118T114250Z
DESCRIPTION:2ème ligue Hommes Groupe 1\, Tours 3&4\nBegegnungs-Nr: 0\nHeim: Sion\nGast: Fribourg II\n\nAdresse: Rue du Chanoine-Berchtold 17\, 1950 Sion\n
LOCATION:Rue du Chanoine-Berchtold 17\, 1950 Sion
CATEGORIES:Saison 2025/26
END:VEVENT
BEGIN:VEVENT
DTSTAMP:20260424T115245Z
DTSTART;TZID=Europe/Berlin:20260206T190000
DTEND;TZID=Europe/Berlin:20260206T220000
SUMMARY:ME L2 Gr 1\, Tours 3&4 Sion vs Grône (0)
UID:eb578629-5d8f-47cc-95fd-8ca1005e49c6
STATUS:CONFIRMED
LAST-MODIFIED:20260207T152834Z
DESCRIPTION:2ème ligue Hommes Groupe 1\, Tours 3&4\nBegegnungs-Nr: 0\nHeim: Sion\nGast: Grône\n\nAdresse: Rue du Chanoine-Berchtold 17\, 1950 Sion\n
LOCATION:Rue du Chanoine-Berchtold 17\, 1950 Sion
CATEGORIES:Saison 2025/26
END:VEVENT
BEGIN:VEVENT
DTSTAMP:20260424T115245Z
DTSTART;TZID=Europe/Berlin:20260324T190000
DTEND;TZID=Europe/Berlin:20260324T220000
SUMMARY:ME L2 Gr 1\, Tours 3&4 Sion vs Martigny II (0)
UID:618b521d-1eac-4437-8b8e-9775c8e53aef
STATUS:CONFIRMED
LAST-MODIFIED:20260325T204742Z
DESCRIPTION:2ème ligue Hommes Groupe 1\, Tours 3&4\nBegegnungs-Nr: 0\nHeim: Sion\nGast: Martigny II\n\nAdresse: Rue du Chanoine-Berchtold 17\, 1950 Sion\n
LOCATION:Rue du Chanoine-Berchtold 17\, 1950 Sion
CATEGORIES:Saison 2025/26
END:VEVENT
BEGIN:VEVENT
DTSTAMP:20260424T115245Z
DTSTART;TZID=Europe/Berlin:20260424T190000
DTEND;TZID=Europe/Berlin:20260424T220000
SUMMARY:ME L2 Gr 1\, Tours 3&4 Sion vs Collombey/Muraz II (0)
UID:bb2d9531-d6f9-4256-9924-7c49f3fbafc3
STATUS:CONFIRMED
DESCRIPTION:2ème ligue Hommes Groupe 1\, Tours 3&4\nBegegnungs-Nr: 0\nHeim: Sion\nGast: Collombey/Muraz II\n\nAdresse: Rue du Chanoine-Berchtold 17\, 1950 Sion\n
LOCATION:Rue du Chanoine-Berchtold 17\, 1950 Sion
CATEGORIES:Saison 2025/26
END:VEVENT
BEGIN:VEVENT
DTSTAMP:20260424T115245Z
DTSTART;TZID=Europe/Berlin:20260501T190000
DTEND;TZID=Europe/Berlin:20260501T220000
SUMMARY:ME L2 Gr 1\, Tours 3&4 Sion vs Bulle III (0)
UID:6a282f87-fe3e-4a96-adf4-bff25acd5077
STATUS:CONFIRMED
DESCRIPTION:2ème ligue Hommes Groupe 1\, Tours 3&4\nBegegnungs-Nr: 0\nHeim: Sion\nGast: Bulle III\n\nAdresse: Rue du Chanoine-Berchtold 17\, 1950 Sion\n
LOCATION:Rue du Chanoine-Berchtold 17\, 1950 Sion
CATEGORIES:Saison 2025/26
END:VEVENT
BEGIN:VEVENT
DTSTAMP:20260424T115245Z
DTSTART;TZID=Europe/Berlin:20250901T193000
DTEND;TZID=Europe/Berlin:20250901T223000
SUMMARY:ME L2 Gr 1\, Tours 1&2 Collombey/Muraz II vs Sion (0)
UID:6400c28c-5658-4da6-ab54-b9c88e1ded24
STATUS:CONFIRMED
LAST-MODIFIED:20250901T210555Z
DESCRIPTION:2ème ligue Hommes Groupe 1\, Tours 1&2\nBegegnungs-Nr: 0\nHeim: Collombey/Muraz II\nGast: Sion\n\nAdresse: Route du Montagnier 81\, 1868 Collombey\n
LOCATION:Route du Montagnier 81\, 1868 Collombey
CATEGORIES:Saison 2025/26
END:VEVENT
BEGIN:VEVENT
DTSTAMP:20260424T115245Z
DTSTART;TZID=Europe/Berlin:20250918T200000
DTEND;TZID=Europe/Berlin:20250918T230000
SUMMARY:ME L2 Gr 1\, Tours 1&2 Lausanne IV vs Sion (0)
UID:5661be05-7ef2-4420-948a-6bbcdf211d25
STATUS:CONFIRMED
LAST-MODIFIED:20250925T094106Z
DESCRIPTION:2ème ligue Hommes Groupe 1\, Tours 1&2\nBegegnungs-Nr: 0\nHeim: Lausanne IV\nGast: Sion\n\nAdresse: Vaudoise Aréna\, Ch. du Viaduc 14\, 1008 Prilly\n
LOCATION:Vaudoise Aréna\, Ch. du Viaduc 14\, 1008 Prilly
CATEGORIES:Saison 2025/26
END:VEVENT
BEGIN:VEVENT
DTSTAMP:20260424T115245Z
DTSTART;TZID=Europe/Berlin:20251008T194500
DTEND;TZID=Europe/Berlin:20251008T224500
SUMMARY:ME L2 Gr 1\, Tours 1&2 Yvorne vs Sion (0)
UID:685ef625-b653-41bc-a0a6-0e11c8e57de9
STATUS:CONFIRMED
LAST-MODIFIED:20251009T102921Z
DESCRIPTION:2ème ligue Hommes Groupe 1\, Tours 1&2\nBegegnungs-Nr: 0\nHeim: Yvorne\nGast: Sion\n\nAdresse: Les Maisons Neuves 38\, 1853 Yvorne\n
LOCATION:Les Maisons Neuves 38\, 1853 Yvorne
CATEGORIES:Saison 2025/26
END:VEVENT
BEGIN:VEVENT
DTSTAMP:20260424T115245Z
DTSTART;TZID=Europe/Berlin:20251106T200000
DTEND;TZID=Europe/Berlin:20251106T230000
SUMMARY:ME L2 Gr 1\, Tours 1&2 Martigny II vs Sion (0)
UID:2f546619-abfc-4481-a685-21dda52aee73
STATUS:CONFIRMED
LAST-MODIFIED:20251109T122329Z
DESCRIPTION:2ème ligue Hommes Groupe 1\, Tours 1&2\nBegegnungs-Nr: 0\nHeim: Martigny II\nGast: Sion\n\nAdresse: Rue des Ecoles 9\, 1920 Martigny\n
LOCATION:Rue des Ecoles 9\, 1920 Martigny
CATEGORIES:Saison 2025/26
END:VEVENT
BEGIN:VEVENT
DTSTAMP:20260424T115245Z
DTSTART;TZID=Europe/Berlin:20251124T194500
DTEND;TZID=Europe/Berlin:20251124T224500
SUMMARY:ME L2 Gr 1\, Tours 1&2 Sierre III vs Sion (0)
UID:bb17269b-c437-44c1-a38e-372f85c1a5b8
STATUS:CONFIRMED
LAST-MODIFIED:20251125T150451Z
DESCRIPTION:2ème ligue Hommes Groupe 1\, Tours 1&2\nBegegnungs-Nr: 0\nHeim: Sierre III\nGast: Sion\n\nAdresse: Rte des Liddes 6\, 3960 Sierre\n
LOCATION:Rte des Liddes 6\, 3960 Sierre
CATEGORIES:Saison 2025/26
END:VEVENT
BEGIN:VEVENT
DTSTAMP:20260424T115245Z
DTSTART;TZID=Europe/Berlin:20260120T200000
DTEND;TZID=Europe/Berlin:20260120T230000
SUMMARY:ME L2 Gr 1\, Tours 3&4 Martigny II vs Sion (0)
UID:5abd06b1-cb45-4549-bead-896d817d5908
STATUS:CONFIRMED
LAST-MODIFIED:20260121T122424Z
DESCRIPTION:2ème ligue Hommes Groupe 1\, Tours 3&4\nBegegnungs-Nr: 0\nHeim: Martigny II\nGast: Sion\n\nAdresse: Rue des Ecoles 9\, 1920 Martigny\n
LOCATION:Rue des Ecoles 9\, 1920 Martigny
CATEGORIES:Saison 2025/26
END:VEVENT
BEGIN:VEVENT
DTSTAMP:20260424T115245Z
DTSTART;TZID=Europe/Berlin:20260209T193000
DTEND;TZID=Europe/Berlin:20260209T223000
SUMMARY:ME L2 Gr 1\, Tours 3&4 Collombey/Muraz II vs Sion (0)
UID:dcfd3ed6-33b6-4a2a-b881-a615be163ae3
STATUS:CONFIRMED
LAST-MODIFIED:20260210T011043Z
DESCRIPTION:2ème ligue Hommes Groupe 1\, Tours 3&4\nBegegnungs-Nr: 0\nHeim: Collombey/Muraz II\nGast: Sion\n\nAdresse: Route du Montagnier 81\, 1868 Collombey\n
LOCATION:Route du Montagnier 81\, 1868 Collombey
CATEGORIES:Saison 2025/26
END:VEVENT
BEGIN:VEVENT
DTSTAMP:20260424T115245Z
DTSTART;TZID=Europe/Berlin:20260227T193000
DTEND;TZID=Europe/Berlin:20260227T223000
SUMMARY:ME L2 Gr 1\, Tours 3&4 Bulle III vs Sion (0)
UID:458e863f-7ab1-45e7-bb3d-6f6e5d02a62a
STATUS:CONFIRMED
LAST-MODIFIED:20260228T125911Z
DESCRIPTION:2ème ligue Hommes Groupe 1\, Tours 3&4\nBegegnungs-Nr: 0\nHeim: Bulle III\nGast: Sion\n\nAdresse: Rue du Stade 50\, 1630 Bulle\n
LOCATION:Rue du Stade 50\, 1630 Bulle
CATEGORIES:Saison 2025/26
END:VEVENT
BEGIN:VEVENT
DTSTAMP:20260424T115245Z
DTSTART;TZID=Europe/Berlin:20260311T201500
DTEND;TZID=Europe/Berlin:20260311T231500
SUMMARY:ME L2 Gr 1\, Tours 3&4 Fribourg II vs Sion (0)
UID:a9e6afd2-8c25-4be6-b923-1ea3358f2729
STATUS:CONFIRMED
LAST-MODIFIED:20260312T104845Z
DESCRIPTION:2ème ligue Hommes Groupe 1\, Tours 3&4\nBegegnungs-Nr: 0\nHeim: Fribourg II\nGast: Sion\n\nAdresse: Avenue Général Guisan 61\, 1700 Fribourg\n
LOCATION:Avenue Général Guisan 61\, 1700 Fribourg
CATEGORIES:Saison 2025/26
END:VEVENT
BEGIN:VEVENT
DTSTAMP:20260424T115245Z
DTSTART;TZID=Europe/Berlin:20260403T200000
DTEND;TZID=Europe/Berlin:20260403T230000
SUMMARY:ME L2 Gr 1\, Tours 3&4 Grône vs Sion (0)
UID:42aeb3a8-7a51-4753-8cdd-c5eb54917975
STATUS:CONFIRMED
LAST-MODIFIED:20260407T192918Z
DESCRIPTION:2ème ligue Hommes Groupe 1\, Tours 3&4\nBegegnungs-Nr: 0\nHeim: Grône\nGast: Sion\n\nAdresse:  Rue Centrale\,  \, Rue de la Piscine\, \, 3979 Grône\n
LOCATION: Rue Centrale\,  \, Rue de la Piscine\, \, 3979 Grône
CATEGORIES:Saison 2025/26
END:VEVENT
END:VCALENDAR
