BEGIN:VCALENDAR
PRODID:-//nuDatenautomaten//framework iCal4j //DE
VERSION:2.0
CALSCALE:GREGORIAN
BEGIN:VTIMEZONE
TZID:Europe/Berlin
LAST-MODIFIED:20260306T231828Z
TZURL:https://www.tzurl.org/zoneinfo/Europe/Berlin
X-LIC-LOCATION:Europe/Berlin
X-PROLEPTIC-TZNAME:LMT
BEGIN:STANDARD
TZNAME:CET
TZOFFSETFROM:+005328
TZOFFSETTO:+0100
DTSTART:18930401T000000
END:STANDARD
BEGIN:DAYLIGHT
TZNAME:CEST
TZOFFSETFROM:+0100
TZOFFSETTO:+0200
DTSTART:19160430T230000
RDATE:19400401T020000
RDATE:19430329T020000
RDATE:19460414T020000
RDATE:19470406T030000
RDATE:19480418T020000
RDATE:19490410T020000
RDATE:19800406T020000
END:DAYLIGHT
BEGIN:STANDARD
TZNAME:CET
TZOFFSETFROM:+0200
TZOFFSETTO:+0100
DTSTART:19161001T010000
RDATE:19421102T030000
RDATE:19431004T030000
RDATE:19441002T030000
RDATE:19451118T030000
RDATE:19461007T030000
END:STANDARD
BEGIN:DAYLIGHT
TZNAME:CEST
TZOFFSETFROM:+0100
TZOFFSETTO:+0200
DTSTART:19170416T020000
RRULE:FREQ=YEARLY;UNTIL=19180415T010000Z;BYMONTH=4;BYDAY=3MO
END:DAYLIGHT
BEGIN:STANDARD
TZNAME:CET
TZOFFSETFROM:+0200
TZOFFSETTO:+0100
DTSTART:19170917T030000
RRULE:FREQ=YEARLY;UNTIL=19180916T010000Z;BYMONTH=9;BYDAY=3MO
END:STANDARD
BEGIN:DAYLIGHT
TZNAME:CEST
TZOFFSETFROM:+0100
TZOFFSETTO:+0200
DTSTART:19440403T020000
RRULE:FREQ=YEARLY;UNTIL=19450402T010000Z;BYMONTH=4;BYDAY=1MO
END:DAYLIGHT
BEGIN:DAYLIGHT
TZNAME:CEMT
TZOFFSETFROM:+0200
TZOFFSETTO:+0300
DTSTART:19450524T020000
RDATE:19470511T030000
END:DAYLIGHT
BEGIN:DAYLIGHT
TZNAME:CEST
TZOFFSETFROM:+0300
TZOFFSETTO:+0200
DTSTART:19450924T030000
RDATE:19470629T030000
END:DAYLIGHT
BEGIN:STANDARD
TZNAME:CET
TZOFFSETFROM:+0100
TZOFFSETTO:+0100
DTSTART:19460101T000000
RDATE:19800101T000000
END:STANDARD
BEGIN:STANDARD
TZNAME:CET
TZOFFSETFROM:+0200
TZOFFSETTO:+0100
DTSTART:19471005T030000
RRULE:FREQ=YEARLY;UNTIL=19491002T010000Z;BYMONTH=10;BYDAY=1SU
END:STANDARD
BEGIN:STANDARD
TZNAME:CET
TZOFFSETFROM:+0200
TZOFFSETTO:+0100
DTSTART:19800928T030000
RRULE:FREQ=YEARLY;UNTIL=19950924T010000Z;BYMONTH=9;BYDAY=-1SU
END:STANDARD
BEGIN:DAYLIGHT
TZNAME:CEST
TZOFFSETFROM:+0100
TZOFFSETTO:+0200
DTSTART:19810329T020000
RRULE:FREQ=YEARLY;BYMONTH=3;BYDAY=-1SU
END:DAYLIGHT
BEGIN:STANDARD
TZNAME:CET
TZOFFSETFROM:+0200
TZOFFSETTO:+0100
DTSTART:19961027T030000
RRULE:FREQ=YEARLY;BYMONTH=10;BYDAY=-1SU
END:STANDARD
END:VTIMEZONE
BEGIN:VEVENT
DTSTAMP:20260424T151001Z
DTSTART;TZID=Europe/Berlin:20251011T160000
DTEND;TZID=Europe/Berlin:20251011T190000
SUMMARY:STTL Women Young Stars ZH vs Uster (3)
UID:fb5f41d6-6720-47bb-ae24-b83c030d083f
STATUS:CONFIRMED
LAST-MODIFIED:20251016T144632Z
DESCRIPTION:Swiss Table Tennis League Women\nBegegnungs-Nr: 3\nHeim: Young Stars ZH\nGast: Uster\n\nAdresse: Seefeldstrasse 93\, 8008 Zürich\n
LOCATION:Seefeldstrasse 93\, 8008 Zürich
CATEGORIES:Saison 2025/26
END:VEVENT
BEGIN:VEVENT
DTSTAMP:20260424T151001Z
DTSTART;TZID=Europe/Berlin:20251109T140000
DTEND;TZID=Europe/Berlin:20251109T170000
SUMMARY:STTL Women Young Stars ZH vs Neuhausen (10)
UID:b9d81eb0-fa5e-4fa9-97d4-3a155a534562
STATUS:CONFIRMED
LAST-MODIFIED:20251110T080114Z
DESCRIPTION:Swiss Table Tennis League Women\nBegegnungs-Nr: 10\nHeim: Young Stars ZH\nGast: Neuhausen\n\nAdresse: Seefeldstrasse 93\, 8008 Zürich\n
LOCATION:Seefeldstrasse 93\, 8008 Zürich
CATEGORIES:Saison 2025/26
END:VEVENT
BEGIN:VEVENT
DTSTAMP:20260424T151001Z
DTSTART;TZID=Europe/Berlin:20260201T140000
DTEND;TZID=Europe/Berlin:20260201T170000
SUMMARY:STTL Women Young Stars ZH vs ZZ-Lancy (9)
UID:3d8bee1b-3e43-4b96-8bce-e9df074b9314
STATUS:CONFIRMED
LAST-MODIFIED:20260203T081854Z
DESCRIPTION:Swiss Table Tennis League Women\nBegegnungs-Nr: 9\nHeim: Young Stars ZH\nGast: ZZ-Lancy\n\nAdresse: Seefeldstrasse 93\, 8008 Zürich\n
LOCATION:Seefeldstrasse 93\, 8008 Zürich
CATEGORIES:Saison 2025/26
END:VEVENT
BEGIN:VEVENT
DTSTAMP:20260424T151001Z
DTSTART;TZID=Europe/Berlin:20251214T110000
DTEND;TZID=Europe/Berlin:20251214T140000
SUMMARY:STTL Women Young Stars ZH vs Zürich-Affoltern (2)
UID:4f488282-6711-41e9-baa6-68d66e04683f
STATUS:CONFIRMED
LAST-MODIFIED:20251216T085339Z
DESCRIPTION:Swiss Table Tennis League Women\nBegegnungs-Nr: 2\nHeim: Young Stars ZH\nGast: Zürich-Affoltern\n\nAdresse: Seefeldstrasse 93\, 8008 Zürich\n
LOCATION:Seefeldstrasse 93\, 8008 Zürich
CATEGORIES:Saison 2025/26
END:VEVENT
BEGIN:VEVENT
DTSTAMP:20260424T151001Z
DTSTART;TZID=Europe/Berlin:20260328T140000
DTEND;TZID=Europe/Berlin:20260328T170000
SUMMARY:STTL Women Young Stars ZH vs Rio-Star Muttenz (11)
UID:613dded4-4ad7-4e83-8a80-f5ccbc08f0c5
STATUS:CONFIRMED
LAST-MODIFIED:20260330T080239Z
DESCRIPTION:Swiss Table Tennis League Women\nBegegnungs-Nr: 11\nHeim: Young Stars ZH\nGast: Rio-Star Muttenz\n\nAdresse: Seefeldstrasse 93\, 8008 Zürich\n
LOCATION:Seefeldstrasse 93\, 8008 Zürich
CATEGORIES:Saison 2025/26
END:VEVENT
BEGIN:VEVENT
DTSTAMP:20260424T151001Z
DTSTART;TZID=Europe/Berlin:20251213T140000
DTEND;TZID=Europe/Berlin:20251213T170000
SUMMARY:STTL Women Zürich-Affoltern vs Young Stars ZH (14)
UID:94aabfcb-a603-4df2-a9aa-47b0709ec03a
STATUS:CONFIRMED
LAST-MODIFIED:20251216T085318Z
DESCRIPTION:Swiss Table Tennis League Women\nBegegnungs-Nr: 14\nHeim: Zürich-Affoltern\nGast: Young Stars ZH\n\nAdresse: Rümlangstr. 89\, 8052 Zürich\n
LOCATION:Rümlangstr. 89\, 8052 Zürich
CATEGORIES:Saison 2025/26
END:VEVENT
BEGIN:VEVENT
DTSTAMP:20260424T151001Z
DTSTART;TZID=Europe/Berlin:20251012T140000
DTEND;TZID=Europe/Berlin:20251012T170000
SUMMARY:STTL Women Rio-Star Muttenz vs Young Stars ZH (5)
UID:9e802fb1-446c-4340-b0c0-e9f65532a17c
STATUS:CONFIRMED
LAST-MODIFIED:20251016T144926Z
DESCRIPTION:Swiss Table Tennis League Women\nBegegnungs-Nr: 5\nHeim: Rio-Star Muttenz\nGast: Young Stars ZH\n\nAdresse: Gründenstrasse 32\, 4132 Muttenz\n
LOCATION:Gründenstrasse 32\, 4132 Muttenz
CATEGORIES:Saison 2025/26
END:VEVENT
BEGIN:VEVENT
DTSTAMP:20260424T151001Z
DTSTART;TZID=Europe/Berlin:20251108T150000
DTEND;TZID=Europe/Berlin:20251108T180000
SUMMARY:STTL Women ZZ-Lancy vs Young Stars ZH (9)
UID:0ba3544f-3363-4e42-a78e-da0bdcbc3a09
STATUS:CONFIRMED
LAST-MODIFIED:20251110T080030Z
DESCRIPTION:Swiss Table Tennis League Women\nBegegnungs-Nr: 9\nHeim: ZZ-Lancy\nGast: Young Stars ZH\n\nAdresse: Avenue du Curé-Baud 40\, 1212 Grand-Lancy\n
LOCATION:Avenue du Curé-Baud 40\, 1212 Grand-Lancy
CATEGORIES:Saison 2025/26
END:VEVENT
BEGIN:VEVENT
DTSTAMP:20260424T151001Z
DTSTART;TZID=Europe/Berlin:20260329T140000
DTEND;TZID=Europe/Berlin:20260329T170000
SUMMARY:STTL Women Uster vs Young Stars ZH (15)
UID:d1ab7f20-05f1-44a6-9948-b4fc4361b579
STATUS:CONFIRMED
LAST-MODIFIED:20260330T081205Z
DESCRIPTION:Swiss Table Tennis League Women\nBegegnungs-Nr: 15\nHeim: Uster\nGast: Young Stars ZH\n\nAdresse: Wilstrasse 30 / Zürcherstrasse\, 8610 Uster\n
LOCATION:Wilstrasse 30 / Zürcherstrasse\, 8610 Uster
CATEGORIES:Saison 2025/26
END:VEVENT
BEGIN:VEVENT
DTSTAMP:20260424T151001Z
DTSTART;TZID=Europe/Berlin:20260131T180000
DTEND;TZID=Europe/Berlin:20260131T210000
SUMMARY:STTL Women Neuhausen vs Young Stars ZH (4)
UID:15df3950-73c3-4341-906a-91023c17db5b
STATUS:CONFIRMED
LAST-MODIFIED:20260203T081712Z
DESCRIPTION:Swiss Table Tennis League Women\nBegegnungs-Nr: 4\nHeim: Neuhausen\nGast: Young Stars ZH\n\nAdresse: Ebnatstrasse 35\, 8200 Schaffhausen\n
LOCATION:Ebnatstrasse 35\, 8200 Schaffhausen
CATEGORIES:Saison 2025/26
END:VEVENT
END:VCALENDAR
