BEGIN:VCALENDAR
PRODID:-//nuDatenautomaten//framework iCal4j //DE
VERSION:2.0
CALSCALE:GREGORIAN
BEGIN:VTIMEZONE
TZID:Europe/Berlin
LAST-MODIFIED:20260306T231828Z
TZURL:https://www.tzurl.org/zoneinfo/Europe/Berlin
X-LIC-LOCATION:Europe/Berlin
X-PROLEPTIC-TZNAME:LMT
BEGIN:STANDARD
TZNAME:CET
TZOFFSETFROM:+005328
TZOFFSETTO:+0100
DTSTART:18930401T000000
END:STANDARD
BEGIN:DAYLIGHT
TZNAME:CEST
TZOFFSETFROM:+0100
TZOFFSETTO:+0200
DTSTART:19160430T230000
RDATE:19400401T020000
RDATE:19430329T020000
RDATE:19460414T020000
RDATE:19470406T030000
RDATE:19480418T020000
RDATE:19490410T020000
RDATE:19800406T020000
END:DAYLIGHT
BEGIN:STANDARD
TZNAME:CET
TZOFFSETFROM:+0200
TZOFFSETTO:+0100
DTSTART:19161001T010000
RDATE:19421102T030000
RDATE:19431004T030000
RDATE:19441002T030000
RDATE:19451118T030000
RDATE:19461007T030000
END:STANDARD
BEGIN:DAYLIGHT
TZNAME:CEST
TZOFFSETFROM:+0100
TZOFFSETTO:+0200
DTSTART:19170416T020000
RRULE:FREQ=YEARLY;UNTIL=19180415T010000Z;BYMONTH=4;BYDAY=3MO
END:DAYLIGHT
BEGIN:STANDARD
TZNAME:CET
TZOFFSETFROM:+0200
TZOFFSETTO:+0100
DTSTART:19170917T030000
RRULE:FREQ=YEARLY;UNTIL=19180916T010000Z;BYMONTH=9;BYDAY=3MO
END:STANDARD
BEGIN:DAYLIGHT
TZNAME:CEST
TZOFFSETFROM:+0100
TZOFFSETTO:+0200
DTSTART:19440403T020000
RRULE:FREQ=YEARLY;UNTIL=19450402T010000Z;BYMONTH=4;BYDAY=1MO
END:DAYLIGHT
BEGIN:DAYLIGHT
TZNAME:CEMT
TZOFFSETFROM:+0200
TZOFFSETTO:+0300
DTSTART:19450524T020000
RDATE:19470511T030000
END:DAYLIGHT
BEGIN:DAYLIGHT
TZNAME:CEST
TZOFFSETFROM:+0300
TZOFFSETTO:+0200
DTSTART:19450924T030000
RDATE:19470629T030000
END:DAYLIGHT
BEGIN:STANDARD
TZNAME:CET
TZOFFSETFROM:+0100
TZOFFSETTO:+0100
DTSTART:19460101T000000
RDATE:19800101T000000
END:STANDARD
BEGIN:STANDARD
TZNAME:CET
TZOFFSETFROM:+0200
TZOFFSETTO:+0100
DTSTART:19471005T030000
RRULE:FREQ=YEARLY;UNTIL=19491002T010000Z;BYMONTH=10;BYDAY=1SU
END:STANDARD
BEGIN:STANDARD
TZNAME:CET
TZOFFSETFROM:+0200
TZOFFSETTO:+0100
DTSTART:19800928T030000
RRULE:FREQ=YEARLY;UNTIL=19950924T010000Z;BYMONTH=9;BYDAY=-1SU
END:STANDARD
BEGIN:DAYLIGHT
TZNAME:CEST
TZOFFSETFROM:+0100
TZOFFSETTO:+0200
DTSTART:19810329T020000
RRULE:FREQ=YEARLY;BYMONTH=3;BYDAY=-1SU
END:DAYLIGHT
BEGIN:STANDARD
TZNAME:CET
TZOFFSETFROM:+0200
TZOFFSETTO:+0100
DTSTART:19961027T030000
RRULE:FREQ=YEARLY;BYMONTH=10;BYDAY=-1SU
END:STANDARD
END:VTIMEZONE
BEGIN:VEVENT
DTSTAMP:20260424T105216Z
DTSTART;TZID=Europe/Berlin:20251026T163000
DTEND;TZID=Europe/Berlin:20251026T193000
SUMMARY:STTL Men Young Stars ZH vs Rio-Star Muttenz (15)
UID:edf3e1ed-c352-4de6-8630-7b11eb32d3fd
STATUS:CONFIRMED
LAST-MODIFIED:20251030T090300Z
DESCRIPTION:Swiss Table Tennis League Men\nBegegnungs-Nr: 15\nHeim: Young Stars ZH\nGast: Rio-Star Muttenz\n\nAdresse: Seefeldstrasse 93\, 8008 Zürich\n
LOCATION:Seefeldstrasse 93\, 8008 Zürich
CATEGORIES:Saison 2025/26
END:VEVENT
BEGIN:VEVENT
DTSTAMP:20260424T105216Z
DTSTART;TZID=Europe/Berlin:20251025T163000
DTEND;TZID=Europe/Berlin:20251025T193000
SUMMARY:STTL Men Young Stars ZH vs Neuhausen (12)
UID:89bb6f32-29c9-4518-ac6f-51a8840573f4
STATUS:CONFIRMED
LAST-MODIFIED:20251030T090031Z
DESCRIPTION:Swiss Table Tennis League Men\nBegegnungs-Nr: 12\nHeim: Young Stars ZH\nGast: Neuhausen\n\nAdresse: Seefeldstrasse 93\, 8008 Zürich\n
LOCATION:Seefeldstrasse 93\, 8008 Zürich
CATEGORIES:Saison 2025/26
END:VEVENT
BEGIN:VEVENT
DTSTAMP:20260424T105216Z
DTSTART;TZID=Europe/Berlin:20251213T163000
DTEND;TZID=Europe/Berlin:20251213T193000
SUMMARY:STTL Men Young Stars ZH vs Rapperswil-Jona (25)
UID:d5b8c567-2e2e-4928-86c7-d3fb03572dd6
STATUS:CONFIRMED
LAST-MODIFIED:20251216T083312Z
DESCRIPTION:Swiss Table Tennis League Men\nBegegnungs-Nr: 25\nHeim: Young Stars ZH\nGast: Rapperswil-Jona\n\nAdresse: Seefeldstrasse 93\, 8008 Zürich\n
LOCATION:Seefeldstrasse 93\, 8008 Zürich
CATEGORIES:Saison 2025/26
END:VEVENT
BEGIN:VEVENT
DTSTAMP:20260424T105216Z
DTSTART;TZID=Europe/Berlin:20260301T120000
DTEND;TZID=Europe/Berlin:20260301T150000
SUMMARY:STTL Men Young Stars ZH vs Lugano (17)
UID:0970303b-9f73-46e7-88d0-591c91ff5ca2
STATUS:CONFIRMED
LAST-MODIFIED:20260302T145328Z
DESCRIPTION:Swiss Table Tennis League Men\nBegegnungs-Nr: 17\nHeim: Young Stars ZH\nGast: Lugano\n\nAdresse: Seefeldstrasse 93\, 8008 Zürich\n
LOCATION:Seefeldstrasse 93\, 8008 Zürich
CATEGORIES:Saison 2025/26
END:VEVENT
BEGIN:VEVENT
DTSTAMP:20260424T105216Z
DTSTART;TZID=Europe/Berlin:20260328T180000
DTEND;TZID=Europe/Berlin:20260328T210000
SUMMARY:STTL Men Young Stars ZH vs Carouge (24)
UID:e096ed91-713a-4185-bea4-f75cdb083d2e
STATUS:CONFIRMED
LAST-MODIFIED:20260330T075317Z
DESCRIPTION:Swiss Table Tennis League Men\nBegegnungs-Nr: 24\nHeim: Young Stars ZH\nGast: Carouge\n\nAdresse: Seefeldstrasse 93\, 8008 Zürich\n
LOCATION:Seefeldstrasse 93\, 8008 Zürich
CATEGORIES:Saison 2025/26
END:VEVENT
BEGIN:VEVENT
DTSTAMP:20260424T105216Z
DTSTART;TZID=Europe/Berlin:20260329T140000
DTEND;TZID=Europe/Berlin:20260329T170000
SUMMARY:STTL Men Young Stars ZH vs ZZ-Lancy (28)
UID:5f841a0c-6e7d-4d68-a29d-11f2c81c497b
STATUS:CONFIRMED
LAST-MODIFIED:20260330T075417Z
DESCRIPTION:Swiss Table Tennis League Men\nBegegnungs-Nr: 28\nHeim: Young Stars ZH\nGast: ZZ-Lancy\n\nAdresse: Seefeldstrasse 93\, 8008 Zürich\n
LOCATION:Seefeldstrasse 93\, 8008 Zürich
CATEGORIES:Saison 2025/26
END:VEVENT
BEGIN:VEVENT
DTSTAMP:20260424T105216Z
DTSTART;TZID=Europe/Berlin:20260426T150000
DTEND;TZID=Europe/Berlin:20260426T180000
SUMMARY:STTL Men Play-Off 1/2-Final Young Stars ZH vs Carouge (1)
UID:755ad711-287d-4f2b-8412-4457bb5c19e4
STATUS:CONFIRMED
DESCRIPTION:Swiss Table Tennis League Men Play-Off 1/2-Final\nBegegnungs-Nr: 1\nHeim: Young Stars ZH\nGast: Carouge\n\nAdresse: Seefeldstrasse 93\, 8008 Zürich\n
LOCATION:Seefeldstrasse 93\, 8008 Zürich
CATEGORIES:Saison 2025/26
END:VEVENT
BEGIN:VEVENT
DTSTAMP:20260424T105216Z
DTSTART;TZID=Europe/Berlin:20251115T170000
DTEND;TZID=Europe/Berlin:20251115T200000
SUMMARY:STTL Men Carouge vs Young Stars ZH (20)
UID:e96f86e1-acda-4c98-afc2-a6382fd8add1
STATUS:CONFIRMED
LAST-MODIFIED:20251117T130152Z
DESCRIPTION:Swiss Table Tennis League Men\nBegegnungs-Nr: 20\nHeim: Carouge\nGast: Young Stars ZH\n\nAdresse: Route de Veyrier 44\, 1227 Carouge GE\n
LOCATION:Route de Veyrier 44\, 1227 Carouge GE
CATEGORIES:Saison 2025/26
END:VEVENT
BEGIN:VEVENT
DTSTAMP:20260424T105216Z
DTSTART;TZID=Europe/Berlin:20251116T150000
DTEND;TZID=Europe/Berlin:20251116T180000
SUMMARY:STTL Men ZZ-Lancy vs Young Stars ZH (24)
UID:13434a21-ab27-4a93-a2d7-934a8f6310ae
STATUS:CONFIRMED
LAST-MODIFIED:20251117T130721Z
DESCRIPTION:Swiss Table Tennis League Men\nBegegnungs-Nr: 24\nHeim: ZZ-Lancy\nGast: Young Stars ZH\n\nAdresse: Avenue du Curé-Baud 40\, 1212 Grand-Lancy\n
LOCATION:Avenue du Curé-Baud 40\, 1212 Grand-Lancy
CATEGORIES:Saison 2025/26
END:VEVENT
BEGIN:VEVENT
DTSTAMP:20260424T105216Z
DTSTART;TZID=Europe/Berlin:20260111T140000
DTEND;TZID=Europe/Berlin:20260111T170000
SUMMARY:STTL Men Rio-Star Muttenz vs Young Stars ZH (11)
UID:2e26f9a3-b9e8-4415-9f54-343b75689f9f
STATUS:CONFIRMED
LAST-MODIFIED:20260112T202158Z
DESCRIPTION:Swiss Table Tennis League Men\nBegegnungs-Nr: 11\nHeim: Rio-Star Muttenz\nGast: Young Stars ZH\n\nAdresse: Gründenstrasse 32\, 4132 Muttenz\n
LOCATION:Gründenstrasse 32\, 4132 Muttenz
CATEGORIES:Saison 2025/26
END:VEVENT
BEGIN:VEVENT
DTSTAMP:20260424T105216Z
DTSTART;TZID=Europe/Berlin:20260110T140000
DTEND;TZID=Europe/Berlin:20260110T170000
SUMMARY:STTL Men Neuhausen vs Young Stars ZH (8)
UID:397c05e1-ccaa-4233-b6d9-c3f7be9d5012
STATUS:CONFIRMED
LAST-MODIFIED:20260112T202112Z
DESCRIPTION:Swiss Table Tennis League Men\nBegegnungs-Nr: 8\nHeim: Neuhausen\nGast: Young Stars ZH\n\nAdresse: Ebnatstrasse 35\, 8200 Schaffhausen\n
LOCATION:Ebnatstrasse 35\, 8200 Schaffhausen
CATEGORIES:Saison 2025/26
END:VEVENT
BEGIN:VEVENT
DTSTAMP:20260424T105216Z
DTSTART;TZID=Europe/Berlin:20251214T120000
DTEND;TZID=Europe/Berlin:20251214T150000
SUMMARY:STTL Men Rapperswil-Jona vs Young Stars ZH (1)
UID:d67fb562-89c6-45fe-8b9f-18e41ee963f3
STATUS:CONFIRMED
LAST-MODIFIED:20251216T083331Z
DESCRIPTION:Swiss Table Tennis League Men\nBegegnungs-Nr: 1\nHeim: Rapperswil-Jona\nGast: Young Stars ZH\n\nAdresse: Kreuzstrasse 43\, 8640 Rapperswil\n
LOCATION:Kreuzstrasse 43\, 8640 Rapperswil
CATEGORIES:Saison 2025/26
END:VEVENT
BEGIN:VEVENT
DTSTAMP:20260424T105216Z
DTSTART;TZID=Europe/Berlin:20251011T140000
DTEND;TZID=Europe/Berlin:20251011T170000
SUMMARY:STTL Men Lugano vs Young Stars ZH (1)
UID:e5590f55-f7ca-489f-a6ef-3f2e0fd4bbf6
STATUS:CONFIRMED
LAST-MODIFIED:20251016T144947Z
DESCRIPTION:Swiss Table Tennis League Men\nBegegnungs-Nr: 1\nHeim: Lugano\nGast: Young Stars ZH\n\nAdresse: Via del Tiglio\, 6908 Cassarate\n
LOCATION:Via del Tiglio\, 6908 Cassarate
CATEGORIES:Saison 2025/26
END:VEVENT
BEGIN:VEVENT
DTSTAMP:20260424T105216Z
DTSTART;TZID=Europe/Berlin:20260502T150000
DTEND;TZID=Europe/Berlin:20260502T180000
SUMMARY:STTL Men Play-Off 1/2-Final Carouge vs Young Stars ZH (1)
UID:0a2df120-f16d-478b-8652-a4b639dc3f56
STATUS:CONFIRMED
DESCRIPTION:Swiss Table Tennis League Men Play-Off 1/2-Final\nBegegnungs-Nr: 1\nHeim: Carouge\nGast: Young Stars ZH\n\nAdresse: Route de Veyrier 44\, 1227 Carouge GE\n
LOCATION:Route de Veyrier 44\, 1227 Carouge GE
CATEGORIES:Saison 2025/26
END:VEVENT
BEGIN:VEVENT
DTSTAMP:20260424T105216Z
DTSTART;TZID=Europe/Berlin:20260425T150000
DTEND;TZID=Europe/Berlin:20260425T180000
SUMMARY:STTL Men Play-Off 1/2-Final Carouge vs Young Stars ZH (1)
UID:7f3b2078-78bb-4ab0-abc7-708827bbb9a8
STATUS:CONFIRMED
DESCRIPTION:Swiss Table Tennis League Men Play-Off 1/2-Final\nBegegnungs-Nr: 1\nHeim: Carouge\nGast: Young Stars ZH\n\nAdresse: Route de Veyrier 44\, 1227 Carouge GE\n
LOCATION:Route de Veyrier 44\, 1227 Carouge GE
CATEGORIES:Saison 2025/26
END:VEVENT
END:VCALENDAR
