BEGIN:VCALENDAR
PRODID:-//nuDatenautomaten//framework iCal4j //DE
VERSION:2.0
CALSCALE:GREGORIAN
BEGIN:VTIMEZONE
TZID:Europe/Berlin
LAST-MODIFIED:20260306T231828Z
TZURL:https://www.tzurl.org/zoneinfo/Europe/Berlin
X-LIC-LOCATION:Europe/Berlin
X-PROLEPTIC-TZNAME:LMT
BEGIN:STANDARD
TZNAME:CET
TZOFFSETFROM:+005328
TZOFFSETTO:+0100
DTSTART:18930401T000000
END:STANDARD
BEGIN:DAYLIGHT
TZNAME:CEST
TZOFFSETFROM:+0100
TZOFFSETTO:+0200
DTSTART:19160430T230000
RDATE:19400401T020000
RDATE:19430329T020000
RDATE:19460414T020000
RDATE:19470406T030000
RDATE:19480418T020000
RDATE:19490410T020000
RDATE:19800406T020000
END:DAYLIGHT
BEGIN:STANDARD
TZNAME:CET
TZOFFSETFROM:+0200
TZOFFSETTO:+0100
DTSTART:19161001T010000
RDATE:19421102T030000
RDATE:19431004T030000
RDATE:19441002T030000
RDATE:19451118T030000
RDATE:19461007T030000
END:STANDARD
BEGIN:DAYLIGHT
TZNAME:CEST
TZOFFSETFROM:+0100
TZOFFSETTO:+0200
DTSTART:19170416T020000
RRULE:FREQ=YEARLY;UNTIL=19180415T010000Z;BYMONTH=4;BYDAY=3MO
END:DAYLIGHT
BEGIN:STANDARD
TZNAME:CET
TZOFFSETFROM:+0200
TZOFFSETTO:+0100
DTSTART:19170917T030000
RRULE:FREQ=YEARLY;UNTIL=19180916T010000Z;BYMONTH=9;BYDAY=3MO
END:STANDARD
BEGIN:DAYLIGHT
TZNAME:CEST
TZOFFSETFROM:+0100
TZOFFSETTO:+0200
DTSTART:19440403T020000
RRULE:FREQ=YEARLY;UNTIL=19450402T010000Z;BYMONTH=4;BYDAY=1MO
END:DAYLIGHT
BEGIN:DAYLIGHT
TZNAME:CEMT
TZOFFSETFROM:+0200
TZOFFSETTO:+0300
DTSTART:19450524T020000
RDATE:19470511T030000
END:DAYLIGHT
BEGIN:DAYLIGHT
TZNAME:CEST
TZOFFSETFROM:+0300
TZOFFSETTO:+0200
DTSTART:19450924T030000
RDATE:19470629T030000
END:DAYLIGHT
BEGIN:STANDARD
TZNAME:CET
TZOFFSETFROM:+0100
TZOFFSETTO:+0100
DTSTART:19460101T000000
RDATE:19800101T000000
END:STANDARD
BEGIN:STANDARD
TZNAME:CET
TZOFFSETFROM:+0200
TZOFFSETTO:+0100
DTSTART:19471005T030000
RRULE:FREQ=YEARLY;UNTIL=19491002T010000Z;BYMONTH=10;BYDAY=1SU
END:STANDARD
BEGIN:STANDARD
TZNAME:CET
TZOFFSETFROM:+0200
TZOFFSETTO:+0100
DTSTART:19800928T030000
RRULE:FREQ=YEARLY;UNTIL=19950924T010000Z;BYMONTH=9;BYDAY=-1SU
END:STANDARD
BEGIN:DAYLIGHT
TZNAME:CEST
TZOFFSETFROM:+0100
TZOFFSETTO:+0200
DTSTART:19810329T020000
RRULE:FREQ=YEARLY;BYMONTH=3;BYDAY=-1SU
END:DAYLIGHT
BEGIN:STANDARD
TZNAME:CET
TZOFFSETFROM:+0200
TZOFFSETTO:+0100
DTSTART:19961027T030000
RRULE:FREQ=YEARLY;BYMONTH=10;BYDAY=-1SU
END:STANDARD
END:VTIMEZONE
BEGIN:VEVENT
DTSTAMP:20260424T044415Z
DTSTART;TZID=Europe/Berlin:20251124T200000
DTEND;TZID=Europe/Berlin:20251124T230000
SUMMARY:O40 3. Liga Gr. 1 Niederscherli vs Münsingen (27)
UID:cdf2780e-f681-40f0-a5c0-2c1b7312e836
STATUS:CONFIRMED
LAST-MODIFIED:20251207T182406Z
DESCRIPTION:3. Liga O40 Gruppe 1 \nBegegnungs-Nr: 27\nHeim: Niederscherli\nGast: Münsingen\n\nAdresse: Bodengässli 6\, 3145 Niederscherli\n
LOCATION:Bodengässli 6\, 3145 Niederscherli
CATEGORIES:Saison 2025/26
END:VEVENT
BEGIN:VEVENT
DTSTAMP:20260424T044415Z
DTSTART;TZID=Europe/Berlin:20251027T200000
DTEND;TZID=Europe/Berlin:20251027T230000
SUMMARY:O40 3. Liga Gr. 1 Niederscherli vs Ostermundigen II (13)
UID:8d7d985d-498f-406d-b5bb-0fa4112f5cc5
STATUS:CONFIRMED
LAST-MODIFIED:20251029T221655Z
DESCRIPTION:3. Liga O40 Gruppe 1 \nBegegnungs-Nr: 13\nHeim: Niederscherli\nGast: Ostermundigen II\n\nAdresse: Bodengässli 6\, 3145 Niederscherli\n
LOCATION:Bodengässli 6\, 3145 Niederscherli
CATEGORIES:Saison 2025/26
END:VEVENT
BEGIN:VEVENT
DTSTAMP:20260424T044415Z
DTSTART;TZID=Europe/Berlin:20250908T200000
DTEND;TZID=Europe/Berlin:20250908T230000
SUMMARY:O40 3. Liga Gr. 1 Niederscherli vs Stettlen (8)
UID:2a12bdba-eb53-4cb2-a12e-d71a8d43fdd5
STATUS:CONFIRMED
LAST-MODIFIED:20250918T140248Z
DESCRIPTION:3. Liga O40 Gruppe 1 \nBegegnungs-Nr: 8\nHeim: Niederscherli\nGast: Stettlen\n\nAdresse: Bodengässli 6\, 3145 Niederscherli\n
LOCATION:Bodengässli 6\, 3145 Niederscherli
CATEGORIES:Saison 2025/26
END:VEVENT
BEGIN:VEVENT
DTSTAMP:20260424T044415Z
DTSTART;TZID=Europe/Berlin:20260330T200000
DTEND;TZID=Europe/Berlin:20260330T230000
SUMMARY:O40 3. Liga Gr. 1 Niederscherli vs Heimberg II (35)
UID:2c391fb3-0180-4e63-88bd-0bbe27c69a59
STATUS:CONFIRMED
LAST-MODIFIED:20260409T123332Z
DESCRIPTION:3. Liga O40 Gruppe 1 \nBegegnungs-Nr: 35\nHeim: Niederscherli\nGast: Heimberg II\n\nAdresse: Bodengässli 6\, 3145 Niederscherli\n
LOCATION:Bodengässli 6\, 3145 Niederscherli
CATEGORIES:Saison 2025/26
END:VEVENT
BEGIN:VEVENT
DTSTAMP:20260424T044415Z
DTSTART;TZID=Europe/Berlin:20260323T200000
DTEND;TZID=Europe/Berlin:20260323T230000
SUMMARY:O40 3. Liga Gr. 1 Niederscherli vs Regio Moossee (32)
UID:bb75d60a-b673-433e-9f74-d82f367cab9e
STATUS:CONFIRMED
LAST-MODIFIED:20260409T123257Z
DESCRIPTION:3. Liga O40 Gruppe 1 \nBegegnungs-Nr: 32\nHeim: Niederscherli\nGast: Regio Moossee\n\nAdresse: Bodengässli 6\, 3145 Niederscherli\n
LOCATION:Bodengässli 6\, 3145 Niederscherli
CATEGORIES:Saison 2025/26
END:VEVENT
BEGIN:VEVENT
DTSTAMP:20260424T044415Z
DTSTART;TZID=Europe/Berlin:20260302T200000
DTEND;TZID=Europe/Berlin:20260302T230000
SUMMARY:O40 3. Liga Gr. 1 Niederscherli vs bls Spiez (24)
UID:4d8b9ac9-feb0-4cc1-b8ae-10ab3b565e0f
STATUS:CONFIRMED
LAST-MODIFIED:20260308T174345Z
DESCRIPTION:3. Liga O40 Gruppe 1 \nBegegnungs-Nr: 24\nHeim: Niederscherli\nGast: bls Spiez\n\nAdresse: Bodengässli 6\, 3145 Niederscherli\n
LOCATION:Bodengässli 6\, 3145 Niederscherli
CATEGORIES:Saison 2025/26
END:VEVENT
BEGIN:VEVENT
DTSTAMP:20260424T044415Z
DTSTART;TZID=Europe/Berlin:20260216T200000
DTEND;TZID=Europe/Berlin:20260216T230000
SUMMARY:O40 3. Liga Gr. 1 Niederscherli vs Tiefenau (18)
UID:14cacd4f-a178-4f87-8fde-58b23936a3d4
STATUS:CONFIRMED
LAST-MODIFIED:20260217T213706Z
DESCRIPTION:3. Liga O40 Gruppe 1 \nBegegnungs-Nr: 18\nHeim: Niederscherli\nGast: Tiefenau\n\nAdresse: Bodengässli 6\, 3145 Niederscherli\n
LOCATION:Bodengässli 6\, 3145 Niederscherli
CATEGORIES:Saison 2025/26
END:VEVENT
BEGIN:VEVENT
DTSTAMP:20260424T044415Z
DTSTART;TZID=Europe/Berlin:20260112T200000
DTEND;TZID=Europe/Berlin:20260112T230000
SUMMARY:O40 3. Liga Gr. 1 Niederscherli vs Langnau II (3)
UID:c49679f2-0444-4448-b41a-b1fe8a4ad7d2
STATUS:CONFIRMED
LAST-MODIFIED:20260125T003054Z
DESCRIPTION:3. Liga O40 Gruppe 1 \nBegegnungs-Nr: 3\nHeim: Niederscherli\nGast: Langnau II\n\nAdresse: Bodengässli 6\, 3145 Niederscherli\n
LOCATION:Bodengässli 6\, 3145 Niederscherli
CATEGORIES:Saison 2025/26
END:VEVENT
BEGIN:VEVENT
DTSTAMP:20260424T044415Z
DTSTART;TZID=Europe/Berlin:20251218T194500
DTEND;TZID=Europe/Berlin:20251218T224500
SUMMARY:O40 3. Liga Gr. 1 Heimberg II vs Niederscherli (35)
UID:3a859894-f3c8-4b7b-957a-869ec2bbd679
STATUS:CONFIRMED
LAST-MODIFIED:20251222T091951Z
DESCRIPTION:3. Liga O40 Gruppe 1 \nBegegnungs-Nr: 35\nHeim: Heimberg II\nGast: Niederscherli\n\nAdresse: Niesenstrasse 38\, 3627 Heimberg\n
LOCATION:Niesenstrasse 38\, 3627 Heimberg
CATEGORIES:Saison 2025/26
END:VEVENT
BEGIN:VEVENT
DTSTAMP:20260424T044415Z
DTSTART;TZID=Europe/Berlin:20251205T194500
DTEND;TZID=Europe/Berlin:20251205T224500
SUMMARY:O40 3. Liga Gr. 1 Regio Moossee vs Niederscherli (32)
UID:2b8a5959-7abc-48b4-b0a9-6bdd3eff7bd4
STATUS:CONFIRMED
LAST-MODIFIED:20251207T182511Z
DESCRIPTION:3. Liga O40 Gruppe 1 \nBegegnungs-Nr: 32\nHeim: Regio Moossee\nGast: Niederscherli\n\nAdresse: Schulhausstrasse 23-25\, 3302 Moosseedorf\n
LOCATION:Schulhausstrasse 23-25\, 3302 Moosseedorf
CATEGORIES:Saison 2025/26
END:VEVENT
BEGIN:VEVENT
DTSTAMP:20260424T044415Z
DTSTART;TZID=Europe/Berlin:20251118T194500
DTEND;TZID=Europe/Berlin:20251118T224500
SUMMARY:O40 3. Liga Gr. 1 bls Spiez vs Niederscherli (24)
UID:a02b38d6-de2c-446c-a6a2-52909b696b50
STATUS:CONFIRMED
LAST-MODIFIED:20251122T091227Z
DESCRIPTION:3. Liga O40 Gruppe 1 \nBegegnungs-Nr: 24\nHeim: bls Spiez\nGast: Niederscherli\n\nAdresse: Hofachernweg 19 / Oberlandstr. 89\, 3700 Spiez\n
LOCATION:Hofachernweg 19 / Oberlandstr. 89\, 3700 Spiez
CATEGORIES:Saison 2025/26
END:VEVENT
BEGIN:VEVENT
DTSTAMP:20260424T044415Z
DTSTART;TZID=Europe/Berlin:20251106T194500
DTEND;TZID=Europe/Berlin:20251106T224500
SUMMARY:O40 3. Liga Gr. 1 Tiefenau vs Niederscherli (18)
UID:3e2a991b-df8b-420f-9543-111104907c3f
STATUS:CONFIRMED
LAST-MODIFIED:20251115T172757Z
DESCRIPTION:3. Liga O40 Gruppe 1 \nBegegnungs-Nr: 18\nHeim: Tiefenau\nGast: Niederscherli\n\nAdresse: Studerstrasse 56\, 3004 Bern\n
LOCATION:Studerstrasse 56\, 3004 Bern
CATEGORIES:Saison 2025/26
END:VEVENT
BEGIN:VEVENT
DTSTAMP:20260424T044415Z
DTSTART;TZID=Europe/Berlin:20250825T200000
DTEND;TZID=Europe/Berlin:20250825T230000
SUMMARY:O40 3. Liga Gr. 1 Langnau II vs Niederscherli (3)
UID:609b6b04-9341-4c54-b708-53fbe67d4d4b
STATUS:CONFIRMED
LAST-MODIFIED:20250828T192624Z
DESCRIPTION:3. Liga O40 Gruppe 1 \nBegegnungs-Nr: 3\nHeim: Langnau II\nGast: Niederscherli\n\nAdresse: Bleicheweg 11\, 3550 Langnau\n
LOCATION:Bleicheweg 11\, 3550 Langnau
CATEGORIES:Saison 2025/26
END:VEVENT
BEGIN:VEVENT
DTSTAMP:20260424T044415Z
DTSTART;TZID=Europe/Berlin:20260311T200000
DTEND;TZID=Europe/Berlin:20260311T230000
SUMMARY:O40 3. Liga Gr. 1 Münsingen vs Niederscherli (27)
UID:b768b768-8985-4a35-a43d-151ce571bdb5
STATUS:CONFIRMED
LAST-MODIFIED:20260315T230640Z
DESCRIPTION:3. Liga O40 Gruppe 1 \nBegegnungs-Nr: 27\nHeim: Münsingen\nGast: Niederscherli\n\nAdresse: Turnhallenweg 8\, 3110 Münsingen\n
LOCATION:Turnhallenweg 8\, 3110 Münsingen
CATEGORIES:Saison 2025/26
END:VEVENT
BEGIN:VEVENT
DTSTAMP:20260424T044415Z
DTSTART;TZID=Europe/Berlin:20260210T193000
DTEND;TZID=Europe/Berlin:20260210T223000
SUMMARY:O40 3. Liga Gr. 1 Ostermundigen II vs Niederscherli (13)
UID:bce46d44-1832-48ed-9bd5-5e09244e939e
STATUS:CONFIRMED
LAST-MODIFIED:20260217T213646Z
DESCRIPTION:3. Liga O40 Gruppe 1 \nBegegnungs-Nr: 13\nHeim: Ostermundigen II\nGast: Niederscherli\n\nAdresse: Dennigkofenweg 169\, 3072 Ostermundigen\n
LOCATION:Dennigkofenweg 169\, 3072 Ostermundigen
CATEGORIES:Saison 2025/26
END:VEVENT
BEGIN:VEVENT
DTSTAMP:20260424T044415Z
DTSTART;TZID=Europe/Berlin:20260121T194500
DTEND;TZID=Europe/Berlin:20260121T224500
SUMMARY:O40 3. Liga Gr. 1 Stettlen vs Niederscherli (8)
UID:398b4177-2cdb-41b0-84e8-87c3d915b74d
STATUS:CONFIRMED
LAST-MODIFIED:20260125T003028Z
DESCRIPTION:3. Liga O40 Gruppe 1 \nBegegnungs-Nr: 8\nHeim: Stettlen\nGast: Niederscherli\n\nAdresse: Bernstrasse 45\, 3066 Stettlen\n
LOCATION:Bernstrasse 45\, 3066 Stettlen
CATEGORIES:Saison 2025/26
END:VEVENT
END:VCALENDAR
