BEGIN:VCALENDAR
PRODID:-//nuDatenautomaten//framework iCal4j //DE
VERSION:2.0
CALSCALE:GREGORIAN
BEGIN:VTIMEZONE
TZID:Europe/Berlin
LAST-MODIFIED:20260306T231828Z
TZURL:https://www.tzurl.org/zoneinfo/Europe/Berlin
X-LIC-LOCATION:Europe/Berlin
X-PROLEPTIC-TZNAME:LMT
BEGIN:STANDARD
TZNAME:CET
TZOFFSETFROM:+005328
TZOFFSETTO:+0100
DTSTART:18930401T000000
END:STANDARD
BEGIN:DAYLIGHT
TZNAME:CEST
TZOFFSETFROM:+0100
TZOFFSETTO:+0200
DTSTART:19160430T230000
RDATE:19400401T020000
RDATE:19430329T020000
RDATE:19460414T020000
RDATE:19470406T030000
RDATE:19480418T020000
RDATE:19490410T020000
RDATE:19800406T020000
END:DAYLIGHT
BEGIN:STANDARD
TZNAME:CET
TZOFFSETFROM:+0200
TZOFFSETTO:+0100
DTSTART:19161001T010000
RDATE:19421102T030000
RDATE:19431004T030000
RDATE:19441002T030000
RDATE:19451118T030000
RDATE:19461007T030000
END:STANDARD
BEGIN:DAYLIGHT
TZNAME:CEST
TZOFFSETFROM:+0100
TZOFFSETTO:+0200
DTSTART:19170416T020000
RRULE:FREQ=YEARLY;UNTIL=19180415T010000Z;BYMONTH=4;BYDAY=3MO
END:DAYLIGHT
BEGIN:STANDARD
TZNAME:CET
TZOFFSETFROM:+0200
TZOFFSETTO:+0100
DTSTART:19170917T030000
RRULE:FREQ=YEARLY;UNTIL=19180916T010000Z;BYMONTH=9;BYDAY=3MO
END:STANDARD
BEGIN:DAYLIGHT
TZNAME:CEST
TZOFFSETFROM:+0100
TZOFFSETTO:+0200
DTSTART:19440403T020000
RRULE:FREQ=YEARLY;UNTIL=19450402T010000Z;BYMONTH=4;BYDAY=1MO
END:DAYLIGHT
BEGIN:DAYLIGHT
TZNAME:CEMT
TZOFFSETFROM:+0200
TZOFFSETTO:+0300
DTSTART:19450524T020000
RDATE:19470511T030000
END:DAYLIGHT
BEGIN:DAYLIGHT
TZNAME:CEST
TZOFFSETFROM:+0300
TZOFFSETTO:+0200
DTSTART:19450924T030000
RDATE:19470629T030000
END:DAYLIGHT
BEGIN:STANDARD
TZNAME:CET
TZOFFSETFROM:+0100
TZOFFSETTO:+0100
DTSTART:19460101T000000
RDATE:19800101T000000
END:STANDARD
BEGIN:STANDARD
TZNAME:CET
TZOFFSETFROM:+0200
TZOFFSETTO:+0100
DTSTART:19471005T030000
RRULE:FREQ=YEARLY;UNTIL=19491002T010000Z;BYMONTH=10;BYDAY=1SU
END:STANDARD
BEGIN:STANDARD
TZNAME:CET
TZOFFSETFROM:+0200
TZOFFSETTO:+0100
DTSTART:19800928T030000
RRULE:FREQ=YEARLY;UNTIL=19950924T010000Z;BYMONTH=9;BYDAY=-1SU
END:STANDARD
BEGIN:DAYLIGHT
TZNAME:CEST
TZOFFSETFROM:+0100
TZOFFSETTO:+0200
DTSTART:19810329T020000
RRULE:FREQ=YEARLY;BYMONTH=3;BYDAY=-1SU
END:DAYLIGHT
BEGIN:STANDARD
TZNAME:CET
TZOFFSETFROM:+0200
TZOFFSETTO:+0100
DTSTART:19961027T030000
RRULE:FREQ=YEARLY;BYMONTH=10;BYDAY=-1SU
END:STANDARD
END:VTIMEZONE
BEGIN:VEVENT
DTSTAMP:20260424T165459Z
DTSTART;TZID=Europe/Berlin:20260206T200000
DTEND;TZID=Europe/Berlin:20260206T230000
SUMMARY:HE 5. Liga Gr. 6 Wolfhausen II vs Rüti (0)
UID:7f3c3ce4-6edf-4efd-ba8e-d8eb76a946ec
STATUS:CONFIRMED
LAST-MODIFIED:20260209T135124Z
DESCRIPTION:5. Liga Herren Gruppe 6\nBegegnungs-Nr: 0\nHeim: Wolfhausen II\nGast: Rüti\n\nAdresse: Schulstrasse 9\, 8633 Wolfhausen\n
LOCATION:Schulstrasse 9\, 8633 Wolfhausen
CATEGORIES:Saison 2025/26
END:VEVENT
BEGIN:VEVENT
DTSTAMP:20260424T165459Z
DTSTART;TZID=Europe/Berlin:20260130T200000
DTEND;TZID=Europe/Berlin:20260130T230000
SUMMARY:HE 5. Liga Gr. 6 Wolfhausen II vs Wetzikon VIII (0)
UID:ae865f5d-c7f2-4a5a-bfe8-8df4ae5d65f9
STATUS:CONFIRMED
LAST-MODIFIED:20260203T142611Z
DESCRIPTION:5. Liga Herren Gruppe 6\nBegegnungs-Nr: 0\nHeim: Wolfhausen II\nGast: Wetzikon VIII\n\nAdresse: Schulstrasse 9\, 8633 Wolfhausen\n
LOCATION:Schulstrasse 9\, 8633 Wolfhausen
CATEGORIES:Saison 2025/26
END:VEVENT
BEGIN:VEVENT
DTSTAMP:20260424T165459Z
DTSTART;TZID=Europe/Berlin:20260313T200000
DTEND;TZID=Europe/Berlin:20260313T230000
SUMMARY:HE 5. Liga Gr. 6 Wolfhausen II vs Wädenswil VI (0)
UID:2d8ce992-33a4-478d-a9ed-06136a86171f
STATUS:CONFIRMED
LAST-MODIFIED:20260317T144616Z
DESCRIPTION:5. Liga Herren Gruppe 6\nBegegnungs-Nr: 0\nHeim: Wolfhausen II\nGast: Wädenswil VI\n\nAdresse: Schulstrasse 9\, 8633 Wolfhausen\n
LOCATION:Schulstrasse 9\, 8633 Wolfhausen
CATEGORIES:Saison 2025/26
END:VEVENT
BEGIN:VEVENT
DTSTAMP:20260424T165459Z
DTSTART;TZID=Europe/Berlin:20250905T200000
DTEND;TZID=Europe/Berlin:20250905T230000
SUMMARY:HE 5. Liga Gr. 6 Wolfhausen II vs Greifensee (0)
UID:a4a3f9dc-cb71-4694-b609-e9ae95ee6865
STATUS:CONFIRMED
LAST-MODIFIED:20250908T140831Z
DESCRIPTION:5. Liga Herren Gruppe 6\nBegegnungs-Nr: 0\nHeim: Wolfhausen II\nGast: Greifensee\n\nAdresse: Schulstrasse 9\, 8633 Wolfhausen\n
LOCATION:Schulstrasse 9\, 8633 Wolfhausen
CATEGORIES:Saison 2025/26
END:VEVENT
BEGIN:VEVENT
DTSTAMP:20260424T165459Z
DTSTART;TZID=Europe/Berlin:20250922T200000
DTEND;TZID=Europe/Berlin:20250922T230000
SUMMARY:HE 5. Liga Gr. 6 Wolfhausen II vs Meilen-Männedorf IV (0)
UID:68e8c826-3a14-4ee3-ae29-7c0b8bcfc113
STATUS:CONFIRMED
LAST-MODIFIED:20250926T132751Z
DESCRIPTION:5. Liga Herren Gruppe 6\nBegegnungs-Nr: 0\nHeim: Wolfhausen II\nGast: Meilen-Männedorf IV\n\nAdresse: Schulstrasse 9\, 8633 Wolfhausen\n
LOCATION:Schulstrasse 9\, 8633 Wolfhausen
CATEGORIES:Saison 2025/26
END:VEVENT
BEGIN:VEVENT
DTSTAMP:20260424T165459Z
DTSTART;TZID=Europe/Berlin:20251107T200000
DTEND;TZID=Europe/Berlin:20251107T230000
SUMMARY:HE 5. Liga Gr. 6 Wolfhausen II vs Uster IV (0)
UID:de54e737-d38f-4482-82f6-26664627932e
STATUS:CONFIRMED
LAST-MODIFIED:20251114T142435Z
DESCRIPTION:5. Liga Herren Gruppe 6\nBegegnungs-Nr: 0\nHeim: Wolfhausen II\nGast: Uster IV\n\nAdresse: Schulstrasse 9\, 8633 Wolfhausen\n
LOCATION:Schulstrasse 9\, 8633 Wolfhausen
CATEGORIES:Saison 2025/26
END:VEVENT
BEGIN:VEVENT
DTSTAMP:20260424T165459Z
DTSTART;TZID=Europe/Berlin:20251205T200000
DTEND;TZID=Europe/Berlin:20251205T230000
SUMMARY:HE 5. Liga Gr. 6 Wolfhausen II vs Eschenbach (0)
UID:df2ea639-5b37-4588-b9b2-b2e28745e567
STATUS:CONFIRMED
LAST-MODIFIED:20251210T091109Z
DESCRIPTION:5. Liga Herren Gruppe 6\nBegegnungs-Nr: 0\nHeim: Wolfhausen II\nGast: Eschenbach\n\nAdresse: Schulstrasse 9\, 8633 Wolfhausen\n
LOCATION:Schulstrasse 9\, 8633 Wolfhausen
CATEGORIES:Saison 2025/26
END:VEVENT
BEGIN:VEVENT
DTSTAMP:20260424T165459Z
DTSTART;TZID=Europe/Berlin:20260127T200000
DTEND;TZID=Europe/Berlin:20260127T230000
SUMMARY:HE 5. Liga Gr. 6 Greifensee vs Wolfhausen II (0)
UID:09323389-4df7-4651-a8bc-e37c8de8174f
STATUS:CONFIRMED
LAST-MODIFIED:20260130T101746Z
DESCRIPTION:5. Liga Herren Gruppe 6\nBegegnungs-Nr: 0\nHeim: Greifensee\nGast: Wolfhausen II\n\nAdresse: Stationsstrasse\, 8606 Nänikon\n
LOCATION:Stationsstrasse\, 8606 Nänikon
CATEGORIES:Saison 2025/26
END:VEVENT
BEGIN:VEVENT
DTSTAMP:20260424T165459Z
DTSTART;TZID=Europe/Berlin:20260305T194500
DTEND;TZID=Europe/Berlin:20260305T224500
SUMMARY:HE 5. Liga Gr. 6 Meilen-Männedorf IV vs Wolfhausen II (0)
UID:587296da-a083-4fac-8b80-da117baee72e
STATUS:CONFIRMED
LAST-MODIFIED:20260313T132051Z
DESCRIPTION:5. Liga Herren Gruppe 6\nBegegnungs-Nr: 0\nHeim: Meilen-Männedorf IV\nGast: Wolfhausen II\n\nAdresse: Schulhausstr. 27\, 8706 Meilen\n
LOCATION:Schulhausstr. 27\, 8706 Meilen
CATEGORIES:Saison 2025/26
END:VEVENT
BEGIN:VEVENT
DTSTAMP:20260424T165459Z
DTSTART;TZID=Europe/Berlin:20260326T201500
DTEND;TZID=Europe/Berlin:20260326T231500
SUMMARY:HE 5. Liga Gr. 6 Uster IV vs Wolfhausen II (0)
UID:b4bb128e-d687-41d9-9330-9f892dad6e12
STATUS:CONFIRMED
LAST-MODIFIED:20260401T125410Z
DESCRIPTION:5. Liga Herren Gruppe 6\nBegegnungs-Nr: 0\nHeim: Uster IV\nGast: Wolfhausen II\n\nAdresse: Wilstrasse 30 / Zürcherstrasse\, 8610 Uster\n
LOCATION:Wilstrasse 30 / Zürcherstrasse\, 8610 Uster
CATEGORIES:Saison 2025/26
END:VEVENT
BEGIN:VEVENT
DTSTAMP:20260424T165459Z
DTSTART;TZID=Europe/Berlin:20260320T200000
DTEND;TZID=Europe/Berlin:20260320T230000
SUMMARY:HE 5. Liga Gr. 6 Eschenbach vs Wolfhausen II (0)
UID:66c656cb-0eb7-4686-a7cb-7a59f0b201e2
STATUS:CONFIRMED
LAST-MODIFIED:20260326T153219Z
DESCRIPTION:5. Liga Herren Gruppe 6\nBegegnungs-Nr: 0\nHeim: Eschenbach\nGast: Wolfhausen II\n\nAdresse: Bildstöcklistrasse 2\, 8733 Eschenbach\n
LOCATION:Bildstöcklistrasse 2\, 8733 Eschenbach
CATEGORIES:Saison 2025/26
END:VEVENT
BEGIN:VEVENT
DTSTAMP:20260424T165459Z
DTSTART;TZID=Europe/Berlin:20250826T200000
DTEND;TZID=Europe/Berlin:20250826T230000
SUMMARY:HE 5. Liga Gr. 6 Rüti vs Wolfhausen II (0)
UID:50dfaee5-13c9-4d1a-a5cf-abba521e4fdf
STATUS:CONFIRMED
LAST-MODIFIED:20250829T144141Z
DESCRIPTION:5. Liga Herren Gruppe 6\nBegegnungs-Nr: 0\nHeim: Rüti\nGast: Wolfhausen II\n\nAdresse: Spitalstrasse 20\, 8630 Rüti\n
LOCATION:Spitalstrasse 20\, 8630 Rüti
CATEGORIES:Saison 2025/26
END:VEVENT
BEGIN:VEVENT
DTSTAMP:20260424T165459Z
DTSTART;TZID=Europe/Berlin:20250919T194500
DTEND;TZID=Europe/Berlin:20250919T224500
SUMMARY:HE 5. Liga Gr. 6 Wetzikon VIII vs Wolfhausen II (0)
UID:02b38850-5a45-4e49-89a5-12ae2b2b1667
STATUS:CONFIRMED
LAST-MODIFIED:20250926T132743Z
DESCRIPTION:5. Liga Herren Gruppe 6\nBegegnungs-Nr: 0\nHeim: Wetzikon VIII\nGast: Wolfhausen II\n\nAdresse: Usterstrasse 37\, 8620 Wetzikon\n
LOCATION:Usterstrasse 37\, 8620 Wetzikon
CATEGORIES:Saison 2025/26
END:VEVENT
BEGIN:VEVENT
DTSTAMP:20260424T165459Z
DTSTART;TZID=Europe/Berlin:20251030T201500
DTEND;TZID=Europe/Berlin:20251030T231500
SUMMARY:HE 5. Liga Gr. 6 Wädenswil VI vs Wolfhausen II (0)
UID:4b7674ec-a9fd-4989-b7ea-2d3dcf9a195a
STATUS:CONFIRMED
LAST-MODIFIED:20251031T144103Z
DESCRIPTION:5. Liga Herren Gruppe 6\nBegegnungs-Nr: 0\nHeim: Wädenswil VI\nGast: Wolfhausen II\n\nAdresse: Speerstrasse 95\, 8820 Wädenswil\n
LOCATION:Speerstrasse 95\, 8820 Wädenswil
CATEGORIES:Saison 2025/26
END:VEVENT
END:VCALENDAR
