BEGIN:VCALENDAR
PRODID:-//nuDatenautomaten//framework iCal4j //DE
VERSION:2.0
CALSCALE:GREGORIAN
BEGIN:VTIMEZONE
TZID:Europe/Berlin
LAST-MODIFIED:20260306T231828Z
TZURL:https://www.tzurl.org/zoneinfo/Europe/Berlin
X-LIC-LOCATION:Europe/Berlin
X-PROLEPTIC-TZNAME:LMT
BEGIN:STANDARD
TZNAME:CET
TZOFFSETFROM:+005328
TZOFFSETTO:+0100
DTSTART:18930401T000000
END:STANDARD
BEGIN:DAYLIGHT
TZNAME:CEST
TZOFFSETFROM:+0100
TZOFFSETTO:+0200
DTSTART:19160430T230000
RDATE:19400401T020000
RDATE:19430329T020000
RDATE:19460414T020000
RDATE:19470406T030000
RDATE:19480418T020000
RDATE:19490410T020000
RDATE:19800406T020000
END:DAYLIGHT
BEGIN:STANDARD
TZNAME:CET
TZOFFSETFROM:+0200
TZOFFSETTO:+0100
DTSTART:19161001T010000
RDATE:19421102T030000
RDATE:19431004T030000
RDATE:19441002T030000
RDATE:19451118T030000
RDATE:19461007T030000
END:STANDARD
BEGIN:DAYLIGHT
TZNAME:CEST
TZOFFSETFROM:+0100
TZOFFSETTO:+0200
DTSTART:19170416T020000
RRULE:FREQ=YEARLY;UNTIL=19180415T010000Z;BYMONTH=4;BYDAY=3MO
END:DAYLIGHT
BEGIN:STANDARD
TZNAME:CET
TZOFFSETFROM:+0200
TZOFFSETTO:+0100
DTSTART:19170917T030000
RRULE:FREQ=YEARLY;UNTIL=19180916T010000Z;BYMONTH=9;BYDAY=3MO
END:STANDARD
BEGIN:DAYLIGHT
TZNAME:CEST
TZOFFSETFROM:+0100
TZOFFSETTO:+0200
DTSTART:19440403T020000
RRULE:FREQ=YEARLY;UNTIL=19450402T010000Z;BYMONTH=4;BYDAY=1MO
END:DAYLIGHT
BEGIN:DAYLIGHT
TZNAME:CEMT
TZOFFSETFROM:+0200
TZOFFSETTO:+0300
DTSTART:19450524T020000
RDATE:19470511T030000
END:DAYLIGHT
BEGIN:DAYLIGHT
TZNAME:CEST
TZOFFSETFROM:+0300
TZOFFSETTO:+0200
DTSTART:19450924T030000
RDATE:19470629T030000
END:DAYLIGHT
BEGIN:STANDARD
TZNAME:CET
TZOFFSETFROM:+0100
TZOFFSETTO:+0100
DTSTART:19460101T000000
RDATE:19800101T000000
END:STANDARD
BEGIN:STANDARD
TZNAME:CET
TZOFFSETFROM:+0200
TZOFFSETTO:+0100
DTSTART:19471005T030000
RRULE:FREQ=YEARLY;UNTIL=19491002T010000Z;BYMONTH=10;BYDAY=1SU
END:STANDARD
BEGIN:STANDARD
TZNAME:CET
TZOFFSETFROM:+0200
TZOFFSETTO:+0100
DTSTART:19800928T030000
RRULE:FREQ=YEARLY;UNTIL=19950924T010000Z;BYMONTH=9;BYDAY=-1SU
END:STANDARD
BEGIN:DAYLIGHT
TZNAME:CEST
TZOFFSETFROM:+0100
TZOFFSETTO:+0200
DTSTART:19810329T020000
RRULE:FREQ=YEARLY;BYMONTH=3;BYDAY=-1SU
END:DAYLIGHT
BEGIN:STANDARD
TZNAME:CET
TZOFFSETFROM:+0200
TZOFFSETTO:+0100
DTSTART:19961027T030000
RRULE:FREQ=YEARLY;BYMONTH=10;BYDAY=-1SU
END:STANDARD
END:VTIMEZONE
BEGIN:VEVENT
DTSTAMP:20260424T115000Z
DTSTART;TZID=Europe/Berlin:20250910T200000
DTEND;TZID=Europe/Berlin:20250910T230000
SUMMARY:ME L4 Gr 2\, Tours 1&2 Aigle vs Bulle IV (0)
UID:8672bfb9-1267-464f-86d9-051e827e5873
STATUS:CONFIRMED
LAST-MODIFIED:20250911T002353Z
DESCRIPTION:4ème ligue Hommes Groupe 2\, Tours 1&2\nBegegnungs-Nr: 0\nHeim: Aigle\nGast: Bulle IV\n\nAdresse: Rue du Collège 12\, 1860 Aigle\n
LOCATION:Rue du Collège 12\, 1860 Aigle
CATEGORIES:Saison 2025/26
END:VEVENT
BEGIN:VEVENT
DTSTAMP:20260424T115000Z
DTSTART;TZID=Europe/Berlin:20251001T200000
DTEND;TZID=Europe/Berlin:20251001T230000
SUMMARY:ME L4 Gr 2\, Tours 1&2 Aigle vs Mézières II (0)
UID:ef42f303-86d1-482f-a6c2-efa00a728792
STATUS:CONFIRMED
LAST-MODIFIED:20251003T163356Z
DESCRIPTION:4ème ligue Hommes Groupe 2\, Tours 1&2\nBegegnungs-Nr: 0\nHeim: Aigle\nGast: Mézières II\n\nAdresse: Rue du Collège 12\, 1860 Aigle\n
LOCATION:Rue du Collège 12\, 1860 Aigle
CATEGORIES:Saison 2025/26
END:VEVENT
BEGIN:VEVENT
DTSTAMP:20260424T115000Z
DTSTART;TZID=Europe/Berlin:20251008T200000
DTEND;TZID=Europe/Berlin:20251008T230000
SUMMARY:ME L4 Gr 2\, Tours 1&2 Aigle vs Chexbres II (0)
UID:fe9678f6-1812-45f7-ab12-796ae5710544
STATUS:CONFIRMED
LAST-MODIFIED:20251009T210822Z
DESCRIPTION:4ème ligue Hommes Groupe 2\, Tours 1&2\nBegegnungs-Nr: 0\nHeim: Aigle\nGast: Chexbres II\n\nAdresse: Rue du Collège 12\, 1860 Aigle\n
LOCATION:Rue du Collège 12\, 1860 Aigle
CATEGORIES:Saison 2025/26
END:VEVENT
BEGIN:VEVENT
DTSTAMP:20260424T115000Z
DTSTART;TZID=Europe/Berlin:20251029T200000
DTEND;TZID=Europe/Berlin:20251029T230000
SUMMARY:ME L4 Gr 2\, Tours 1&2 Aigle vs Martigny III (0)
UID:6fba4802-aa6c-4ad6-8ded-1a97642ddd98
STATUS:CONFIRMED
LAST-MODIFIED:20251030T105759Z
DESCRIPTION:4ème ligue Hommes Groupe 2\, Tours 1&2\nBegegnungs-Nr: 0\nHeim: Aigle\nGast: Martigny III\n\nAdresse: Rue du Collège 12\, 1860 Aigle\n
LOCATION:Rue du Collège 12\, 1860 Aigle
CATEGORIES:Saison 2025/26
END:VEVENT
BEGIN:VEVENT
DTSTAMP:20260424T115000Z
DTSTART;TZID=Europe/Berlin:20251119T200000
DTEND;TZID=Europe/Berlin:20251119T230000
SUMMARY:ME L4 Gr 2\, Tours 1&2 Aigle vs Romont-Villaz II (0)
UID:7b6db7a2-1a76-4543-86d8-a9a151164809
STATUS:CONFIRMED
LAST-MODIFIED:20251120T094525Z
DESCRIPTION:4ème ligue Hommes Groupe 2\, Tours 1&2\nBegegnungs-Nr: 0\nHeim: Aigle\nGast: Romont-Villaz II\n\nAdresse: Rue du Collège 12\, 1860 Aigle\n
LOCATION:Rue du Collège 12\, 1860 Aigle
CATEGORIES:Saison 2025/26
END:VEVENT
BEGIN:VEVENT
DTSTAMP:20260424T115000Z
DTSTART;TZID=Europe/Berlin:20260304T200000
DTEND;TZID=Europe/Berlin:20260304T230000
SUMMARY:ME L4 Gr 2\, Tours 3&4 Aigle vs Lausanne VII (0)
UID:488bc6e0-21d5-40cc-87e7-003b7e9557f1
STATUS:CONFIRMED
LAST-MODIFIED:20260305T200141Z
DESCRIPTION:4ème ligue Hommes Groupe 2\, Tours 3&4\nBegegnungs-Nr: 0\nHeim: Aigle\nGast: Lausanne VII\n\nAdresse: Rue du Collège 12\, 1860 Aigle\n
LOCATION:Rue du Collège 12\, 1860 Aigle
CATEGORIES:Saison 2025/26
END:VEVENT
BEGIN:VEVENT
DTSTAMP:20260424T115000Z
DTSTART;TZID=Europe/Berlin:20260211T200000
DTEND;TZID=Europe/Berlin:20260211T230000
SUMMARY:ME L4 Gr 2\, Tours 3&4 Aigle vs Montriond-Ouchy  III (0)
UID:44264374-2a7f-4d48-81f8-869d1415a950
STATUS:CONFIRMED
LAST-MODIFIED:20260212T112925Z
DESCRIPTION:4ème ligue Hommes Groupe 2\, Tours 3&4\nBegegnungs-Nr: 0\nHeim: Aigle\nGast: Montriond-Ouchy  III\n\nAdresse: Rue du Collège 12\, 1860 Aigle\n
LOCATION:Rue du Collège 12\, 1860 Aigle
CATEGORIES:Saison 2025/26
END:VEVENT
BEGIN:VEVENT
DTSTAMP:20260424T115000Z
DTSTART;TZID=Europe/Berlin:20260225T200000
DTEND;TZID=Europe/Berlin:20260225T230000
SUMMARY:ME L4 Gr 2\, Tours 3&4 Aigle vs Romanel III (0)
UID:0a451181-9c15-4593-a249-c795dc0663a9
STATUS:CONFIRMED
LAST-MODIFIED:20260227T102232Z
DESCRIPTION:4ème ligue Hommes Groupe 2\, Tours 3&4\nBegegnungs-Nr: 0\nHeim: Aigle\nGast: Romanel III\n\nAdresse: Rue du Collège 12\, 1860 Aigle\n
LOCATION:Rue du Collège 12\, 1860 Aigle
CATEGORIES:Saison 2025/26
END:VEVENT
BEGIN:VEVENT
DTSTAMP:20260424T115000Z
DTSTART;TZID=Europe/Berlin:20260318T200000
DTEND;TZID=Europe/Berlin:20260318T230000
SUMMARY:ME L4 Gr 2\, Tours 3&4 Aigle vs Montriond-Ouchy  II (0)
UID:e3e305e5-d0b3-4ba9-80ef-295b44dc30ce
STATUS:CONFIRMED
LAST-MODIFIED:20260321T102509Z
DESCRIPTION:4ème ligue Hommes Groupe 2\, Tours 3&4\nBegegnungs-Nr: 0\nHeim: Aigle\nGast: Montriond-Ouchy  II\n\nAdresse: Rue du Collège 12\, 1860 Aigle\n
LOCATION:Rue du Collège 12\, 1860 Aigle
CATEGORIES:Saison 2025/26
END:VEVENT
BEGIN:VEVENT
DTSTAMP:20260424T115000Z
DTSTART;TZID=Europe/Berlin:20260401T200000
DTEND;TZID=Europe/Berlin:20260401T230000
SUMMARY:ME L4 Gr 2\, Tours 3&4 Aigle vs Chexbres II (0)
UID:d795e54e-3f41-431f-a66f-fa5fa89ecea3
STATUS:CONFIRMED
LAST-MODIFIED:20260407T193121Z
DESCRIPTION:4ème ligue Hommes Groupe 2\, Tours 3&4\nBegegnungs-Nr: 0\nHeim: Aigle\nGast: Chexbres II\n\nAdresse: Rue du Collège 12\, 1860 Aigle\n
LOCATION:Rue du Collège 12\, 1860 Aigle
CATEGORIES:Saison 2025/26
END:VEVENT
BEGIN:VEVENT
DTSTAMP:20260424T115000Z
DTSTART;TZID=Europe/Berlin:20250902T200000
DTEND;TZID=Europe/Berlin:20250902T230000
SUMMARY:ME L4 Gr 2\, Tours 1&2 Martigny III vs Aigle (0)
UID:33a61dd2-f06d-410a-a80b-f7e71d1cea59
STATUS:CONFIRMED
LAST-MODIFIED:20250903T213029Z
DESCRIPTION:4ème ligue Hommes Groupe 2\, Tours 1&2\nBegegnungs-Nr: 0\nHeim: Martigny III\nGast: Aigle\n\nAdresse: Rue des Ecoles 9\, 1920 Martigny\n
LOCATION:Rue des Ecoles 9\, 1920 Martigny
CATEGORIES:Saison 2025/26
END:VEVENT
BEGIN:VEVENT
DTSTAMP:20260424T115000Z
DTSTART;TZID=Europe/Berlin:20250923T193000
DTEND;TZID=Europe/Berlin:20250923T223000
SUMMARY:ME L4 Gr 2\, Tours 1&2 Romont-Villaz II vs Aigle (0)
UID:9d1a1142-91ca-4402-b033-6dcf71cee5bd
STATUS:CONFIRMED
LAST-MODIFIED:20250925T094209Z
DESCRIPTION:4ème ligue Hommes Groupe 2\, Tours 1&2\nBegegnungs-Nr: 0\nHeim: Romont-Villaz II\nGast: Aigle\n\nAdresse: Route de la Gare 5\, 1690 Villaz-St-Pierre\n
LOCATION:Route de la Gare 5\, 1690 Villaz-St-Pierre
CATEGORIES:Saison 2025/26
END:VEVENT
BEGIN:VEVENT
DTSTAMP:20260424T115000Z
DTSTART;TZID=Europe/Berlin:20251105T200000
DTEND;TZID=Europe/Berlin:20251105T230000
SUMMARY:ME L4 Gr 2\, Tours 1&2 Bulle IV vs Aigle (0)
UID:d1d3e936-8c8a-4490-801b-721323556558
STATUS:CONFIRMED
LAST-MODIFIED:20251106T100418Z
DESCRIPTION:4ème ligue Hommes Groupe 2\, Tours 1&2\nBegegnungs-Nr: 0\nHeim: Bulle IV\nGast: Aigle\n\nAdresse: Rue du Stade 50\, 1630 Bulle\n
LOCATION:Rue du Stade 50\, 1630 Bulle
CATEGORIES:Saison 2025/26
END:VEVENT
BEGIN:VEVENT
DTSTAMP:20260424T115000Z
DTSTART;TZID=Europe/Berlin:20251126T200000
DTEND;TZID=Europe/Berlin:20251126T230000
SUMMARY:ME L4 Gr 2\, Tours 1&2 Mézières II vs Aigle (0)
UID:38cef01d-a62e-4434-b104-99dd45873273
STATUS:CONFIRMED
LAST-MODIFIED:20251127T112033Z
DESCRIPTION:4ème ligue Hommes Groupe 2\, Tours 1&2\nBegegnungs-Nr: 0\nHeim: Mézières II\nGast: Aigle\n\nAdresse: -\, 1083 Mézières\n
LOCATION:-\, 1083 Mézières
CATEGORIES:Saison 2025/26
END:VEVENT
BEGIN:VEVENT
DTSTAMP:20260424T115000Z
DTSTART;TZID=Europe/Berlin:20251211T194500
DTEND;TZID=Europe/Berlin:20251211T224500
SUMMARY:ME L4 Gr 2\, Tours 1&2 Chexbres II vs Aigle (0)
UID:d531b35f-942a-4d20-8565-f332b6b278c7
STATUS:CONFIRMED
LAST-MODIFIED:20251213T094919Z
DESCRIPTION:4ème ligue Hommes Groupe 2\, Tours 1&2\nBegegnungs-Nr: 0\nHeim: Chexbres II\nGast: Aigle\n\nAdresse: Collège de Praz Routoz\, 1071 Chexbres\n
LOCATION:Collège de Praz Routoz\, 1071 Chexbres
CATEGORIES:Saison 2025/26
END:VEVENT
BEGIN:VEVENT
DTSTAMP:20260424T115000Z
DTSTART;TZID=Europe/Berlin:20260206T193000
DTEND;TZID=Europe/Berlin:20260206T223000
SUMMARY:ME L4 Gr 2\, Tours 3&4 Montriond-Ouchy  II vs Aigle (0)
UID:bc33f115-cefb-4d1c-93b4-5d0b60d13715
STATUS:CONFIRMED
LAST-MODIFIED:20260207T152906Z
DESCRIPTION:4ème ligue Hommes Groupe 2\, Tours 3&4\nBegegnungs-Nr: 0\nHeim: Montriond-Ouchy  II\nGast: Aigle\n\nAdresse: Avenue d'Ouchy 45\, 1006 Lausanne\n
LOCATION:Avenue d'Ouchy 45\, 1006 Lausanne
CATEGORIES:Saison 2025/26
END:VEVENT
BEGIN:VEVENT
DTSTAMP:20260424T115000Z
DTSTART;TZID=Europe/Berlin:20260202T200000
DTEND;TZID=Europe/Berlin:20260202T230000
SUMMARY:ME L4 Gr 2\, Tours 3&4 Chexbres II vs Aigle (0)
UID:78d9af5d-f454-4fa6-97ea-2f09bd59dbf9
STATUS:CONFIRMED
LAST-MODIFIED:20260203T175331Z
DESCRIPTION:4ème ligue Hommes Groupe 2\, Tours 3&4\nBegegnungs-Nr: 0\nHeim: Chexbres II\nGast: Aigle\n\nAdresse: Collège de Praz Routoz\, 1071 Chexbres\n
LOCATION:Collège de Praz Routoz\, 1071 Chexbres
CATEGORIES:Saison 2025/26
END:VEVENT
BEGIN:VEVENT
DTSTAMP:20260424T115000Z
DTSTART;TZID=Europe/Berlin:20260327T200000
DTEND;TZID=Europe/Berlin:20260327T230000
SUMMARY:ME L4 Gr 2\, Tours 3&4 Lausanne VII vs Aigle (0)
UID:48b6065b-01d6-4bcc-aa78-02b902cf19ac
STATUS:CONFIRMED
LAST-MODIFIED:20260330T184703Z
DESCRIPTION:4ème ligue Hommes Groupe 2\, Tours 3&4\nBegegnungs-Nr: 0\nHeim: Lausanne VII\nGast: Aigle\n\nAdresse: Vaudoise Aréna\, Ch. du Viaduc 14\, 1008 Prilly\n
LOCATION:Vaudoise Aréna\, Ch. du Viaduc 14\, 1008 Prilly
CATEGORIES:Saison 2025/26
END:VEVENT
BEGIN:VEVENT
DTSTAMP:20260424T115000Z
DTSTART;TZID=Europe/Berlin:20260422T193000
DTEND;TZID=Europe/Berlin:20260422T223000
SUMMARY:ME L4 Gr 2\, Tours 3&4 Montriond-Ouchy  III vs Aigle (0)
UID:c909db20-239a-4f72-9410-304d20ddb092
STATUS:CONFIRMED
LAST-MODIFIED:20260423T075513Z
DESCRIPTION:4ème ligue Hommes Groupe 2\, Tours 3&4\nBegegnungs-Nr: 0\nHeim: Montriond-Ouchy  III\nGast: Aigle\n\nAdresse: Avenue d'Ouchy 45\, 1006 Lausanne\n
LOCATION:Avenue d'Ouchy 45\, 1006 Lausanne
CATEGORIES:Saison 2025/26
END:VEVENT
BEGIN:VEVENT
DTSTAMP:20260424T115000Z
DTSTART;TZID=Europe/Berlin:20260428T193000
DTEND;TZID=Europe/Berlin:20260428T223000
SUMMARY:ME L4 Gr 2\, Tours 3&4 Romanel III vs Aigle (0)
UID:7b38600f-0e02-4667-8f5e-94e480af090b
STATUS:CONFIRMED
DESCRIPTION:4ème ligue Hommes Groupe 2\, Tours 3&4\nBegegnungs-Nr: 0\nHeim: Romanel III\nGast: Aigle\n\nAdresse: Ch des Epinettes 1\, 1032 Romanel-sur-Lausanne\n
LOCATION:Ch des Epinettes 1\, 1032 Romanel-sur-Lausanne
CATEGORIES:Saison 2025/26
END:VEVENT
END:VCALENDAR
