BEGIN:VCALENDAR
PRODID:-//nuDatenautomaten//framework iCal4j //DE
VERSION:2.0
CALSCALE:GREGORIAN
BEGIN:VTIMEZONE
TZID:Europe/Berlin
LAST-MODIFIED:20260306T231828Z
TZURL:https://www.tzurl.org/zoneinfo/Europe/Berlin
X-LIC-LOCATION:Europe/Berlin
X-PROLEPTIC-TZNAME:LMT
BEGIN:STANDARD
TZNAME:CET
TZOFFSETFROM:+005328
TZOFFSETTO:+0100
DTSTART:18930401T000000
END:STANDARD
BEGIN:DAYLIGHT
TZNAME:CEST
TZOFFSETFROM:+0100
TZOFFSETTO:+0200
DTSTART:19160430T230000
RDATE:19400401T020000
RDATE:19430329T020000
RDATE:19460414T020000
RDATE:19470406T030000
RDATE:19480418T020000
RDATE:19490410T020000
RDATE:19800406T020000
END:DAYLIGHT
BEGIN:STANDARD
TZNAME:CET
TZOFFSETFROM:+0200
TZOFFSETTO:+0100
DTSTART:19161001T010000
RDATE:19421102T030000
RDATE:19431004T030000
RDATE:19441002T030000
RDATE:19451118T030000
RDATE:19461007T030000
END:STANDARD
BEGIN:DAYLIGHT
TZNAME:CEST
TZOFFSETFROM:+0100
TZOFFSETTO:+0200
DTSTART:19170416T020000
RRULE:FREQ=YEARLY;UNTIL=19180415T010000Z;BYMONTH=4;BYDAY=3MO
END:DAYLIGHT
BEGIN:STANDARD
TZNAME:CET
TZOFFSETFROM:+0200
TZOFFSETTO:+0100
DTSTART:19170917T030000
RRULE:FREQ=YEARLY;UNTIL=19180916T010000Z;BYMONTH=9;BYDAY=3MO
END:STANDARD
BEGIN:DAYLIGHT
TZNAME:CEST
TZOFFSETFROM:+0100
TZOFFSETTO:+0200
DTSTART:19440403T020000
RRULE:FREQ=YEARLY;UNTIL=19450402T010000Z;BYMONTH=4;BYDAY=1MO
END:DAYLIGHT
BEGIN:DAYLIGHT
TZNAME:CEMT
TZOFFSETFROM:+0200
TZOFFSETTO:+0300
DTSTART:19450524T020000
RDATE:19470511T030000
END:DAYLIGHT
BEGIN:DAYLIGHT
TZNAME:CEST
TZOFFSETFROM:+0300
TZOFFSETTO:+0200
DTSTART:19450924T030000
RDATE:19470629T030000
END:DAYLIGHT
BEGIN:STANDARD
TZNAME:CET
TZOFFSETFROM:+0100
TZOFFSETTO:+0100
DTSTART:19460101T000000
RDATE:19800101T000000
END:STANDARD
BEGIN:STANDARD
TZNAME:CET
TZOFFSETFROM:+0200
TZOFFSETTO:+0100
DTSTART:19471005T030000
RRULE:FREQ=YEARLY;UNTIL=19491002T010000Z;BYMONTH=10;BYDAY=1SU
END:STANDARD
BEGIN:STANDARD
TZNAME:CET
TZOFFSETFROM:+0200
TZOFFSETTO:+0100
DTSTART:19800928T030000
RRULE:FREQ=YEARLY;UNTIL=19950924T010000Z;BYMONTH=9;BYDAY=-1SU
END:STANDARD
BEGIN:DAYLIGHT
TZNAME:CEST
TZOFFSETFROM:+0100
TZOFFSETTO:+0200
DTSTART:19810329T020000
RRULE:FREQ=YEARLY;BYMONTH=3;BYDAY=-1SU
END:DAYLIGHT
BEGIN:STANDARD
TZNAME:CET
TZOFFSETFROM:+0200
TZOFFSETTO:+0100
DTSTART:19961027T030000
RRULE:FREQ=YEARLY;BYMONTH=10;BYDAY=-1SU
END:STANDARD
END:VTIMEZONE
BEGIN:VEVENT
DTSTAMP:20260424T135212Z
DTSTART;TZID=Europe/Berlin:20260113T201500
DTEND;TZID=Europe/Berlin:20260113T231500
SUMMARY:HE 3. Liga Gr. 3 Bremgarten V vs Frick II (0)
UID:939d2d34-c3a1-4f50-99f3-8fc94b1d3eb9
STATUS:CONFIRMED
LAST-MODIFIED:20260115T094354Z
DESCRIPTION:3. Liga Herren Gruppe 3\nBegegnungs-Nr: 0\nHeim: Bremgarten V\nGast: Frick II\n\nAdresse: Badstrasse 3\, 5620 Bremgarten\n
LOCATION:Badstrasse 3\, 5620 Bremgarten
CATEGORIES:Saison 2025/26
END:VEVENT
BEGIN:VEVENT
DTSTAMP:20260424T135212Z
DTSTART;TZID=Europe/Berlin:20260307T133000
DTEND;TZID=Europe/Berlin:20260307T163000
SUMMARY:HE 3. Liga Gr. 3 Bremgarten V vs Aarau II (0)
UID:d926fb73-b84f-4ad8-a946-98d41b245a48
STATUS:CONFIRMED
LAST-MODIFIED:20260313T125106Z
DESCRIPTION:3. Liga Herren Gruppe 3\nBegegnungs-Nr: 0\nHeim: Bremgarten V\nGast: Aarau II\n\nAdresse: Badstrasse 3\, 5620 Bremgarten\n
LOCATION:Badstrasse 3\, 5620 Bremgarten
CATEGORIES:Saison 2025/26
END:VEVENT
BEGIN:VEVENT
DTSTAMP:20260424T135212Z
DTSTART;TZID=Europe/Berlin:20250830T133000
DTEND;TZID=Europe/Berlin:20250830T163000
SUMMARY:HE 3. Liga Gr. 3 Bremgarten V vs Baden-Wettingen IV (0)
UID:bb6e43eb-ec5a-4989-a4f2-abf313591172
STATUS:CONFIRMED
LAST-MODIFIED:20250905T121054Z
DESCRIPTION:3. Liga Herren Gruppe 3\nBegegnungs-Nr: 0\nHeim: Bremgarten V\nGast: Baden-Wettingen IV\n\nAdresse: Badstrasse 3\, 5620 Bremgarten\n
LOCATION:Badstrasse 3\, 5620 Bremgarten
CATEGORIES:Saison 2025/26
END:VEVENT
BEGIN:VEVENT
DTSTAMP:20260424T135212Z
DTSTART;TZID=Europe/Berlin:20250912T201500
DTEND;TZID=Europe/Berlin:20250912T231500
SUMMARY:HE 3. Liga Gr. 3 Bremgarten V vs Olten IV (0)
UID:4082df39-25ae-4c68-a6cc-83baeb059082
STATUS:CONFIRMED
LAST-MODIFIED:20250918T094905Z
DESCRIPTION:3. Liga Herren Gruppe 3\nBegegnungs-Nr: 0\nHeim: Bremgarten V\nGast: Olten IV\n\nAdresse: Badstrasse 3\, 5620 Bremgarten\n
LOCATION:Badstrasse 3\, 5620 Bremgarten
CATEGORIES:Saison 2025/26
END:VEVENT
BEGIN:VEVENT
DTSTAMP:20260424T135212Z
DTSTART;TZID=Europe/Berlin:20251018T133000
DTEND;TZID=Europe/Berlin:20251018T163000
SUMMARY:HE 3. Liga Gr. 3 Bremgarten V vs Schöftland IV (0)
UID:a99fe8ec-2adc-4234-b8fd-321cb6d3941a
STATUS:CONFIRMED
LAST-MODIFIED:20251020T112952Z
DESCRIPTION:3. Liga Herren Gruppe 3\nBegegnungs-Nr: 0\nHeim: Bremgarten V\nGast: Schöftland IV\n\nAdresse: Badstrasse 3\, 5620 Bremgarten\n
LOCATION:Badstrasse 3\, 5620 Bremgarten
CATEGORIES:Saison 2025/26
END:VEVENT
BEGIN:VEVENT
DTSTAMP:20260424T135212Z
DTSTART;TZID=Europe/Berlin:20251206T133000
DTEND;TZID=Europe/Berlin:20251206T163000
SUMMARY:HE 3. Liga Gr. 3 Bremgarten V vs Brugg II (0)
UID:088e0ed0-b079-406d-9e74-ba6427588ad5
STATUS:CONFIRMED
LAST-MODIFIED:20251211T111812Z
DESCRIPTION:3. Liga Herren Gruppe 3\nBegegnungs-Nr: 0\nHeim: Bremgarten V\nGast: Brugg II\n\nAdresse: Badstrasse 3\, 5620 Bremgarten\n
LOCATION:Badstrasse 3\, 5620 Bremgarten
CATEGORIES:Saison 2025/26
END:VEVENT
BEGIN:VEVENT
DTSTAMP:20260424T135212Z
DTSTART;TZID=Europe/Berlin:20251128T201500
DTEND;TZID=Europe/Berlin:20251128T231500
SUMMARY:HE 3. Liga Gr. 3 Bremgarten V vs Zofingen (0)
UID:9f2ec930-d478-4a55-ac34-43a8f56a108f
STATUS:CONFIRMED
LAST-MODIFIED:20251201T142137Z
DESCRIPTION:3. Liga Herren Gruppe 3\nBegegnungs-Nr: 0\nHeim: Bremgarten V\nGast: Zofingen\n\nAdresse: Badstrasse 3\, 5620 Bremgarten\n
LOCATION:Badstrasse 3\, 5620 Bremgarten
CATEGORIES:Saison 2025/26
END:VEVENT
BEGIN:VEVENT
DTSTAMP:20260424T135212Z
DTSTART;TZID=Europe/Berlin:20260122T200000
DTEND;TZID=Europe/Berlin:20260122T230000
SUMMARY:HE 3. Liga Gr. 3 Baden-Wettingen IV vs Bremgarten V (0)
UID:46579bbb-eb8e-49fb-9616-c33f837ff96a
STATUS:CONFIRMED
LAST-MODIFIED:20260123T081329Z
DESCRIPTION:3. Liga Herren Gruppe 3\nBegegnungs-Nr: 0\nHeim: Baden-Wettingen IV\nGast: Bremgarten V\n\nAdresse: Schulstrasse 14\, 5430 Wettingen\n
LOCATION:Schulstrasse 14\, 5430 Wettingen
CATEGORIES:Saison 2025/26
END:VEVENT
BEGIN:VEVENT
DTSTAMP:20260424T135212Z
DTSTART;TZID=Europe/Berlin:20260130T194500
DTEND;TZID=Europe/Berlin:20260130T224500
SUMMARY:HE 3. Liga Gr. 3 Olten IV vs Bremgarten V (0)
UID:3f129d55-669c-4f35-b580-160f523c8a39
STATUS:CONFIRMED
LAST-MODIFIED:20260203T141343Z
DESCRIPTION:3. Liga Herren Gruppe 3\nBegegnungs-Nr: 0\nHeim: Olten IV\nGast: Bremgarten V\n\nAdresse: Engelbergstrasse 60\, 4600 Olten\n
LOCATION:Engelbergstrasse 60\, 4600 Olten
CATEGORIES:Saison 2025/26
END:VEVENT
BEGIN:VEVENT
DTSTAMP:20260424T135212Z
DTSTART;TZID=Europe/Berlin:20260213T200000
DTEND;TZID=Europe/Berlin:20260213T230000
SUMMARY:HE 3. Liga Gr. 3 Schöftland IV vs Bremgarten V (0)
UID:e2794ac7-0cab-44c1-809f-26caf354780c
STATUS:CONFIRMED
LAST-MODIFIED:20260218T071248Z
DESCRIPTION:3. Liga Herren Gruppe 3\nBegegnungs-Nr: 0\nHeim: Schöftland IV\nGast: Bremgarten V\n\nAdresse: Birkenweg\, 5040 Schöftland\n
LOCATION:Birkenweg\, 5040 Schöftland
CATEGORIES:Saison 2025/26
END:VEVENT
BEGIN:VEVENT
DTSTAMP:20260424T135212Z
DTSTART;TZID=Europe/Berlin:20260310T194500
DTEND;TZID=Europe/Berlin:20260310T224500
SUMMARY:HE 3. Liga Gr. 3 Brugg II vs Bremgarten V (0)
UID:26632821-157d-424f-b9a8-16db9c640e66
STATUS:CONFIRMED
LAST-MODIFIED:20260313T125126Z
DESCRIPTION:3. Liga Herren Gruppe 3\nBegegnungs-Nr: 0\nHeim: Brugg II\nGast: Bremgarten V\n\nAdresse: Sommerhaldenstrasse 29\, 5200 Brugg/Lauffohr\n
LOCATION:Sommerhaldenstrasse 29\, 5200 Brugg/Lauffohr
CATEGORIES:Saison 2025/26
END:VEVENT
BEGIN:VEVENT
DTSTAMP:20260424T135212Z
DTSTART;TZID=Europe/Berlin:20260324T194500
DTEND;TZID=Europe/Berlin:20260324T224500
SUMMARY:HE 3. Liga Gr. 3 Zofingen vs Bremgarten V (0)
UID:48d0ed1d-5ac1-4c7d-8d6a-875accc06866
STATUS:CONFIRMED
LAST-MODIFIED:20260409T114607Z
DESCRIPTION:3. Liga Herren Gruppe 3\nBegegnungs-Nr: 0\nHeim: Zofingen\nGast: Bremgarten V\n\nAdresse: Strengelbacherstrasse 14\, 4800 Zofingen\n
LOCATION:Strengelbacherstrasse 14\, 4800 Zofingen
CATEGORIES:Saison 2025/26
END:VEVENT
BEGIN:VEVENT
DTSTAMP:20260424T135212Z
DTSTART;TZID=Europe/Berlin:20250822T200000
DTEND;TZID=Europe/Berlin:20250822T230000
SUMMARY:HE 3. Liga Gr. 3 Frick II vs Bremgarten V (0)
UID:5fa68b1b-5819-40f1-8724-3b7b82b4c517
STATUS:CONFIRMED
LAST-MODIFIED:20250825T065429Z
DESCRIPTION:3. Liga Herren Gruppe 3\nBegegnungs-Nr: 0\nHeim: Frick II\nGast: Bremgarten V\n\nAdresse: Schulstrasse 51\, 5070 Frick\n
LOCATION:Schulstrasse 51\, 5070 Frick
CATEGORIES:Saison 2025/26
END:VEVENT
BEGIN:VEVENT
DTSTAMP:20260424T135212Z
DTSTART;TZID=Europe/Berlin:20251031T194500
DTEND;TZID=Europe/Berlin:20251031T224500
SUMMARY:HE 3. Liga Gr. 3 Aarau II vs Bremgarten V (0)
UID:83b46f8a-abe0-4cc9-a487-9661a03c9c29
STATUS:CONFIRMED
LAST-MODIFIED:20251107T143132Z
DESCRIPTION:3. Liga Herren Gruppe 3\nBegegnungs-Nr: 0\nHeim: Aarau II\nGast: Bremgarten V\n\nAdresse: Weltistrasse 20\, 5000 Aarau\n
LOCATION:Weltistrasse 20\, 5000 Aarau
CATEGORIES:Saison 2025/26
END:VEVENT
END:VCALENDAR
