BEGIN:VCALENDAR
PRODID:-//nuDatenautomaten//framework iCal4j //DE
VERSION:2.0
CALSCALE:GREGORIAN
BEGIN:VTIMEZONE
TZID:Europe/Berlin
LAST-MODIFIED:20260306T231828Z
TZURL:https://www.tzurl.org/zoneinfo/Europe/Berlin
X-LIC-LOCATION:Europe/Berlin
X-PROLEPTIC-TZNAME:LMT
BEGIN:STANDARD
TZNAME:CET
TZOFFSETFROM:+005328
TZOFFSETTO:+0100
DTSTART:18930401T000000
END:STANDARD
BEGIN:DAYLIGHT
TZNAME:CEST
TZOFFSETFROM:+0100
TZOFFSETTO:+0200
DTSTART:19160430T230000
RDATE:19400401T020000
RDATE:19430329T020000
RDATE:19460414T020000
RDATE:19470406T030000
RDATE:19480418T020000
RDATE:19490410T020000
RDATE:19800406T020000
END:DAYLIGHT
BEGIN:STANDARD
TZNAME:CET
TZOFFSETFROM:+0200
TZOFFSETTO:+0100
DTSTART:19161001T010000
RDATE:19421102T030000
RDATE:19431004T030000
RDATE:19441002T030000
RDATE:19451118T030000
RDATE:19461007T030000
END:STANDARD
BEGIN:DAYLIGHT
TZNAME:CEST
TZOFFSETFROM:+0100
TZOFFSETTO:+0200
DTSTART:19170416T020000
RRULE:FREQ=YEARLY;UNTIL=19180415T010000Z;BYMONTH=4;BYDAY=3MO
END:DAYLIGHT
BEGIN:STANDARD
TZNAME:CET
TZOFFSETFROM:+0200
TZOFFSETTO:+0100
DTSTART:19170917T030000
RRULE:FREQ=YEARLY;UNTIL=19180916T010000Z;BYMONTH=9;BYDAY=3MO
END:STANDARD
BEGIN:DAYLIGHT
TZNAME:CEST
TZOFFSETFROM:+0100
TZOFFSETTO:+0200
DTSTART:19440403T020000
RRULE:FREQ=YEARLY;UNTIL=19450402T010000Z;BYMONTH=4;BYDAY=1MO
END:DAYLIGHT
BEGIN:DAYLIGHT
TZNAME:CEMT
TZOFFSETFROM:+0200
TZOFFSETTO:+0300
DTSTART:19450524T020000
RDATE:19470511T030000
END:DAYLIGHT
BEGIN:DAYLIGHT
TZNAME:CEST
TZOFFSETFROM:+0300
TZOFFSETTO:+0200
DTSTART:19450924T030000
RDATE:19470629T030000
END:DAYLIGHT
BEGIN:STANDARD
TZNAME:CET
TZOFFSETFROM:+0100
TZOFFSETTO:+0100
DTSTART:19460101T000000
RDATE:19800101T000000
END:STANDARD
BEGIN:STANDARD
TZNAME:CET
TZOFFSETFROM:+0200
TZOFFSETTO:+0100
DTSTART:19471005T030000
RRULE:FREQ=YEARLY;UNTIL=19491002T010000Z;BYMONTH=10;BYDAY=1SU
END:STANDARD
BEGIN:STANDARD
TZNAME:CET
TZOFFSETFROM:+0200
TZOFFSETTO:+0100
DTSTART:19800928T030000
RRULE:FREQ=YEARLY;UNTIL=19950924T010000Z;BYMONTH=9;BYDAY=-1SU
END:STANDARD
BEGIN:DAYLIGHT
TZNAME:CEST
TZOFFSETFROM:+0100
TZOFFSETTO:+0200
DTSTART:19810329T020000
RRULE:FREQ=YEARLY;BYMONTH=3;BYDAY=-1SU
END:DAYLIGHT
BEGIN:STANDARD
TZNAME:CET
TZOFFSETFROM:+0200
TZOFFSETTO:+0100
DTSTART:19961027T030000
RRULE:FREQ=YEARLY;BYMONTH=10;BYDAY=-1SU
END:STANDARD
END:VTIMEZONE
BEGIN:VEVENT
DTSTAMP:20260424T063717Z
DTSTART;TZID=Europe/Berlin:20250910T194500
DTEND;TZID=Europe/Berlin:20250910T224500
SUMMARY:HE 2. Liga Gr. 1 Solothurn II vs Burgdorf V (8)
UID:29b44b0a-0194-4ac2-bf6f-aef83bbf6161
STATUS:CONFIRMED
LAST-MODIFIED:20250918T141439Z
DESCRIPTION:2. Liga Herren Gruppe 1\nBegegnungs-Nr: 8\nHeim: Solothurn II\nGast: Burgdorf V\n\nAdresse: Untere Sternengasse 24\, 4500 Solothurn\n
LOCATION:Untere Sternengasse 24\, 4500 Solothurn
CATEGORIES:Saison 2025/26
END:VEVENT
BEGIN:VEVENT
DTSTAMP:20260424T063717Z
DTSTART;TZID=Europe/Berlin:20251119T194500
DTEND;TZID=Europe/Berlin:20251119T224500
SUMMARY:HE 2. Liga Gr. 1 Solothurn II vs Bern III (43)
UID:0b8dd7cd-150e-458d-af8e-76a28b16ad05
STATUS:CONFIRMED
LAST-MODIFIED:20251122T091633Z
DESCRIPTION:2. Liga Herren Gruppe 1\nBegegnungs-Nr: 43\nHeim: Solothurn II\nGast: Bern III\n\nAdresse: Untere Sternengasse 24\, 4500 Solothurn\n
LOCATION:Untere Sternengasse 24\, 4500 Solothurn
CATEGORIES:Saison 2025/26
END:VEVENT
BEGIN:VEVENT
DTSTAMP:20260424T063717Z
DTSTART;TZID=Europe/Berlin:20251105T194500
DTEND;TZID=Europe/Berlin:20251105T224500
SUMMARY:HE 2. Liga Gr. 1 Solothurn II vs Ostermundigen III (24)
UID:d25f7803-fe90-4737-acfd-9a07b16121eb
STATUS:CONFIRMED
LAST-MODIFIED:20251115T171132Z
DESCRIPTION:2. Liga Herren Gruppe 1\nBegegnungs-Nr: 24\nHeim: Solothurn II\nGast: Ostermundigen III\n\nAdresse: Untere Sternengasse 24\, 4500 Solothurn\n
LOCATION:Untere Sternengasse 24\, 4500 Solothurn
CATEGORIES:Saison 2025/26
END:VEVENT
BEGIN:VEVENT
DTSTAMP:20260424T063717Z
DTSTART;TZID=Europe/Berlin:20251029T194500
DTEND;TZID=Europe/Berlin:20251029T224500
SUMMARY:HE 2. Liga Gr. 1 Solothurn II vs Thun II (20)
UID:c4c3eb8b-fce7-43f7-b561-2b30da5982c0
STATUS:CONFIRMED
LAST-MODIFIED:20251111T072220Z
DESCRIPTION:2. Liga Herren Gruppe 1\nBegegnungs-Nr: 20\nHeim: Solothurn II\nGast: Thun II\n\nAdresse: Untere Sternengasse 24\, 4500 Solothurn\n
LOCATION:Untere Sternengasse 24\, 4500 Solothurn
CATEGORIES:Saison 2025/26
END:VEVENT
BEGIN:VEVENT
DTSTAMP:20260424T063717Z
DTSTART;TZID=Europe/Berlin:20260325T194500
DTEND;TZID=Europe/Berlin:20260325T224500
SUMMARY:HE 2. Liga Gr. 1 Solothurn II vs Heimberg III (39)
UID:7d1bce36-340c-4da4-a2a8-1f765c4232cf
STATUS:CONFIRMED
LAST-MODIFIED:20260409T123736Z
DESCRIPTION:2. Liga Herren Gruppe 1\nBegegnungs-Nr: 39\nHeim: Solothurn II\nGast: Heimberg III\n\nAdresse: Untere Sternengasse 24\, 4500 Solothurn\n
LOCATION:Untere Sternengasse 24\, 4500 Solothurn
CATEGORIES:Saison 2025/26
END:VEVENT
BEGIN:VEVENT
DTSTAMP:20260424T063717Z
DTSTART;TZID=Europe/Berlin:20260225T194500
DTEND;TZID=Europe/Berlin:20260225T224500
SUMMARY:HE 2. Liga Gr. 1 Solothurn II vs Langnau (31)
UID:a0dd99a8-45dc-4922-aa3a-ec8b8d82733b
STATUS:CONFIRMED
LAST-MODIFIED:20260302T144357Z
DESCRIPTION:2. Liga Herren Gruppe 1\nBegegnungs-Nr: 31\nHeim: Solothurn II\nGast: Langnau\n\nAdresse: Untere Sternengasse 24\, 4500 Solothurn\n
LOCATION:Untere Sternengasse 24\, 4500 Solothurn
CATEGORIES:Saison 2025/26
END:VEVENT
BEGIN:VEVENT
DTSTAMP:20260424T063717Z
DTSTART;TZID=Europe/Berlin:20260304T194500
DTEND;TZID=Europe/Berlin:20260304T224500
SUMMARY:HE 2. Liga Gr. 1 Solothurn II vs Belp (29)
UID:2e2a2cd1-fb0d-4c9e-a230-46458b987897
STATUS:CONFIRMED
LAST-MODIFIED:20260308T173319Z
DESCRIPTION:2. Liga Herren Gruppe 1\nBegegnungs-Nr: 29\nHeim: Solothurn II\nGast: Belp\n\nAdresse: Untere Sternengasse 24\, 4500 Solothurn\n
LOCATION:Untere Sternengasse 24\, 4500 Solothurn
CATEGORIES:Saison 2025/26
END:VEVENT
BEGIN:VEVENT
DTSTAMP:20260424T063717Z
DTSTART;TZID=Europe/Berlin:20260128T194500
DTEND;TZID=Europe/Berlin:20260128T224500
SUMMARY:HE 2. Liga Gr. 1 Solothurn II vs Grauholz (14)
UID:aa796cdd-2b6b-4dc5-8f81-5cf3d990216f
STATUS:CONFIRMED
LAST-MODIFIED:20260217T212053Z
DESCRIPTION:2. Liga Herren Gruppe 1\nBegegnungs-Nr: 14\nHeim: Solothurn II\nGast: Grauholz\n\nAdresse: Untere Sternengasse 24\, 4500 Solothurn\n
LOCATION:Untere Sternengasse 24\, 4500 Solothurn
CATEGORIES:Saison 2025/26
END:VEVENT
BEGIN:VEVENT
DTSTAMP:20260424T063717Z
DTSTART;TZID=Europe/Berlin:20260114T194500
DTEND;TZID=Europe/Berlin:20260114T224500
SUMMARY:HE 2. Liga Gr. 1 Solothurn II vs Worb (2)
UID:66f9ea8a-ddc0-4ffa-a926-4fc5c80322dd
STATUS:CONFIRMED
LAST-MODIFIED:20260125T000028Z
DESCRIPTION:2. Liga Herren Gruppe 1\nBegegnungs-Nr: 2\nHeim: Solothurn II\nGast: Worb\n\nAdresse: Untere Sternengasse 24\, 4500 Solothurn\n
LOCATION:Untere Sternengasse 24\, 4500 Solothurn
CATEGORIES:Saison 2025/26
END:VEVENT
BEGIN:VEVENT
DTSTAMP:20260424T063717Z
DTSTART;TZID=Europe/Berlin:20251206T150000
DTEND;TZID=Europe/Berlin:20251206T180000
SUMMARY:HE 2. Liga Gr. 1 Heimberg III vs Solothurn II (39)
UID:00afc2dc-5aee-43ec-ac4f-16b8da3ee7f9
STATUS:CONFIRMED
LAST-MODIFIED:20251206T233222Z
DESCRIPTION:2. Liga Herren Gruppe 1\nBegegnungs-Nr: 39\nHeim: Heimberg III\nGast: Solothurn II\n\nAdresse: Niesenstrasse 38\, 3627 Heimberg\n
LOCATION:Niesenstrasse 38\, 3627 Heimberg
CATEGORIES:Saison 2025/26
END:VEVENT
BEGIN:VEVENT
DTSTAMP:20260424T063717Z
DTSTART;TZID=Europe/Berlin:20251203T200000
DTEND;TZID=Europe/Berlin:20251203T230000
SUMMARY:HE 2. Liga Gr. 1 Langnau vs Solothurn II (31)
UID:9efccbae-14bf-4e23-9ff2-a2cbca81b93e
STATUS:CONFIRMED
LAST-MODIFIED:20251206T232455Z
DESCRIPTION:2. Liga Herren Gruppe 1\nBegegnungs-Nr: 31\nHeim: Langnau\nGast: Solothurn II\n\nAdresse: Bleicheweg 11\, 3550 Langnau\n
LOCATION:Bleicheweg 11\, 3550 Langnau
CATEGORIES:Saison 2025/26
END:VEVENT
BEGIN:VEVENT
DTSTAMP:20260424T063717Z
DTSTART;TZID=Europe/Berlin:20251112T193000
DTEND;TZID=Europe/Berlin:20251112T223000
SUMMARY:HE 2. Liga Gr. 1 Belp vs Solothurn II (29)
UID:4228cbdb-2194-4f2f-b716-05e191247666
STATUS:CONFIRMED
LAST-MODIFIED:20251122T091706Z
DESCRIPTION:2. Liga Herren Gruppe 1\nBegegnungs-Nr: 29\nHeim: Belp\nGast: Solothurn II\n\nAdresse: Neumattstrasse 39\, 3123 Belp\n
LOCATION:Neumattstrasse 39\, 3123 Belp
CATEGORIES:Saison 2025/26
END:VEVENT
BEGIN:VEVENT
DTSTAMP:20260424T063717Z
DTSTART;TZID=Europe/Berlin:20250912T194500
DTEND;TZID=Europe/Berlin:20250912T224500
SUMMARY:HE 2. Liga Gr. 1 Worb vs Solothurn II (2)
UID:39701712-44b8-4b2c-b0f1-1e8a02d805ce
STATUS:CONFIRMED
LAST-MODIFIED:20250918T141422Z
DESCRIPTION:2. Liga Herren Gruppe 1\nBegegnungs-Nr: 2\nHeim: Worb\nGast: Solothurn II\n\nAdresse: Rosenweg 9\, 3075 Rüfenacht BE\n
LOCATION:Rosenweg 9\, 3075 Rüfenacht BE
CATEGORIES:Saison 2025/26
END:VEVENT
BEGIN:VEVENT
DTSTAMP:20260424T063717Z
DTSTART;TZID=Europe/Berlin:20251010T194500
DTEND;TZID=Europe/Berlin:20251010T224500
SUMMARY:HE 2. Liga Gr. 1 Grauholz vs Solothurn II (14)
UID:622f244a-9a68-449c-b5fe-acf111103b0c
STATUS:CONFIRMED
LAST-MODIFIED:20251014T112914Z
DESCRIPTION:2. Liga Herren Gruppe 1\nBegegnungs-Nr: 14\nHeim: Grauholz\nGast: Solothurn II\n\nAdresse: Schulhausweg 8\, 3324 Hindelbank\n
LOCATION:Schulhausweg 8\, 3324 Hindelbank
CATEGORIES:Saison 2025/26
END:VEVENT
BEGIN:VEVENT
DTSTAMP:20260424T063717Z
DTSTART;TZID=Europe/Berlin:20260401T193000
DTEND;TZID=Europe/Berlin:20260401T223000
SUMMARY:HE 2. Liga Gr. 1 Bern III vs Solothurn II (43)
UID:91709745-b1ed-4e81-b201-cbe82a4bfbaa
STATUS:CONFIRMED
LAST-MODIFIED:20260409T123826Z
DESCRIPTION:2. Liga Herren Gruppe 1\nBegegnungs-Nr: 43\nHeim: Bern III\nGast: Solothurn II\n\nAdresse: Papiermühlestrasse 81\, 3014 Bern\n
LOCATION:Papiermühlestrasse 81\, 3014 Bern
CATEGORIES:Saison 2025/26
END:VEVENT
BEGIN:VEVENT
DTSTAMP:20260424T063717Z
DTSTART;TZID=Europe/Berlin:20260218T194500
DTEND;TZID=Europe/Berlin:20260218T224500
SUMMARY:HE 2. Liga Gr. 1 Ostermundigen III vs Solothurn II (24)
UID:17820587-9f87-4d44-9dbf-8327a10655f2
STATUS:CONFIRMED
LAST-MODIFIED:20260220T123213Z
DESCRIPTION:2. Liga Herren Gruppe 1\nBegegnungs-Nr: 24\nHeim: Ostermundigen III\nGast: Solothurn II\n\nAdresse: Dennigkofenweg 169\, 3072 Ostermundigen\n
LOCATION:Dennigkofenweg 169\, 3072 Ostermundigen
CATEGORIES:Saison 2025/26
END:VEVENT
BEGIN:VEVENT
DTSTAMP:20260424T063717Z
DTSTART;TZID=Europe/Berlin:20260306T194500
DTEND;TZID=Europe/Berlin:20260306T224500
SUMMARY:HE 2. Liga Gr. 1 Thun II vs Solothurn II (20)
UID:4c331024-cb04-4819-a14e-7d130b47c757
STATUS:CONFIRMED
LAST-MODIFIED:20260308T173350Z
DESCRIPTION:2. Liga Herren Gruppe 1\nBegegnungs-Nr: 20\nHeim: Thun II\nGast: Solothurn II\n\nAdresse: Hallerstrasse 28\, 3604 Thun\n
LOCATION:Hallerstrasse 28\, 3604 Thun
CATEGORIES:Saison 2025/26
END:VEVENT
BEGIN:VEVENT
DTSTAMP:20260424T063717Z
DTSTART;TZID=Europe/Berlin:20260123T193000
DTEND;TZID=Europe/Berlin:20260123T223000
SUMMARY:HE 2. Liga Gr. 1 Burgdorf V vs Solothurn II (8)
UID:0e4c7ef0-0248-475c-af02-00a27f49e0cb
STATUS:CONFIRMED
LAST-MODIFIED:20260125T000113Z
DESCRIPTION:2. Liga Herren Gruppe 1\nBegegnungs-Nr: 8\nHeim: Burgdorf V\nGast: Solothurn II\n\nAdresse: Pestalozzistrasse 69\, 3400 Burgdorf\n
LOCATION:Pestalozzistrasse 69\, 3400 Burgdorf
CATEGORIES:Saison 2025/26
END:VEVENT
END:VCALENDAR
