BEGIN:VCALENDAR
PRODID:-//nuDatenautomaten//framework iCal4j //DE
VERSION:2.0
CALSCALE:GREGORIAN
BEGIN:VTIMEZONE
TZID:Europe/Berlin
LAST-MODIFIED:20260306T231828Z
TZURL:https://www.tzurl.org/zoneinfo/Europe/Berlin
X-LIC-LOCATION:Europe/Berlin
X-PROLEPTIC-TZNAME:LMT
BEGIN:STANDARD
TZNAME:CET
TZOFFSETFROM:+005328
TZOFFSETTO:+0100
DTSTART:18930401T000000
END:STANDARD
BEGIN:DAYLIGHT
TZNAME:CEST
TZOFFSETFROM:+0100
TZOFFSETTO:+0200
DTSTART:19160430T230000
RDATE:19400401T020000
RDATE:19430329T020000
RDATE:19460414T020000
RDATE:19470406T030000
RDATE:19480418T020000
RDATE:19490410T020000
RDATE:19800406T020000
END:DAYLIGHT
BEGIN:STANDARD
TZNAME:CET
TZOFFSETFROM:+0200
TZOFFSETTO:+0100
DTSTART:19161001T010000
RDATE:19421102T030000
RDATE:19431004T030000
RDATE:19441002T030000
RDATE:19451118T030000
RDATE:19461007T030000
END:STANDARD
BEGIN:DAYLIGHT
TZNAME:CEST
TZOFFSETFROM:+0100
TZOFFSETTO:+0200
DTSTART:19170416T020000
RRULE:FREQ=YEARLY;UNTIL=19180415T010000Z;BYMONTH=4;BYDAY=3MO
END:DAYLIGHT
BEGIN:STANDARD
TZNAME:CET
TZOFFSETFROM:+0200
TZOFFSETTO:+0100
DTSTART:19170917T030000
RRULE:FREQ=YEARLY;UNTIL=19180916T010000Z;BYMONTH=9;BYDAY=3MO
END:STANDARD
BEGIN:DAYLIGHT
TZNAME:CEST
TZOFFSETFROM:+0100
TZOFFSETTO:+0200
DTSTART:19440403T020000
RRULE:FREQ=YEARLY;UNTIL=19450402T010000Z;BYMONTH=4;BYDAY=1MO
END:DAYLIGHT
BEGIN:DAYLIGHT
TZNAME:CEMT
TZOFFSETFROM:+0200
TZOFFSETTO:+0300
DTSTART:19450524T020000
RDATE:19470511T030000
END:DAYLIGHT
BEGIN:DAYLIGHT
TZNAME:CEST
TZOFFSETFROM:+0300
TZOFFSETTO:+0200
DTSTART:19450924T030000
RDATE:19470629T030000
END:DAYLIGHT
BEGIN:STANDARD
TZNAME:CET
TZOFFSETFROM:+0100
TZOFFSETTO:+0100
DTSTART:19460101T000000
RDATE:19800101T000000
END:STANDARD
BEGIN:STANDARD
TZNAME:CET
TZOFFSETFROM:+0200
TZOFFSETTO:+0100
DTSTART:19471005T030000
RRULE:FREQ=YEARLY;UNTIL=19491002T010000Z;BYMONTH=10;BYDAY=1SU
END:STANDARD
BEGIN:STANDARD
TZNAME:CET
TZOFFSETFROM:+0200
TZOFFSETTO:+0100
DTSTART:19800928T030000
RRULE:FREQ=YEARLY;UNTIL=19950924T010000Z;BYMONTH=9;BYDAY=-1SU
END:STANDARD
BEGIN:DAYLIGHT
TZNAME:CEST
TZOFFSETFROM:+0100
TZOFFSETTO:+0200
DTSTART:19810329T020000
RRULE:FREQ=YEARLY;BYMONTH=3;BYDAY=-1SU
END:DAYLIGHT
BEGIN:STANDARD
TZNAME:CET
TZOFFSETFROM:+0200
TZOFFSETTO:+0100
DTSTART:19961027T030000
RRULE:FREQ=YEARLY;BYMONTH=10;BYDAY=-1SU
END:STANDARD
END:VTIMEZONE
BEGIN:VEVENT
DTSTAMP:20260424T121307Z
DTSTART;TZID=Europe/Berlin:20250912T194500
DTEND;TZID=Europe/Berlin:20250912T224500
SUMMARY:HE 2. Liga Gr. 3 Triesen vs Uster (0)
UID:ecb44514-7966-44cd-9015-2a4df1467c4b
STATUS:CONFIRMED
LAST-MODIFIED:20250915T082940Z
DESCRIPTION:2. Liga Herren Gruppe 3\nBegegnungs-Nr: 0\nHeim: Triesen\nGast: Uster\n\nAdresse: Gässle 12\, 9495 Triesen\n
LOCATION:Gässle 12\, 9495 Triesen
CATEGORIES:Saison 2025/26
END:VEVENT
BEGIN:VEVENT
DTSTAMP:20260424T121307Z
DTSTART;TZID=Europe/Berlin:20250926T194500
DTEND;TZID=Europe/Berlin:20250926T224500
SUMMARY:HE 2. Liga Gr. 3 Triesen vs Wädenswil II (0)
UID:06ac37bb-e125-4a13-aca4-23cbcdda1af0
STATUS:CONFIRMED
LAST-MODIFIED:20250930T122537Z
DESCRIPTION:2. Liga Herren Gruppe 3\nBegegnungs-Nr: 0\nHeim: Triesen\nGast: Wädenswil II\n\nAdresse: Gässle 12\, 9495 Triesen\n
LOCATION:Gässle 12\, 9495 Triesen
CATEGORIES:Saison 2025/26
END:VEVENT
BEGIN:VEVENT
DTSTAMP:20260424T121307Z
DTSTART;TZID=Europe/Berlin:20251107T194500
DTEND;TZID=Europe/Berlin:20251107T224500
SUMMARY:HE 2. Liga Gr. 3 Triesen vs Affoltern A/A II (0)
UID:644c51aa-1487-41b1-ab81-817ca40b17a6
STATUS:CONFIRMED
LAST-MODIFIED:20251114T165239Z
DESCRIPTION:2. Liga Herren Gruppe 3\nBegegnungs-Nr: 0\nHeim: Triesen\nGast: Affoltern A/A II\n\nAdresse: Gässle 12\, 9495 Triesen\n
LOCATION:Gässle 12\, 9495 Triesen
CATEGORIES:Saison 2025/26
END:VEVENT
BEGIN:VEVENT
DTSTAMP:20260424T121307Z
DTSTART;TZID=Europe/Berlin:20260123T194500
DTEND;TZID=Europe/Berlin:20260123T224500
SUMMARY:HE 2. Liga Gr. 3 Triesen vs Wetzikon IV (0)
UID:2edba939-1730-4447-83b5-2910326a8c41
STATUS:CONFIRMED
LAST-MODIFIED:20260127T133919Z
DESCRIPTION:2. Liga Herren Gruppe 3\nBegegnungs-Nr: 0\nHeim: Triesen\nGast: Wetzikon IV\n\nAdresse: Gässle 12\, 9495 Triesen\n
LOCATION:Gässle 12\, 9495 Triesen
CATEGORIES:Saison 2025/26
END:VEVENT
BEGIN:VEVENT
DTSTAMP:20260424T121307Z
DTSTART;TZID=Europe/Berlin:20260227T194500
DTEND;TZID=Europe/Berlin:20260227T224500
SUMMARY:HE 2. Liga Gr. 3 Triesen vs Chur II (0)
UID:0724a02d-05dd-49d1-b004-3b01851318e3
STATUS:CONFIRMED
LAST-MODIFIED:20260303T105857Z
DESCRIPTION:2. Liga Herren Gruppe 3\nBegegnungs-Nr: 0\nHeim: Triesen\nGast: Chur II\n\nAdresse: Gässle 12\, 9495 Triesen\n
LOCATION:Gässle 12\, 9495 Triesen
CATEGORIES:Saison 2025/26
END:VEVENT
BEGIN:VEVENT
DTSTAMP:20260424T121307Z
DTSTART;TZID=Europe/Berlin:20260313T194500
DTEND;TZID=Europe/Berlin:20260313T224500
SUMMARY:HE 2. Liga Gr. 3 Triesen vs Chur III (0)
UID:674dac44-c3a6-4e2d-a2e6-cd7c6d19e591
STATUS:CONFIRMED
LAST-MODIFIED:20260316T135818Z
DESCRIPTION:2. Liga Herren Gruppe 3\nBegegnungs-Nr: 0\nHeim: Triesen\nGast: Chur III\n\nAdresse: Gässle 12\, 9495 Triesen\n
LOCATION:Gässle 12\, 9495 Triesen
CATEGORIES:Saison 2025/26
END:VEVENT
BEGIN:VEVENT
DTSTAMP:20260424T121307Z
DTSTART;TZID=Europe/Berlin:20260320T194500
DTEND;TZID=Europe/Berlin:20260320T224500
SUMMARY:HE 2. Liga Gr. 3 Triesen vs Rapperswil-Jona V (0)
UID:dbbfd610-8b87-41c1-a882-e194584b3572
STATUS:CONFIRMED
LAST-MODIFIED:20260326T134038Z
DESCRIPTION:2. Liga Herren Gruppe 3\nBegegnungs-Nr: 0\nHeim: Triesen\nGast: Rapperswil-Jona V\n\nAdresse: Gässle 12\, 9495 Triesen\n
LOCATION:Gässle 12\, 9495 Triesen
CATEGORIES:Saison 2025/26
END:VEVENT
BEGIN:VEVENT
DTSTAMP:20260424T121307Z
DTSTART;TZID=Europe/Berlin:20250901T194500
DTEND;TZID=Europe/Berlin:20250901T224500
SUMMARY:HE 2. Liga Gr. 3 Wetzikon IV vs Triesen (0)
UID:9cfd7391-4709-46d4-b52f-5469f52d1f4c
STATUS:CONFIRMED
LAST-MODIFIED:20250902T091747Z
DESCRIPTION:2. Liga Herren Gruppe 3\nBegegnungs-Nr: 0\nHeim: Wetzikon IV\nGast: Triesen\n\nAdresse: Usterstrasse 37\, 8620 Wetzikon\n
LOCATION:Usterstrasse 37\, 8620 Wetzikon
CATEGORIES:Saison 2025/26
END:VEVENT
BEGIN:VEVENT
DTSTAMP:20260424T121307Z
DTSTART;TZID=Europe/Berlin:20250922T200000
DTEND;TZID=Europe/Berlin:20250922T230000
SUMMARY:HE 2. Liga Gr. 3 Chur II vs Triesen (0)
UID:cd74f594-a2b4-4e83-81d4-afafbbc3242f
STATUS:CONFIRMED
LAST-MODIFIED:20250926T125833Z
DESCRIPTION:2. Liga Herren Gruppe 3\nBegegnungs-Nr: 0\nHeim: Chur II\nGast: Triesen\n\nAdresse: Sandstr. 35\, 7000 Chur\n
LOCATION:Sandstr. 35\, 7000 Chur
CATEGORIES:Saison 2025/26
END:VEVENT
BEGIN:VEVENT
DTSTAMP:20260424T121307Z
DTSTART;TZID=Europe/Berlin:20251031T200000
DTEND;TZID=Europe/Berlin:20251031T230000
SUMMARY:HE 2. Liga Gr. 3 Chur III vs Triesen (0)
UID:58d7e4c4-e094-4ee6-8813-313bf5b843e9
STATUS:CONFIRMED
LAST-MODIFIED:20251107T144303Z
DESCRIPTION:2. Liga Herren Gruppe 3\nBegegnungs-Nr: 0\nHeim: Chur III\nGast: Triesen\n\nAdresse: Bodmerstrasse 10\, 7000 Chur\n
LOCATION:Bodmerstrasse 10\, 7000 Chur
CATEGORIES:Saison 2025/26
END:VEVENT
BEGIN:VEVENT
DTSTAMP:20260424T121307Z
DTSTART;TZID=Europe/Berlin:20251204T200000
DTEND;TZID=Europe/Berlin:20251204T230000
SUMMARY:HE 2. Liga Gr. 3 Rapperswil-Jona V vs Triesen (0)
UID:54f8ae18-b28c-4b7d-a330-2d6807ef1b7c
STATUS:CONFIRMED
LAST-MODIFIED:20251205T125136Z
DESCRIPTION:2. Liga Herren Gruppe 3\nBegegnungs-Nr: 0\nHeim: Rapperswil-Jona V\nGast: Triesen\n\nAdresse: Kreuzstrasse 43\, 8640 Rapperswil\n
LOCATION:Kreuzstrasse 43\, 8640 Rapperswil
CATEGORIES:Saison 2025/26
END:VEVENT
BEGIN:VEVENT
DTSTAMP:20260424T121307Z
DTSTART;TZID=Europe/Berlin:20260204T201500
DTEND;TZID=Europe/Berlin:20260204T231500
SUMMARY:HE 2. Liga Gr. 3 Uster vs Triesen (0)
UID:6424ec17-272d-490a-896e-c4957d6b9bce
STATUS:CONFIRMED
LAST-MODIFIED:20260206T135132Z
DESCRIPTION:2. Liga Herren Gruppe 3\nBegegnungs-Nr: 0\nHeim: Uster\nGast: Triesen\n\nAdresse: Wilstrasse 30 / Zürcherstrasse\, 8610 Uster\n
LOCATION:Wilstrasse 30 / Zürcherstrasse\, 8610 Uster
CATEGORIES:Saison 2025/26
END:VEVENT
BEGIN:VEVENT
DTSTAMP:20260424T121307Z
DTSTART;TZID=Europe/Berlin:20260129T201500
DTEND;TZID=Europe/Berlin:20260129T231500
SUMMARY:HE 2. Liga Gr. 3 Wädenswil II vs Triesen (0)
UID:3c08486a-90b6-4de7-bd40-a2be6d2212bf
STATUS:CONFIRMED
LAST-MODIFIED:20260130T072932Z
DESCRIPTION:2. Liga Herren Gruppe 3\nBegegnungs-Nr: 0\nHeim: Wädenswil II\nGast: Triesen\n\nAdresse: Speerstrasse 95\, 8820 Wädenswil\n
LOCATION:Speerstrasse 95\, 8820 Wädenswil
CATEGORIES:Saison 2025/26
END:VEVENT
BEGIN:VEVENT
DTSTAMP:20260424T121307Z
DTSTART;TZID=Europe/Berlin:20260324T193000
DTEND;TZID=Europe/Berlin:20260324T223000
SUMMARY:HE 2. Liga Gr. 3 Affoltern A/A II vs Triesen (0)
UID:d9d78e6e-014b-45a0-a424-3460b6812ed6
STATUS:CONFIRMED
LAST-MODIFIED:20260326T134048Z
DESCRIPTION:2. Liga Herren Gruppe 3\nBegegnungs-Nr: 0\nHeim: Affoltern A/A II\nGast: Triesen\n\nAdresse: Butzenstrasse 8\, 8910 Affoltern am Albis\n
LOCATION:Butzenstrasse 8\, 8910 Affoltern am Albis
CATEGORIES:Saison 2025/26
END:VEVENT
END:VCALENDAR
