BEGIN:VCALENDAR
PRODID:-//nuDatenautomaten//framework iCal4j //DE
VERSION:2.0
CALSCALE:GREGORIAN
BEGIN:VTIMEZONE
TZID:Europe/Berlin
LAST-MODIFIED:20260306T231828Z
TZURL:https://www.tzurl.org/zoneinfo/Europe/Berlin
X-LIC-LOCATION:Europe/Berlin
X-PROLEPTIC-TZNAME:LMT
BEGIN:STANDARD
TZNAME:CET
TZOFFSETFROM:+005328
TZOFFSETTO:+0100
DTSTART:18930401T000000
END:STANDARD
BEGIN:DAYLIGHT
TZNAME:CEST
TZOFFSETFROM:+0100
TZOFFSETTO:+0200
DTSTART:19160430T230000
RDATE:19400401T020000
RDATE:19430329T020000
RDATE:19460414T020000
RDATE:19470406T030000
RDATE:19480418T020000
RDATE:19490410T020000
RDATE:19800406T020000
END:DAYLIGHT
BEGIN:STANDARD
TZNAME:CET
TZOFFSETFROM:+0200
TZOFFSETTO:+0100
DTSTART:19161001T010000
RDATE:19421102T030000
RDATE:19431004T030000
RDATE:19441002T030000
RDATE:19451118T030000
RDATE:19461007T030000
END:STANDARD
BEGIN:DAYLIGHT
TZNAME:CEST
TZOFFSETFROM:+0100
TZOFFSETTO:+0200
DTSTART:19170416T020000
RRULE:FREQ=YEARLY;UNTIL=19180415T010000Z;BYMONTH=4;BYDAY=3MO
END:DAYLIGHT
BEGIN:STANDARD
TZNAME:CET
TZOFFSETFROM:+0200
TZOFFSETTO:+0100
DTSTART:19170917T030000
RRULE:FREQ=YEARLY;UNTIL=19180916T010000Z;BYMONTH=9;BYDAY=3MO
END:STANDARD
BEGIN:DAYLIGHT
TZNAME:CEST
TZOFFSETFROM:+0100
TZOFFSETTO:+0200
DTSTART:19440403T020000
RRULE:FREQ=YEARLY;UNTIL=19450402T010000Z;BYMONTH=4;BYDAY=1MO
END:DAYLIGHT
BEGIN:DAYLIGHT
TZNAME:CEMT
TZOFFSETFROM:+0200
TZOFFSETTO:+0300
DTSTART:19450524T020000
RDATE:19470511T030000
END:DAYLIGHT
BEGIN:DAYLIGHT
TZNAME:CEST
TZOFFSETFROM:+0300
TZOFFSETTO:+0200
DTSTART:19450924T030000
RDATE:19470629T030000
END:DAYLIGHT
BEGIN:STANDARD
TZNAME:CET
TZOFFSETFROM:+0100
TZOFFSETTO:+0100
DTSTART:19460101T000000
RDATE:19800101T000000
END:STANDARD
BEGIN:STANDARD
TZNAME:CET
TZOFFSETFROM:+0200
TZOFFSETTO:+0100
DTSTART:19471005T030000
RRULE:FREQ=YEARLY;UNTIL=19491002T010000Z;BYMONTH=10;BYDAY=1SU
END:STANDARD
BEGIN:STANDARD
TZNAME:CET
TZOFFSETFROM:+0200
TZOFFSETTO:+0100
DTSTART:19800928T030000
RRULE:FREQ=YEARLY;UNTIL=19950924T010000Z;BYMONTH=9;BYDAY=-1SU
END:STANDARD
BEGIN:DAYLIGHT
TZNAME:CEST
TZOFFSETFROM:+0100
TZOFFSETTO:+0200
DTSTART:19810329T020000
RRULE:FREQ=YEARLY;BYMONTH=3;BYDAY=-1SU
END:DAYLIGHT
BEGIN:STANDARD
TZNAME:CET
TZOFFSETFROM:+0200
TZOFFSETTO:+0100
DTSTART:19961027T030000
RRULE:FREQ=YEARLY;BYMONTH=10;BYDAY=-1SU
END:STANDARD
END:VTIMEZONE
BEGIN:VEVENT
DTSTAMP:20260424T115100Z
DTSTART;TZID=Europe/Berlin:20250929T194500
DTEND;TZID=Europe/Berlin:20250929T224500
SUMMARY:Ligue 1 Silver Star vs ZZ-Lancy (6)
UID:b7afe9ab-0cb4-4b2c-b0cf-5fb5ae48bbef
STATUS:CONFIRMED
LAST-MODIFIED:20250930T185616Z
DESCRIPTION:1ère ligue O40\nBegegnungs-Nr: 6\nHeim: Silver Star\nGast: ZZ-Lancy\n
LOCATION:
CATEGORIES:Saison 2025/26
END:VEVENT
BEGIN:VEVENT
DTSTAMP:20260424T115100Z
DTSTART;TZID=Europe/Berlin:20260504T194500
DTEND;TZID=Europe/Berlin:20260504T224500
SUMMARY:Ligue 1 Silver Star vs Mandement (30)
UID:8eec7955-4764-4334-a5f0-64265f5215bb
STATUS:CONFIRMED
LAST-MODIFIED:20260303T170427Z
DESCRIPTION:1ère ligue O40\nBegegnungs-Nr: 30\nHeim: Silver Star\nGast: Mandement\n
LOCATION:
CATEGORIES:Saison 2025/26
END:VEVENT
BEGIN:VEVENT
DTSTAMP:20260424T115100Z
DTSTART;TZID=Europe/Berlin:20260420T194500
DTEND;TZID=Europe/Berlin:20260420T224500
SUMMARY:Ligue 1 Silver Star vs UGS-Chênois (27)
UID:7171527e-f97d-44f1-9362-7a4206e0da37
STATUS:CONFIRMED
LAST-MODIFIED:20260421T072315Z
DESCRIPTION:1ère ligue O40\nBegegnungs-Nr: 27\nHeim: Silver Star\nGast: UGS-Chênois\n
LOCATION:
CATEGORIES:Saison 2025/26
END:VEVENT
BEGIN:VEVENT
DTSTAMP:20260424T115100Z
DTSTART;TZID=Europe/Berlin:20260105T194500
DTEND;TZID=Europe/Berlin:20260105T224500
SUMMARY:Ligue 1 Silver Star vs Versoix (18)
UID:bcf9294e-e4f5-421a-9b7e-4fa7e86b37d4
STATUS:CONFIRMED
LAST-MODIFIED:20260106T173921Z
DESCRIPTION:1ère ligue O40\nBegegnungs-Nr: 18\nHeim: Silver Star\nGast: Versoix\n
LOCATION:
CATEGORIES:Saison 2025/26
END:VEVENT
BEGIN:VEVENT
DTSTAMP:20260424T115100Z
DTSTART;TZID=Europe/Berlin:20251103T194500
DTEND;TZID=Europe/Berlin:20251103T224500
SUMMARY:Ligue 1 Silver Star vs Châtelaine (9)
UID:47e66a06-6469-4b5b-b4a1-e7b904b96109
STATUS:CONFIRMED
LAST-MODIFIED:20251104T081148Z
DESCRIPTION:1ère ligue O40\nBegegnungs-Nr: 9\nHeim: Silver Star\nGast: Châtelaine\n
LOCATION:
CATEGORIES:Saison 2025/26
END:VEVENT
BEGIN:VEVENT
DTSTAMP:20260424T115100Z
DTSTART;TZID=Europe/Berlin:20260302T200000
DTEND;TZID=Europe/Berlin:20260302T230000
SUMMARY:Ligue 1 Châtelaine vs Silver Star (24)
UID:25201762-760b-4262-9064-873a3dd86f2e
STATUS:CONFIRMED
LAST-MODIFIED:20260303T195048Z
DESCRIPTION:1ère ligue O40\nBegegnungs-Nr: 24\nHeim: Châtelaine\nGast: Silver Star\n
LOCATION:
CATEGORIES:Saison 2025/26
END:VEVENT
BEGIN:VEVENT
DTSTAMP:20260424T115100Z
DTSTART;TZID=Europe/Berlin:20260202T200000
DTEND;TZID=Europe/Berlin:20260202T230000
SUMMARY:Ligue 1 ZZ-Lancy vs Silver Star (21)
UID:c89c4131-7fc6-4b5c-922c-6d605efbfd80
STATUS:CONFIRMED
LAST-MODIFIED:20260203T092258Z
DESCRIPTION:1ère ligue O40\nBegegnungs-Nr: 21\nHeim: ZZ-Lancy\nGast: Silver Star\n
LOCATION:
CATEGORIES:Saison 2025/26
END:VEVENT
BEGIN:VEVENT
DTSTAMP:20260424T115100Z
DTSTART;TZID=Europe/Berlin:20251215T194500
DTEND;TZID=Europe/Berlin:20251215T224500
SUMMARY:Ligue 1 Mandement vs Silver Star (15)
UID:6d4e7ae0-a6fd-412d-9fe8-c8397a10b6c3
STATUS:CONFIRMED
LAST-MODIFIED:20251216T140122Z
DESCRIPTION:1ère ligue O40\nBegegnungs-Nr: 15\nHeim: Mandement\nGast: Silver Star\n
LOCATION:
CATEGORIES:Saison 2025/26
END:VEVENT
BEGIN:VEVENT
DTSTAMP:20260424T115100Z
DTSTART;TZID=Europe/Berlin:20251208T194500
DTEND;TZID=Europe/Berlin:20251208T224500
SUMMARY:Ligue 1 UGS-Chênois vs Silver Star (12)
UID:56c8e8ad-6053-417e-a5b8-624afae48c93
STATUS:CONFIRMED
LAST-MODIFIED:20251209T075245Z
DESCRIPTION:1ère ligue O40\nBegegnungs-Nr: 12\nHeim: UGS-Chênois\nGast: Silver Star\n
LOCATION:
CATEGORIES:Saison 2025/26
END:VEVENT
BEGIN:VEVENT
DTSTAMP:20260424T115100Z
DTSTART;TZID=Europe/Berlin:20250908T194500
DTEND;TZID=Europe/Berlin:20250908T224500
SUMMARY:Ligue 1 Versoix vs Silver Star (3)
UID:4cc3bc79-e328-4fab-969d-27982f2a5cc0
STATUS:CONFIRMED
LAST-MODIFIED:20250909T155749Z
DESCRIPTION:1ère ligue O40\nBegegnungs-Nr: 3\nHeim: Versoix\nGast: Silver Star\n
LOCATION:
CATEGORIES:Saison 2025/26
END:VEVENT
END:VCALENDAR
