BEGIN:VCALENDAR
PRODID:-//nuDatenautomaten//framework iCal4j //DE
VERSION:2.0
CALSCALE:GREGORIAN
BEGIN:VTIMEZONE
TZID:Europe/Berlin
LAST-MODIFIED:20260306T231828Z
TZURL:https://www.tzurl.org/zoneinfo/Europe/Berlin
X-LIC-LOCATION:Europe/Berlin
X-PROLEPTIC-TZNAME:LMT
BEGIN:STANDARD
TZNAME:CET
TZOFFSETFROM:+005328
TZOFFSETTO:+0100
DTSTART:18930401T000000
END:STANDARD
BEGIN:DAYLIGHT
TZNAME:CEST
TZOFFSETFROM:+0100
TZOFFSETTO:+0200
DTSTART:19160430T230000
RDATE:19400401T020000
RDATE:19430329T020000
RDATE:19460414T020000
RDATE:19470406T030000
RDATE:19480418T020000
RDATE:19490410T020000
RDATE:19800406T020000
END:DAYLIGHT
BEGIN:STANDARD
TZNAME:CET
TZOFFSETFROM:+0200
TZOFFSETTO:+0100
DTSTART:19161001T010000
RDATE:19421102T030000
RDATE:19431004T030000
RDATE:19441002T030000
RDATE:19451118T030000
RDATE:19461007T030000
END:STANDARD
BEGIN:DAYLIGHT
TZNAME:CEST
TZOFFSETFROM:+0100
TZOFFSETTO:+0200
DTSTART:19170416T020000
RRULE:FREQ=YEARLY;UNTIL=19180415T010000Z;BYMONTH=4;BYDAY=3MO
END:DAYLIGHT
BEGIN:STANDARD
TZNAME:CET
TZOFFSETFROM:+0200
TZOFFSETTO:+0100
DTSTART:19170917T030000
RRULE:FREQ=YEARLY;UNTIL=19180916T010000Z;BYMONTH=9;BYDAY=3MO
END:STANDARD
BEGIN:DAYLIGHT
TZNAME:CEST
TZOFFSETFROM:+0100
TZOFFSETTO:+0200
DTSTART:19440403T020000
RRULE:FREQ=YEARLY;UNTIL=19450402T010000Z;BYMONTH=4;BYDAY=1MO
END:DAYLIGHT
BEGIN:DAYLIGHT
TZNAME:CEMT
TZOFFSETFROM:+0200
TZOFFSETTO:+0300
DTSTART:19450524T020000
RDATE:19470511T030000
END:DAYLIGHT
BEGIN:DAYLIGHT
TZNAME:CEST
TZOFFSETFROM:+0300
TZOFFSETTO:+0200
DTSTART:19450924T030000
RDATE:19470629T030000
END:DAYLIGHT
BEGIN:STANDARD
TZNAME:CET
TZOFFSETFROM:+0100
TZOFFSETTO:+0100
DTSTART:19460101T000000
RDATE:19800101T000000
END:STANDARD
BEGIN:STANDARD
TZNAME:CET
TZOFFSETFROM:+0200
TZOFFSETTO:+0100
DTSTART:19471005T030000
RRULE:FREQ=YEARLY;UNTIL=19491002T010000Z;BYMONTH=10;BYDAY=1SU
END:STANDARD
BEGIN:STANDARD
TZNAME:CET
TZOFFSETFROM:+0200
TZOFFSETTO:+0100
DTSTART:19800928T030000
RRULE:FREQ=YEARLY;UNTIL=19950924T010000Z;BYMONTH=9;BYDAY=-1SU
END:STANDARD
BEGIN:DAYLIGHT
TZNAME:CEST
TZOFFSETFROM:+0100
TZOFFSETTO:+0200
DTSTART:19810329T020000
RRULE:FREQ=YEARLY;BYMONTH=3;BYDAY=-1SU
END:DAYLIGHT
BEGIN:STANDARD
TZNAME:CET
TZOFFSETFROM:+0200
TZOFFSETTO:+0100
DTSTART:19961027T030000
RRULE:FREQ=YEARLY;BYMONTH=10;BYDAY=-1SU
END:STANDARD
END:VTIMEZONE
BEGIN:VEVENT
DTSTAMP:20260424T062156Z
DTSTART;TZID=Europe/Berlin:20250907T150000
DTEND;TZID=Europe/Berlin:20250907T180000
SUMMARY:ME L1 Gr 2\, Tours 1&2 Yverdon vs Fribourg II (0)
UID:3b80749e-4889-4e98-af7e-54c349ec7141
STATUS:CONFIRMED
LAST-MODIFIED:20250910T230424Z
DESCRIPTION:1ère ligue Hommes Groupe 2\, Tours 1&2\nBegegnungs-Nr: 0\nHeim: Yverdon\nGast: Fribourg II\n\nAdresse: Avenue des Quatre Marroniers 1\, 1400 Yverdon-les-Bains\n
LOCATION:Avenue des Quatre Marroniers 1\, 1400 Yverdon-les-Bains
CATEGORIES:Saison 2025/26
END:VEVENT
BEGIN:VEVENT
DTSTAMP:20260424T062156Z
DTSTART;TZID=Europe/Berlin:20250916T201500
DTEND;TZID=Europe/Berlin:20250916T231500
SUMMARY:ME L1 Gr 2\, Tours 1&2 Yverdon vs Crissier (0)
UID:fe19ed41-e2e1-4fd5-9312-340caf0db4af
STATUS:CONFIRMED
LAST-MODIFIED:20250917T192610Z
DESCRIPTION:1ère ligue Hommes Groupe 2\, Tours 1&2\nBegegnungs-Nr: 0\nHeim: Yverdon\nGast: Crissier\n\nAdresse: Avenue des Quatre Marroniers 1\, 1400 Yverdon-les-Bains\n
LOCATION:Avenue des Quatre Marroniers 1\, 1400 Yverdon-les-Bains
CATEGORIES:Saison 2025/26
END:VEVENT
BEGIN:VEVENT
DTSTAMP:20260424T062156Z
DTSTART;TZID=Europe/Berlin:20251012T150000
DTEND;TZID=Europe/Berlin:20251012T180000
SUMMARY:ME L1 Gr 2\, Tours 1&2 Yverdon vs Bulle II (0)
UID:2e371389-1b91-4576-b433-e1e8d1b5366e
STATUS:CONFIRMED
LAST-MODIFIED:20251012T200645Z
DESCRIPTION:1ère ligue Hommes Groupe 2\, Tours 1&2\nBegegnungs-Nr: 0\nHeim: Yverdon\nGast: Bulle II\n\nAdresse: Avenue des Quatre Marroniers 1\, 1400 Yverdon-les-Bains\n
LOCATION:Avenue des Quatre Marroniers 1\, 1400 Yverdon-les-Bains
CATEGORIES:Saison 2025/26
END:VEVENT
BEGIN:VEVENT
DTSTAMP:20260424T062156Z
DTSTART;TZID=Europe/Berlin:20251109T150000
DTEND;TZID=Europe/Berlin:20251109T180000
SUMMARY:ME L1 Gr 2\, Tours 1&2 Yverdon vs Rossens II (0)
UID:32ad00c7-6687-400d-b650-da9d4fa367d8
STATUS:CONFIRMED
LAST-MODIFIED:20251110T194747Z
DESCRIPTION:1ère ligue Hommes Groupe 2\, Tours 1&2\nBegegnungs-Nr: 0\nHeim: Yverdon\nGast: Rossens II\n\nAdresse: Avenue des Quatre Marroniers 1\, 1400 Yverdon-les-Bains\n
LOCATION:Avenue des Quatre Marroniers 1\, 1400 Yverdon-les-Bains
CATEGORIES:Saison 2025/26
END:VEVENT
BEGIN:VEVENT
DTSTAMP:20260424T062156Z
DTSTART;TZID=Europe/Berlin:20251127T201500
DTEND;TZID=Europe/Berlin:20251127T231500
SUMMARY:ME L1 Gr 2\, Tours 1&2 Yverdon vs Avry-Rosé (0)
UID:de76b88a-6c5e-40ef-8e95-4e3fb4bac5dc
STATUS:CONFIRMED
LAST-MODIFIED:20251128T205911Z
DESCRIPTION:1ère ligue Hommes Groupe 2\, Tours 1&2\nBegegnungs-Nr: 0\nHeim: Yverdon\nGast: Avry-Rosé\n\nAdresse: Avenue des Quatre Marroniers 1\, 1400 Yverdon-les-Bains\n
LOCATION:Avenue des Quatre Marroniers 1\, 1400 Yverdon-les-Bains
CATEGORIES:Saison 2025/26
END:VEVENT
BEGIN:VEVENT
DTSTAMP:20260424T062156Z
DTSTART;TZID=Europe/Berlin:20260115T201500
DTEND;TZID=Europe/Berlin:20260115T231500
SUMMARY:ME L1 Gr 2\, Tours 3&4 Yverdon vs Martigny (0)
UID:6e5859c9-0faf-42e5-8e9a-ea0f4d5af119
STATUS:CONFIRMED
LAST-MODIFIED:20260116T185434Z
DESCRIPTION:1ère ligue Hommes Groupe 2\, Tours 3&4\nBegegnungs-Nr: 0\nHeim: Yverdon\nGast: Martigny\n\nAdresse: Avenue des Quatre Marroniers 1\, 1400 Yverdon-les-Bains\n
LOCATION:Avenue des Quatre Marroniers 1\, 1400 Yverdon-les-Bains
CATEGORIES:Saison 2025/26
END:VEVENT
BEGIN:VEVENT
DTSTAMP:20260424T062156Z
DTSTART;TZID=Europe/Berlin:20260129T201500
DTEND;TZID=Europe/Berlin:20260129T231500
SUMMARY:ME L1 Gr 2\, Tours 3&4 Yverdon vs Rossens II (0)
UID:8404a3ff-cdb6-4e79-84b6-0b61d9bb7993
STATUS:CONFIRMED
LAST-MODIFIED:20260130T172929Z
DESCRIPTION:1ère ligue Hommes Groupe 2\, Tours 3&4\nBegegnungs-Nr: 0\nHeim: Yverdon\nGast: Rossens II\n\nAdresse: Avenue des Quatre Marroniers 1\, 1400 Yverdon-les-Bains\n
LOCATION:Avenue des Quatre Marroniers 1\, 1400 Yverdon-les-Bains
CATEGORIES:Saison 2025/26
END:VEVENT
BEGIN:VEVENT
DTSTAMP:20260424T062156Z
DTSTART;TZID=Europe/Berlin:20260212T201500
DTEND;TZID=Europe/Berlin:20260212T231500
SUMMARY:ME L1 Gr 2\, Tours 3&4 Yverdon vs Sierre II (0)
UID:4e98facf-f224-47e6-bdbc-a45cf3139d84
STATUS:CONFIRMED
LAST-MODIFIED:20260214T170222Z
DESCRIPTION:1ère ligue Hommes Groupe 2\, Tours 3&4\nBegegnungs-Nr: 0\nHeim: Yverdon\nGast: Sierre II\n\nAdresse: Avenue des Quatre Marroniers 1\, 1400 Yverdon-les-Bains\n
LOCATION:Avenue des Quatre Marroniers 1\, 1400 Yverdon-les-Bains
CATEGORIES:Saison 2025/26
END:VEVENT
BEGIN:VEVENT
DTSTAMP:20260424T062156Z
DTSTART;TZID=Europe/Berlin:20260305T201500
DTEND;TZID=Europe/Berlin:20260305T231500
SUMMARY:ME L1 Gr 2\, Tours 3&4 Yverdon vs Forward-Morges II (0)
UID:45d9e39a-6b5f-412d-a78d-97cdb1efb67c
STATUS:CONFIRMED
LAST-MODIFIED:20260306T212002Z
DESCRIPTION:1ère ligue Hommes Groupe 2\, Tours 3&4\nBegegnungs-Nr: 0\nHeim: Yverdon\nGast: Forward-Morges II\n\nAdresse: Avenue des Quatre Marroniers 1\, 1400 Yverdon-les-Bains\n
LOCATION:Avenue des Quatre Marroniers 1\, 1400 Yverdon-les-Bains
CATEGORIES:Saison 2025/26
END:VEVENT
BEGIN:VEVENT
DTSTAMP:20260424T062156Z
DTSTART;TZID=Europe/Berlin:20260319T201500
DTEND;TZID=Europe/Berlin:20260319T231500
SUMMARY:ME L1 Gr 2\, Tours 3&4 Yverdon vs Lausanne V (0)
UID:942ad4fb-f204-41c3-b0db-8450c1683948
STATUS:CONFIRMED
LAST-MODIFIED:20260321T102310Z
DESCRIPTION:1ère ligue Hommes Groupe 2\, Tours 3&4\nBegegnungs-Nr: 0\nHeim: Yverdon\nGast: Lausanne V\n\nAdresse: Avenue des Quatre Marroniers 1\, 1400 Yverdon-les-Bains\n
LOCATION:Avenue des Quatre Marroniers 1\, 1400 Yverdon-les-Bains
CATEGORIES:Saison 2025/26
END:VEVENT
BEGIN:VEVENT
DTSTAMP:20260424T062156Z
DTSTART;TZID=Europe/Berlin:20250912T200000
DTEND;TZID=Europe/Berlin:20250912T230000
SUMMARY:ME L1 Gr 2\, Tours 1&2 Rossens II vs Yverdon (0)
UID:34c41e62-e737-4e03-8e26-4c1016f99026
STATUS:CONFIRMED
LAST-MODIFIED:20250914T123409Z
DESCRIPTION:1ère ligue Hommes Groupe 2\, Tours 1&2\nBegegnungs-Nr: 0\nHeim: Rossens II\nGast: Yverdon\n\nAdresse: Route du Jordil 14\, 1728 Rossens\n
LOCATION:Route du Jordil 14\, 1728 Rossens
CATEGORIES:Saison 2025/26
END:VEVENT
BEGIN:VEVENT
DTSTAMP:20260424T062156Z
DTSTART;TZID=Europe/Berlin:20250930T193000
DTEND;TZID=Europe/Berlin:20250930T223000
SUMMARY:ME L1 Gr 2\, Tours 1&2 Avry-Rosé vs Yverdon (0)
UID:b871019f-be68-45b8-ab3f-b074c5cb25b8
STATUS:CONFIRMED
LAST-MODIFIED:20251001T172438Z
DESCRIPTION:1ère ligue Hommes Groupe 2\, Tours 1&2\nBegegnungs-Nr: 0\nHeim: Avry-Rosé\nGast: Yverdon\n\nAdresse: Route du Château 15\, 1754 Avry-sur-Matran\n
LOCATION:Route du Château 15\, 1754 Avry-sur-Matran
CATEGORIES:Saison 2025/26
END:VEVENT
BEGIN:VEVENT
DTSTAMP:20260424T062156Z
DTSTART;TZID=Europe/Berlin:20251029T201500
DTEND;TZID=Europe/Berlin:20251029T231500
SUMMARY:ME L1 Gr 2\, Tours 1&2 Fribourg II vs Yverdon (0)
UID:2c61507c-9ebc-4391-aead-a76f6db65f44
STATUS:CONFIRMED
LAST-MODIFIED:20251030T105648Z
DESCRIPTION:1ère ligue Hommes Groupe 2\, Tours 1&2\nBegegnungs-Nr: 0\nHeim: Fribourg II\nGast: Yverdon\n\nAdresse: Avenue Général Guisan 61\, 1700 Fribourg\n
LOCATION:Avenue Général Guisan 61\, 1700 Fribourg
CATEGORIES:Saison 2025/26
END:VEVENT
BEGIN:VEVENT
DTSTAMP:20260424T062156Z
DTSTART;TZID=Europe/Berlin:20251121T193000
DTEND;TZID=Europe/Berlin:20251121T223000
SUMMARY:ME L1 Gr 2\, Tours 1&2 Crissier vs Yverdon (0)
UID:ba94456e-faf9-4692-8d2f-7391c5b7f7a4
STATUS:CONFIRMED
LAST-MODIFIED:20251122T095743Z
DESCRIPTION:1ère ligue Hommes Groupe 2\, Tours 1&2\nBegegnungs-Nr: 0\nHeim: Crissier\nGast: Yverdon\n\nAdresse: ch. des Oches du Mur\, 1023 Crissier\n
LOCATION:ch. des Oches du Mur\, 1023 Crissier
CATEGORIES:Saison 2025/26
END:VEVENT
BEGIN:VEVENT
DTSTAMP:20260424T062156Z
DTSTART;TZID=Europe/Berlin:20251213T140000
DTEND;TZID=Europe/Berlin:20251213T170000
SUMMARY:ME L1 Gr 2\, Tours 1&2 Bulle II vs Yverdon (0)
UID:c7b481c9-6408-4726-ba4f-aa7f599bc797
STATUS:CONFIRMED
LAST-MODIFIED:20251213T181353Z
DESCRIPTION:1ère ligue Hommes Groupe 2\, Tours 1&2\nBegegnungs-Nr: 0\nHeim: Bulle II\nGast: Yverdon\n\nAdresse: Rue du Stade 50\, 1630 Bulle\n
LOCATION:Rue du Stade 50\, 1630 Bulle
CATEGORIES:Saison 2025/26
END:VEVENT
BEGIN:VEVENT
DTSTAMP:20260424T062156Z
DTSTART;TZID=Europe/Berlin:20260423T200000
DTEND;TZID=Europe/Berlin:20260423T230000
SUMMARY:ME L1 Finale Lausanne II vs Yverdon (1)
UID:ce41a168-2130-4e65-85ef-889919be08a6
STATUS:CONFIRMED
LAST-MODIFIED:20260414T175610Z
DESCRIPTION:1ère ligue Hommes\, Finale\nBegegnungs-Nr: 1\nHeim: Lausanne II\nGast: Yverdon\n\nAdresse: Vaudoise Aréna\, Ch. du Viaduc 14\, 1008 Prilly\n
LOCATION:Vaudoise Aréna\, Ch. du Viaduc 14\, 1008 Prilly
CATEGORIES:Saison 2025/26
END:VEVENT
BEGIN:VEVENT
DTSTAMP:20260424T062156Z
DTSTART;TZID=Europe/Berlin:20260122T194500
DTEND;TZID=Europe/Berlin:20260122T224500
SUMMARY:ME L1 Gr 2\, Tours 3&4 Forward-Morges II vs Yverdon (0)
UID:6a3a5d5c-bcf5-44a1-a7f4-81086e8da109
STATUS:CONFIRMED
LAST-MODIFIED:20260124T153540Z
DESCRIPTION:1ère ligue Hommes Groupe 2\, Tours 3&4\nBegegnungs-Nr: 0\nHeim: Forward-Morges II\nGast: Yverdon\n\nAdresse: Chemin de Tolochenaz\, 1110 Morges\n
LOCATION:Chemin de Tolochenaz\, 1110 Morges
CATEGORIES:Saison 2025/26
END:VEVENT
BEGIN:VEVENT
DTSTAMP:20260424T062156Z
DTSTART;TZID=Europe/Berlin:20260203T200000
DTEND;TZID=Europe/Berlin:20260203T230000
SUMMARY:ME L1 Gr 2\, Tours 3&4 Lausanne V vs Yverdon (0)
UID:797f5940-b017-45f8-833f-3750c032aaf0
STATUS:CONFIRMED
LAST-MODIFIED:20260204T175544Z
DESCRIPTION:1ère ligue Hommes Groupe 2\, Tours 3&4\nBegegnungs-Nr: 0\nHeim: Lausanne V\nGast: Yverdon\n\nAdresse: Vaudoise Aréna\, Ch. du Viaduc 14\, 1008 Prilly\n
LOCATION:Vaudoise Aréna\, Ch. du Viaduc 14\, 1008 Prilly
CATEGORIES:Saison 2025/26
END:VEVENT
BEGIN:VEVENT
DTSTAMP:20260424T062156Z
DTSTART;TZID=Europe/Berlin:20260226T200000
DTEND;TZID=Europe/Berlin:20260226T230000
SUMMARY:ME L1 Gr 2\, Tours 3&4 Martigny vs Yverdon (0)
UID:f916907b-3952-4ca3-a010-5f7e8622b1f3
STATUS:CONFIRMED
LAST-MODIFIED:20260227T102038Z
DESCRIPTION:1ère ligue Hommes Groupe 2\, Tours 3&4\nBegegnungs-Nr: 0\nHeim: Martigny\nGast: Yverdon\n\nAdresse: Rue des Ecoles 9\, 1920 Martigny\n
LOCATION:Rue des Ecoles 9\, 1920 Martigny
CATEGORIES:Saison 2025/26
END:VEVENT
BEGIN:VEVENT
DTSTAMP:20260424T062156Z
DTSTART;TZID=Europe/Berlin:20260313T200000
DTEND;TZID=Europe/Berlin:20260313T230000
SUMMARY:ME L1 Gr 2\, Tours 3&4 Rossens II vs Yverdon (0)
UID:4f0b779d-1246-4625-b606-e7b1a4f974eb
STATUS:CONFIRMED
LAST-MODIFIED:20260314T163353Z
DESCRIPTION:1ère ligue Hommes Groupe 2\, Tours 3&4\nBegegnungs-Nr: 0\nHeim: Rossens II\nGast: Yverdon\n\nAdresse: Route du Jordil 14\, 1728 Rossens\n
LOCATION:Route du Jordil 14\, 1728 Rossens
CATEGORIES:Saison 2025/26
END:VEVENT
BEGIN:VEVENT
DTSTAMP:20260424T062156Z
DTSTART;TZID=Europe/Berlin:20260401T200000
DTEND;TZID=Europe/Berlin:20260401T230000
SUMMARY:ME L1 Gr 2\, Tours 3&4 Sierre II vs Yverdon (0)
UID:9df26235-5551-4e72-8f15-4ac0647f1cf8
STATUS:CONFIRMED
LAST-MODIFIED:20260402T080724Z
DESCRIPTION:1ère ligue Hommes Groupe 2\, Tours 3&4\nBegegnungs-Nr: 0\nHeim: Sierre II\nGast: Yverdon\n\nAdresse: Rte des Liddes 6\, 3960 Sierre\n
LOCATION:Rte des Liddes 6\, 3960 Sierre
CATEGORIES:Saison 2025/26
END:VEVENT
END:VCALENDAR
