BEGIN:VCALENDAR
PRODID:-//nuDatenautomaten//framework iCal4j //DE
VERSION:2.0
CALSCALE:GREGORIAN
BEGIN:VTIMEZONE
TZID:Europe/Berlin
LAST-MODIFIED:20260306T231828Z
TZURL:https://www.tzurl.org/zoneinfo/Europe/Berlin
X-LIC-LOCATION:Europe/Berlin
X-PROLEPTIC-TZNAME:LMT
BEGIN:STANDARD
TZNAME:CET
TZOFFSETFROM:+005328
TZOFFSETTO:+0100
DTSTART:18930401T000000
END:STANDARD
BEGIN:DAYLIGHT
TZNAME:CEST
TZOFFSETFROM:+0100
TZOFFSETTO:+0200
DTSTART:19160430T230000
RDATE:19400401T020000
RDATE:19430329T020000
RDATE:19460414T020000
RDATE:19470406T030000
RDATE:19480418T020000
RDATE:19490410T020000
RDATE:19800406T020000
END:DAYLIGHT
BEGIN:STANDARD
TZNAME:CET
TZOFFSETFROM:+0200
TZOFFSETTO:+0100
DTSTART:19161001T010000
RDATE:19421102T030000
RDATE:19431004T030000
RDATE:19441002T030000
RDATE:19451118T030000
RDATE:19461007T030000
END:STANDARD
BEGIN:DAYLIGHT
TZNAME:CEST
TZOFFSETFROM:+0100
TZOFFSETTO:+0200
DTSTART:19170416T020000
RRULE:FREQ=YEARLY;UNTIL=19180415T010000Z;BYMONTH=4;BYDAY=3MO
END:DAYLIGHT
BEGIN:STANDARD
TZNAME:CET
TZOFFSETFROM:+0200
TZOFFSETTO:+0100
DTSTART:19170917T030000
RRULE:FREQ=YEARLY;UNTIL=19180916T010000Z;BYMONTH=9;BYDAY=3MO
END:STANDARD
BEGIN:DAYLIGHT
TZNAME:CEST
TZOFFSETFROM:+0100
TZOFFSETTO:+0200
DTSTART:19440403T020000
RRULE:FREQ=YEARLY;UNTIL=19450402T010000Z;BYMONTH=4;BYDAY=1MO
END:DAYLIGHT
BEGIN:DAYLIGHT
TZNAME:CEMT
TZOFFSETFROM:+0200
TZOFFSETTO:+0300
DTSTART:19450524T020000
RDATE:19470511T030000
END:DAYLIGHT
BEGIN:DAYLIGHT
TZNAME:CEST
TZOFFSETFROM:+0300
TZOFFSETTO:+0200
DTSTART:19450924T030000
RDATE:19470629T030000
END:DAYLIGHT
BEGIN:STANDARD
TZNAME:CET
TZOFFSETFROM:+0100
TZOFFSETTO:+0100
DTSTART:19460101T000000
RDATE:19800101T000000
END:STANDARD
BEGIN:STANDARD
TZNAME:CET
TZOFFSETFROM:+0200
TZOFFSETTO:+0100
DTSTART:19471005T030000
RRULE:FREQ=YEARLY;UNTIL=19491002T010000Z;BYMONTH=10;BYDAY=1SU
END:STANDARD
BEGIN:STANDARD
TZNAME:CET
TZOFFSETFROM:+0200
TZOFFSETTO:+0100
DTSTART:19800928T030000
RRULE:FREQ=YEARLY;UNTIL=19950924T010000Z;BYMONTH=9;BYDAY=-1SU
END:STANDARD
BEGIN:DAYLIGHT
TZNAME:CEST
TZOFFSETFROM:+0100
TZOFFSETTO:+0200
DTSTART:19810329T020000
RRULE:FREQ=YEARLY;BYMONTH=3;BYDAY=-1SU
END:DAYLIGHT
BEGIN:STANDARD
TZNAME:CET
TZOFFSETFROM:+0200
TZOFFSETTO:+0100
DTSTART:19961027T030000
RRULE:FREQ=YEARLY;BYMONTH=10;BYDAY=-1SU
END:STANDARD
END:VTIMEZONE
BEGIN:VEVENT
DTSTAMP:20260424T115232Z
DTSTART;TZID=Europe/Berlin:20251110T194500
DTEND;TZID=Europe/Berlin:20251110T224500
SUMMARY:Ligue 1 Ph.A Versoix II vs UGS-Chênois IV (31)
UID:a2d00412-a6c6-4781-b0e1-d01490d7eb0f
STATUS:CONFIRMED
LAST-MODIFIED:20251111T081736Z
DESCRIPTION:1ère ligue Homme Gr. unique Phase A\nBegegnungs-Nr: 31\nHeim: Versoix II\nGast: UGS-Chênois IV\n
LOCATION:
CATEGORIES:Saison 2025/26
END:VEVENT
BEGIN:VEVENT
DTSTAMP:20260424T115232Z
DTSTART;TZID=Europe/Berlin:20250901T194500
DTEND;TZID=Europe/Berlin:20250901T224500
SUMMARY:Ligue 1 Ph.A Versoix II vs Silver Star II (1)
UID:3868de50-78ed-495e-b08d-13af5e2e0eed
STATUS:CONFIRMED
LAST-MODIFIED:20250902T182145Z
DESCRIPTION:1ère ligue Homme Gr. unique Phase A\nBegegnungs-Nr: 1\nHeim: Versoix II\nGast: Silver Star II\n
LOCATION:
CATEGORIES:Saison 2025/26
END:VEVENT
BEGIN:VEVENT
DTSTAMP:20260424T115232Z
DTSTART;TZID=Europe/Berlin:20251013T194500
DTEND;TZID=Europe/Berlin:20251013T224500
SUMMARY:Ligue 1 Ph.A Versoix II vs ZZ-Lancy III (21)
UID:e0683447-f2a2-47a1-9477-a2062f5492c6
STATUS:CONFIRMED
LAST-MODIFIED:20251014T164841Z
DESCRIPTION:1ère ligue Homme Gr. unique Phase A\nBegegnungs-Nr: 21\nHeim: Versoix II\nGast: ZZ-Lancy III\n
LOCATION:
CATEGORIES:Saison 2025/26
END:VEVENT
BEGIN:VEVENT
DTSTAMP:20260424T115232Z
DTSTART;TZID=Europe/Berlin:20250922T194500
DTEND;TZID=Europe/Berlin:20250922T224500
SUMMARY:Ligue 1 Ph.A Versoix II vs ZZ-Lancy IV (11)
UID:64ede2ce-3294-4a4b-bd7c-a991e89957ec
STATUS:CONFIRMED
LAST-MODIFIED:20250923T071117Z
DESCRIPTION:1ère ligue Homme Gr. unique Phase A\nBegegnungs-Nr: 11\nHeim: Versoix II\nGast: ZZ-Lancy IV\n
LOCATION:
CATEGORIES:Saison 2025/26
END:VEVENT
BEGIN:VEVENT
DTSTAMP:20260424T115232Z
DTSTART;TZID=Europe/Berlin:20251124T194500
DTEND;TZID=Europe/Berlin:20251124T224500
SUMMARY:Ligue 1 Ph.A Versoix II vs Carouge III (41)
UID:aadf58d7-7078-47bc-bded-2e91484c5493
STATUS:CONFIRMED
LAST-MODIFIED:20251125T074841Z
DESCRIPTION:1ère ligue Homme Gr. unique Phase A\nBegegnungs-Nr: 41\nHeim: Versoix II\nGast: Carouge III\n
LOCATION:
CATEGORIES:Saison 2025/26
END:VEVENT
BEGIN:VEVENT
DTSTAMP:20260424T115232Z
DTSTART;TZID=Europe/Berlin:20260323T194500
DTEND;TZID=Europe/Berlin:20260323T224500
SUMMARY:Ligue 1 Ph.B Versoix II vs Bernex II (38)
UID:85d7e8b3-3cd0-4a08-b3d3-69507a7f6bbd
STATUS:CONFIRMED
LAST-MODIFIED:20260324T072336Z
DESCRIPTION:1ère ligue Homme Gr. unique Phase B\nBegegnungs-Nr: 38\nHeim: Versoix II\nGast: Bernex II\n
LOCATION:
CATEGORIES:Saison 2025/26
END:VEVENT
BEGIN:VEVENT
DTSTAMP:20260424T115232Z
DTSTART;TZID=Europe/Berlin:20260316T194500
DTEND;TZID=Europe/Berlin:20260316T224500
SUMMARY:Ligue 1 Ph.B Versoix II vs Mandement II (35)
UID:314998de-6658-463c-83db-8fe9b2c70711
STATUS:CONFIRMED
LAST-MODIFIED:20260317T210336Z
DESCRIPTION:1ère ligue Homme Gr. unique Phase B\nBegegnungs-Nr: 35\nHeim: Versoix II\nGast: Mandement II\n
LOCATION:
CATEGORIES:Saison 2025/26
END:VEVENT
BEGIN:VEVENT
DTSTAMP:20260424T115232Z
DTSTART;TZID=Europe/Berlin:20260309T194500
DTEND;TZID=Europe/Berlin:20260309T224500
SUMMARY:Ligue 1 Ph.B Versoix II vs UGS-Chênois IV (30)
UID:c73ace52-39ad-408f-b9e1-1e32db963548
STATUS:CONFIRMED
LAST-MODIFIED:20260310T081826Z
DESCRIPTION:1ère ligue Homme Gr. unique Phase B\nBegegnungs-Nr: 30\nHeim: Versoix II\nGast: UGS-Chênois IV\n
LOCATION:
CATEGORIES:Saison 2025/26
END:VEVENT
BEGIN:VEVENT
DTSTAMP:20260424T115232Z
DTSTART;TZID=Europe/Berlin:20260119T194500
DTEND;TZID=Europe/Berlin:20260119T224500
SUMMARY:Ligue 1 Ph.B Versoix II vs ZZ-Lancy III (9)
UID:25b8235e-ad71-4707-9ce5-16cad1881de7
STATUS:CONFIRMED
LAST-MODIFIED:20260120T120756Z
DESCRIPTION:1ère ligue Homme Gr. unique Phase B\nBegegnungs-Nr: 9\nHeim: Versoix II\nGast: ZZ-Lancy III\n\nAdresse: Chemin Ami-Argand 40\, 1290 Versoix\n
LOCATION:Chemin Ami-Argand 40\, 1290 Versoix
CATEGORIES:Saison 2025/26
END:VEVENT
BEGIN:VEVENT
DTSTAMP:20260424T115232Z
DTSTART;TZID=Europe/Berlin:20260209T194500
DTEND;TZID=Europe/Berlin:20260209T224500
SUMMARY:Ligue 1 Ph.B Versoix II vs Châtelaine (18)
UID:f05278b6-555e-4e4f-afa9-2961788a1a4b
STATUS:CONFIRMED
LAST-MODIFIED:20260210T081655Z
DESCRIPTION:1ère ligue Homme Gr. unique Phase B\nBegegnungs-Nr: 18\nHeim: Versoix II\nGast: Châtelaine\n
LOCATION:
CATEGORIES:Saison 2025/26
END:VEVENT
BEGIN:VEVENT
DTSTAMP:20260424T115232Z
DTSTART;TZID=Europe/Berlin:20251117T200000
DTEND;TZID=Europe/Berlin:20251117T230000
SUMMARY:Ligue 1 Ph.A Châtelaine vs Versoix II (36)
UID:04f154e6-f41c-4951-bbd0-3c900fc23a15
STATUS:CONFIRMED
LAST-MODIFIED:20251118T080809Z
DESCRIPTION:1ère ligue Homme Gr. unique Phase A\nBegegnungs-Nr: 36\nHeim: Châtelaine\nGast: Versoix II\n
LOCATION:
CATEGORIES:Saison 2025/26
END:VEVENT
BEGIN:VEVENT
DTSTAMP:20260424T115232Z
DTSTART;TZID=Europe/Berlin:20251027T194500
DTEND;TZID=Europe/Berlin:20251027T224500
SUMMARY:Ligue 1 Ph.A Mandement II vs Versoix II (26)
UID:ff57213b-a9a1-425a-adbb-9b3ed5ea55e6
STATUS:CONFIRMED
LAST-MODIFIED:20251028T092408Z
DESCRIPTION:1ère ligue Homme Gr. unique Phase A\nBegegnungs-Nr: 26\nHeim: Mandement II\nGast: Versoix II\n
LOCATION:
CATEGORIES:Saison 2025/26
END:VEVENT
BEGIN:VEVENT
DTSTAMP:20260424T115232Z
DTSTART;TZID=Europe/Berlin:20251006T200000
DTEND;TZID=Europe/Berlin:20251006T230000
SUMMARY:Ligue 1 Ph.A Châtelaine II vs Versoix II (16)
UID:12599107-9937-4f86-b164-1429e24718f1
STATUS:CONFIRMED
LAST-MODIFIED:20251007T160127Z
DESCRIPTION:1ère ligue Homme Gr. unique Phase A\nBegegnungs-Nr: 16\nHeim: Châtelaine II\nGast: Versoix II\n
LOCATION:
CATEGORIES:Saison 2025/26
END:VEVENT
BEGIN:VEVENT
DTSTAMP:20260424T115232Z
DTSTART;TZID=Europe/Berlin:20250915T194500
DTEND;TZID=Europe/Berlin:20250915T224500
SUMMARY:Ligue 1 Ph.A Mandement III vs Versoix II (6)
UID:8a73098b-e8ea-4174-98ab-b35065fd6074
STATUS:CONFIRMED
LAST-MODIFIED:20250916T071320Z
DESCRIPTION:1ère ligue Homme Gr. unique Phase A\nBegegnungs-Nr: 6\nHeim: Mandement III\nGast: Versoix II\n
LOCATION:
CATEGORIES:Saison 2025/26
END:VEVENT
BEGIN:VEVENT
DTSTAMP:20260424T115232Z
DTSTART;TZID=Europe/Berlin:20260216T200000
DTEND;TZID=Europe/Berlin:20260216T230000
SUMMARY:Ligue 1 Ph.B Carouge III vs Versoix II (21)
UID:ed025014-0be9-40a9-b569-54e33af76298
STATUS:CONFIRMED
LAST-MODIFIED:20260217T124127Z
DESCRIPTION:1ère ligue Homme Gr. unique Phase B\nBegegnungs-Nr: 21\nHeim: Carouge III\nGast: Versoix II\n\nAdresse: Route de Veyrier 44\, 1227 Carouge GE\n
LOCATION:Route de Veyrier 44\, 1227 Carouge GE
CATEGORIES:Saison 2025/26
END:VEVENT
BEGIN:VEVENT
DTSTAMP:20260424T115232Z
DTSTART;TZID=Europe/Berlin:20260112T194500
DTEND;TZID=Europe/Berlin:20260112T224500
SUMMARY:Ligue 1 Ph.B Silver Star II vs Versoix II (5)
UID:2cf98201-ed57-4853-b53e-7ab112024720
STATUS:CONFIRMED
LAST-MODIFIED:20260113T081206Z
DESCRIPTION:1ère ligue Homme Gr. unique Phase B\nBegegnungs-Nr: 5\nHeim: Silver Star II\nGast: Versoix II\n
LOCATION:
CATEGORIES:Saison 2025/26
END:VEVENT
BEGIN:VEVENT
DTSTAMP:20260424T115232Z
DTSTART;TZID=Europe/Berlin:20260330T194500
DTEND;TZID=Europe/Berlin:20260330T224500
SUMMARY:Ligue 1 Ph.B Bernex III vs Versoix II (44)
UID:e01fa359-7959-4b6d-bb16-0461aba07b13
STATUS:CONFIRMED
LAST-MODIFIED:20260331T071504Z
DESCRIPTION:1ère ligue Homme Gr. unique Phase B\nBegegnungs-Nr: 44\nHeim: Bernex III\nGast: Versoix II\n
LOCATION:
CATEGORIES:Saison 2025/26
END:VEVENT
BEGIN:VEVENT
DTSTAMP:20260424T115232Z
DTSTART;TZID=Europe/Berlin:20260126T200000
DTEND;TZID=Europe/Berlin:20260126T230000
SUMMARY:Ligue 1 Ph.B ZZ-Lancy IV vs Versoix II (12)
UID:87b575c9-a454-4e32-b120-5fb1ab47aca8
STATUS:CONFIRMED
LAST-MODIFIED:20260126T232717Z
DESCRIPTION:1ère ligue Homme Gr. unique Phase B\nBegegnungs-Nr: 12\nHeim: ZZ-Lancy IV\nGast: Versoix II\n
LOCATION:
CATEGORIES:Saison 2025/26
END:VEVENT
END:VCALENDAR
