BEGIN:VCALENDAR
PRODID:-//nuDatenautomaten//framework iCal4j //DE
VERSION:2.0
CALSCALE:GREGORIAN
BEGIN:VTIMEZONE
TZID:Europe/Berlin
LAST-MODIFIED:20260306T231828Z
TZURL:https://www.tzurl.org/zoneinfo/Europe/Berlin
X-LIC-LOCATION:Europe/Berlin
X-PROLEPTIC-TZNAME:LMT
BEGIN:STANDARD
TZNAME:CET
TZOFFSETFROM:+005328
TZOFFSETTO:+0100
DTSTART:18930401T000000
END:STANDARD
BEGIN:DAYLIGHT
TZNAME:CEST
TZOFFSETFROM:+0100
TZOFFSETTO:+0200
DTSTART:19160430T230000
RDATE:19400401T020000
RDATE:19430329T020000
RDATE:19460414T020000
RDATE:19470406T030000
RDATE:19480418T020000
RDATE:19490410T020000
RDATE:19800406T020000
END:DAYLIGHT
BEGIN:STANDARD
TZNAME:CET
TZOFFSETFROM:+0200
TZOFFSETTO:+0100
DTSTART:19161001T010000
RDATE:19421102T030000
RDATE:19431004T030000
RDATE:19441002T030000
RDATE:19451118T030000
RDATE:19461007T030000
END:STANDARD
BEGIN:DAYLIGHT
TZNAME:CEST
TZOFFSETFROM:+0100
TZOFFSETTO:+0200
DTSTART:19170416T020000
RRULE:FREQ=YEARLY;UNTIL=19180415T010000Z;BYMONTH=4;BYDAY=3MO
END:DAYLIGHT
BEGIN:STANDARD
TZNAME:CET
TZOFFSETFROM:+0200
TZOFFSETTO:+0100
DTSTART:19170917T030000
RRULE:FREQ=YEARLY;UNTIL=19180916T010000Z;BYMONTH=9;BYDAY=3MO
END:STANDARD
BEGIN:DAYLIGHT
TZNAME:CEST
TZOFFSETFROM:+0100
TZOFFSETTO:+0200
DTSTART:19440403T020000
RRULE:FREQ=YEARLY;UNTIL=19450402T010000Z;BYMONTH=4;BYDAY=1MO
END:DAYLIGHT
BEGIN:DAYLIGHT
TZNAME:CEMT
TZOFFSETFROM:+0200
TZOFFSETTO:+0300
DTSTART:19450524T020000
RDATE:19470511T030000
END:DAYLIGHT
BEGIN:DAYLIGHT
TZNAME:CEST
TZOFFSETFROM:+0300
TZOFFSETTO:+0200
DTSTART:19450924T030000
RDATE:19470629T030000
END:DAYLIGHT
BEGIN:STANDARD
TZNAME:CET
TZOFFSETFROM:+0100
TZOFFSETTO:+0100
DTSTART:19460101T000000
RDATE:19800101T000000
END:STANDARD
BEGIN:STANDARD
TZNAME:CET
TZOFFSETFROM:+0200
TZOFFSETTO:+0100
DTSTART:19471005T030000
RRULE:FREQ=YEARLY;UNTIL=19491002T010000Z;BYMONTH=10;BYDAY=1SU
END:STANDARD
BEGIN:STANDARD
TZNAME:CET
TZOFFSETFROM:+0200
TZOFFSETTO:+0100
DTSTART:19800928T030000
RRULE:FREQ=YEARLY;UNTIL=19950924T010000Z;BYMONTH=9;BYDAY=-1SU
END:STANDARD
BEGIN:DAYLIGHT
TZNAME:CEST
TZOFFSETFROM:+0100
TZOFFSETTO:+0200
DTSTART:19810329T020000
RRULE:FREQ=YEARLY;BYMONTH=3;BYDAY=-1SU
END:DAYLIGHT
BEGIN:STANDARD
TZNAME:CET
TZOFFSETFROM:+0200
TZOFFSETTO:+0100
DTSTART:19961027T030000
RRULE:FREQ=YEARLY;BYMONTH=10;BYDAY=-1SU
END:STANDARD
END:VTIMEZONE
BEGIN:VEVENT
DTSTAMP:20260424T114958Z
DTSTART;TZID=Europe/Berlin:20251124T200000
DTEND;TZID=Europe/Berlin:20251124T230000
SUMMARY:O40 3. Liga Gr. 2 Huttwil vs Aarberg II (22)
UID:70134b6d-e09d-4f8a-af02-1354826668ce
STATUS:CONFIRMED
LAST-MODIFIED:20251207T182524Z
DESCRIPTION:3. Liga O40 Gruppe 2\nBegegnungs-Nr: 22\nHeim: Huttwil\nGast: Aarberg II\n\nAdresse: Dornackerweg 2 (untere Halle)\, 4950 Huttwil\n
LOCATION:Dornackerweg 2 (untere Halle)\, 4950 Huttwil
CATEGORIES:Saison 2025/26
END:VEVENT
BEGIN:VEVENT
DTSTAMP:20260424T114958Z
DTSTART;TZID=Europe/Berlin:20251117T200000
DTEND;TZID=Europe/Berlin:20251117T230000
SUMMARY:O40 3. Liga Gr. 2 Huttwil vs Regio Moossee II (18)
UID:1fa821c7-2ba2-41c1-8e2b-c52c43f3b759
STATUS:CONFIRMED
LAST-MODIFIED:20251122T091145Z
DESCRIPTION:3. Liga O40 Gruppe 2\nBegegnungs-Nr: 18\nHeim: Huttwil\nGast: Regio Moossee II\n\nAdresse: Dornackerweg 2 (untere Halle)\, 4950 Huttwil\n
LOCATION:Dornackerweg 2 (untere Halle)\, 4950 Huttwil
CATEGORIES:Saison 2025/26
END:VEVENT
BEGIN:VEVENT
DTSTAMP:20260424T114958Z
DTSTART;TZID=Europe/Berlin:20251013T200000
DTEND;TZID=Europe/Berlin:20251013T230000
SUMMARY:O40 3. Liga Gr. 2 Huttwil vs Lyss (10)
UID:d183fcef-133b-4bfb-8aa7-11e4d63f533b
STATUS:CONFIRMED
LAST-MODIFIED:20251014T112626Z
DESCRIPTION:3. Liga O40 Gruppe 2\nBegegnungs-Nr: 10\nHeim: Huttwil\nGast: Lyss\n\nAdresse: Dornackerweg 2 (untere Halle)\, 4950 Huttwil\n
LOCATION:Dornackerweg 2 (untere Halle)\, 4950 Huttwil
CATEGORIES:Saison 2025/26
END:VEVENT
BEGIN:VEVENT
DTSTAMP:20260424T114958Z
DTSTART;TZID=Europe/Berlin:20250922T200000
DTEND;TZID=Europe/Berlin:20250922T230000
SUMMARY:O40 3. Liga Gr. 2 Huttwil vs Herzogenbuchsee (2)
UID:6cf2ac6d-7fee-4afc-ab9f-7b0d3d6f9b72
STATUS:CONFIRMED
LAST-MODIFIED:20251003T172734Z
DESCRIPTION:3. Liga O40 Gruppe 2\nBegegnungs-Nr: 2\nHeim: Huttwil\nGast: Herzogenbuchsee\n\nAdresse: Dornackerweg 2 (untere Halle)\, 4950 Huttwil\n
LOCATION:Dornackerweg 2 (untere Halle)\, 4950 Huttwil
CATEGORIES:Saison 2025/26
END:VEVENT
BEGIN:VEVENT
DTSTAMP:20260424T114958Z
DTSTART;TZID=Europe/Berlin:20260209T200000
DTEND;TZID=Europe/Berlin:20260209T230000
SUMMARY:O40 3. Liga Gr. 2 Huttwil vs Grauholz (6)
UID:5c3d6b7a-8b6a-4ee0-87a5-e9d5ae08066a
STATUS:CONFIRMED
LAST-MODIFIED:20260217T213755Z
DESCRIPTION:3. Liga O40 Gruppe 2\nBegegnungs-Nr: 6\nHeim: Huttwil\nGast: Grauholz\n\nAdresse: Dornackerweg 2 (untere Halle)\, 4950 Huttwil\n
LOCATION:Dornackerweg 2 (untere Halle)\, 4950 Huttwil
CATEGORIES:Saison 2025/26
END:VEVENT
BEGIN:VEVENT
DTSTAMP:20260424T114958Z
DTSTART;TZID=Europe/Berlin:20260330T200000
DTEND;TZID=Europe/Berlin:20260330T230000
SUMMARY:O40 3. Liga Gr. 2 Huttwil vs Port III (25)
UID:3786131c-ba21-4386-9c4d-4e42db02dad6
STATUS:CONFIRMED
LAST-MODIFIED:20260409T122801Z
DESCRIPTION:3. Liga O40 Gruppe 2\nBegegnungs-Nr: 25\nHeim: Huttwil\nGast: Port III\n\nAdresse: Dornackerweg 2 (untere Halle)\, 4950 Huttwil\n
LOCATION:Dornackerweg 2 (untere Halle)\, 4950 Huttwil
CATEGORIES:Saison 2025/26
END:VEVENT
BEGIN:VEVENT
DTSTAMP:20260424T114958Z
DTSTART;TZID=Europe/Berlin:20260316T200000
DTEND;TZID=Europe/Berlin:20260316T230000
SUMMARY:O40 3. Liga Gr. 2 Huttwil vs Kirchberg (14)
UID:d84f58a9-f810-4606-a075-6fc819fe4949
STATUS:CONFIRMED
LAST-MODIFIED:20260327T144231Z
DESCRIPTION:3. Liga O40 Gruppe 2\nBegegnungs-Nr: 14\nHeim: Huttwil\nGast: Kirchberg\n\nAdresse: Dornackerweg 2 (untere Halle)\, 4950 Huttwil\n
LOCATION:Dornackerweg 2 (untere Halle)\, 4950 Huttwil
CATEGORIES:Saison 2025/26
END:VEVENT
BEGIN:VEVENT
DTSTAMP:20260424T114958Z
DTSTART;TZID=Europe/Berlin:20251209T194500
DTEND;TZID=Europe/Berlin:20251209T224500
SUMMARY:O40 3. Liga Gr. 2 Port III vs Huttwil (25)
UID:2844d681-a93d-4bbe-ae24-91b1601686b2
STATUS:CONFIRMED
LAST-MODIFIED:20251216T121058Z
DESCRIPTION:3. Liga O40 Gruppe 2\nBegegnungs-Nr: 25\nHeim: Port III\nGast: Huttwil\n\nAdresse: Allmendstrasse 23\, 2562 Port\n
LOCATION:Allmendstrasse 23\, 2562 Port
CATEGORIES:Saison 2025/26
END:VEVENT
BEGIN:VEVENT
DTSTAMP:20260424T114958Z
DTSTART;TZID=Europe/Berlin:20251031T200000
DTEND;TZID=Europe/Berlin:20251031T230000
SUMMARY:O40 3. Liga Gr. 2 Kirchberg vs Huttwil (14)
UID:3f902b87-274f-4055-8785-ea52f2871244
STATUS:CONFIRMED
LAST-MODIFIED:20251101T150537Z
DESCRIPTION:3. Liga O40 Gruppe 2\nBegegnungs-Nr: 14\nHeim: Kirchberg\nGast: Huttwil\n\nAdresse: Reinhardweg\, 3422 Kirchberg\n
LOCATION:Reinhardweg\, 3422 Kirchberg
CATEGORIES:Saison 2025/26
END:VEVENT
BEGIN:VEVENT
DTSTAMP:20260424T114958Z
DTSTART;TZID=Europe/Berlin:20250919T200000
DTEND;TZID=Europe/Berlin:20250919T230000
SUMMARY:O40 3. Liga Gr. 2 Grauholz vs Huttwil (6)
UID:53e5a443-1721-4fba-b9c6-1be452ba4ab7
STATUS:CONFIRMED
LAST-MODIFIED:20250921T150211Z
DESCRIPTION:3. Liga O40 Gruppe 2\nBegegnungs-Nr: 6\nHeim: Grauholz\nGast: Huttwil\n\nAdresse: Schulhausweg 8\, 3324 Hindelbank\n
LOCATION:Schulhausweg 8\, 3324 Hindelbank
CATEGORIES:Saison 2025/26
END:VEVENT
BEGIN:VEVENT
DTSTAMP:20260424T114958Z
DTSTART;TZID=Europe/Berlin:20260205T200000
DTEND;TZID=Europe/Berlin:20260205T230000
SUMMARY:O40 3. Liga Gr. 2 Lyss vs Huttwil (10)
UID:9a7c4da8-7e5f-4338-b7c8-97190158db6a
STATUS:CONFIRMED
LAST-MODIFIED:20260217T213724Z
DESCRIPTION:3. Liga O40 Gruppe 2\nBegegnungs-Nr: 10\nHeim: Lyss\nGast: Huttwil\n\nAdresse: Stegmattweg 15-17\, 3250 Lyss\n
LOCATION:Stegmattweg 15-17\, 3250 Lyss
CATEGORIES:Saison 2025/26
END:VEVENT
BEGIN:VEVENT
DTSTAMP:20260424T114958Z
DTSTART;TZID=Europe/Berlin:20260116T201500
DTEND;TZID=Europe/Berlin:20260116T231500
SUMMARY:O40 3. Liga Gr. 2 Herzogenbuchsee vs Huttwil (2)
UID:b71bd39d-a6f7-42b4-bb5f-4e18109a5d5f
STATUS:CONFIRMED
LAST-MODIFIED:20260125T001025Z
DESCRIPTION:3. Liga O40 Gruppe 2\nBegegnungs-Nr: 2\nHeim: Herzogenbuchsee\nGast: Huttwil\n\nAdresse: Ringstrasse 10\, 3360 Herzogenbuchsee\n
LOCATION:Ringstrasse 10\, 3360 Herzogenbuchsee
CATEGORIES:Saison 2025/26
END:VEVENT
BEGIN:VEVENT
DTSTAMP:20260424T114958Z
DTSTART;TZID=Europe/Berlin:20260206T194500
DTEND;TZID=Europe/Berlin:20260206T224500
SUMMARY:O40 3. Liga Gr. 2 Aarberg II vs Huttwil (22)
UID:86d396ea-73f1-42ab-b2ea-2fcb2b5738da
STATUS:CONFIRMED
LAST-MODIFIED:20260217T213733Z
DESCRIPTION:3. Liga O40 Gruppe 2\nBegegnungs-Nr: 22\nHeim: Aarberg II\nGast: Huttwil\n\nAdresse: Nidaustrasse 7\, 3270 Aarberg\n
LOCATION:Nidaustrasse 7\, 3270 Aarberg
CATEGORIES:Saison 2025/26
END:VEVENT
BEGIN:VEVENT
DTSTAMP:20260424T114958Z
DTSTART;TZID=Europe/Berlin:20260324T194500
DTEND;TZID=Europe/Berlin:20260324T224500
SUMMARY:O40 3. Liga Gr. 2 Regio Moossee II vs Huttwil (18)
UID:0f53ed5a-dbad-40cd-8a3b-6a4b65337588
STATUS:CONFIRMED
LAST-MODIFIED:20260409T122731Z
DESCRIPTION:3. Liga O40 Gruppe 2\nBegegnungs-Nr: 18\nHeim: Regio Moossee II\nGast: Huttwil\n\nAdresse: Schulhausstrasse 23-25\, 3302 Moosseedorf\n
LOCATION:Schulhausstrasse 23-25\, 3302 Moosseedorf
CATEGORIES:Saison 2025/26
END:VEVENT
END:VCALENDAR
